BEGIN:VCALENDAR
VERSION:2.0
PRODID:-//Koncert Rzeszów. Zobacz kto zagra w Rzeszowie! - ECPv6.15.20//NONSGML v1.0//EN
CALSCALE:GREGORIAN
METHOD:PUBLISH
X-WR-CALNAME:Koncert Rzeszów. Zobacz kto zagra w Rzeszowie!
X-ORIGINAL-URL:https://koncertywrzeszowie.pl
X-WR-CALDESC:Wydarzenia dla Koncert Rzeszów. Zobacz kto zagra w Rzeszowie!
REFRESH-INTERVAL;VALUE=DURATION:PT1H
X-Robots-Tag:noindex
X-PUBLISHED-TTL:PT1H
BEGIN:VTIMEZONE
TZID:Europe/Warsaw
BEGIN:DAYLIGHT
TZOFFSETFROM:+0100
TZOFFSETTO:+0200
TZNAME:CEST
DTSTART:20210328T010000
END:DAYLIGHT
BEGIN:STANDARD
TZOFFSETFROM:+0200
TZOFFSETTO:+0100
TZNAME:CET
DTSTART:20211031T010000
END:STANDARD
BEGIN:DAYLIGHT
TZOFFSETFROM:+0100
TZOFFSETTO:+0200
TZNAME:CEST
DTSTART:20220327T010000
END:DAYLIGHT
BEGIN:STANDARD
TZOFFSETFROM:+0200
TZOFFSETTO:+0100
TZNAME:CET
DTSTART:20221030T010000
END:STANDARD
BEGIN:DAYLIGHT
TZOFFSETFROM:+0100
TZOFFSETTO:+0200
TZNAME:CEST
DTSTART:20230326T010000
END:DAYLIGHT
BEGIN:STANDARD
TZOFFSETFROM:+0200
TZOFFSETTO:+0100
TZNAME:CET
DTSTART:20231029T010000
END:STANDARD
END:VTIMEZONE
BEGIN:VEVENT
DTSTART;TZID=Europe/Warsaw:20220624T150000
DTEND;TZID=Europe/Warsaw:20220627T234500
DTSTAMP:20260419T193915
CREATED:20220405T131351Z
LAST-MODIFIED:20220405T131509Z
UID:8428-1656082800-1656373500@koncertywrzeszowie.pl
SUMMARY:ZEW się budzi Festiwal 2022
DESCRIPTION:24\, 25\, 26 i 27 czerwca 2022 roku\, w sercu wciąż dzikich Bieszczad\, spotkają się pasjonaci muzyki\, podróży i natury. Połączy nas ZEW\, który obudzi się w ten letni weekend. Tak jak natura budzi się do życia po zimie\, tak nas porwie energia dzikiej muzyki. \nZgodnie z tradycją festiwal ZEW się budzi oficjalnie rozpocznie się koncertem o świcie\, 25 czerwca otwierające gitarowe riffy zabrzmią na scenie razem z pierwszymi promieniami słońca wschodzącymi nad górami. Ale Miasteczko Festiwalowe otwieramy już 24 czerwca i wszystkich serdecznie zapraszamy na przygotowane tego wieczora niespodzianki! \nPomysł na festiwal ZEW się budzi powstał z pasji ludzi tworzących na co dzień markę ZEW for men\, którzy łącząc miłość do natury\, przygody i muzyki\, zorganizowali w 2018 pierwszą edycję wydarzenia w Lesku\, a w 2019 drugą edycję już w Cisnej\, w otoczeniu gór\, lasów i potoków. \nZapraszamy na festiwal ZEW się budzi\, czyli (ponad) trzy dni muzyki i przygody w sercu dzikich Bieszczad. \nMuzyczne gwiazdy na scenie\, energetyczne koncerty\, a oprócz opowieści ze szlaku\, ostre cięcie w barberowozie i inne atrakcje skrojone pod ludzi\, którzy czują zew przygody. \nJedyny festiwal\, który zaczyna się o świcie – otwierające gitarowe riffy zabrzmią na scenie razem z pierwszymi promieniami słońca nad górami. \nZapraszamy na ZEW się budzi Festiwal\, czyli dwa dni muzyki i przygody w sercu dzikich Bieszczad. \nRzuć wszystko i przyjedź do Cisnej. Razem obudzimy zew!
URL:https://koncertywrzeszowie.pl/event/zew-sie-budzi-festiwal-2022/
LOCATION:Cisna\, Cisna\, 38-607\, PL
CATEGORIES:Festiwal
ATTACH;FMTTYPE=image/jpeg:https://koncertywrzeszowie.pl/wp-content/uploads/2022/04/8428_image_184290498_1241114906308156_3335488600987047993_n.jpg
END:VEVENT
END:VCALENDAR