BEGIN:VCALENDAR
VERSION:2.0
PRODID:-//Koncert Rzeszów. Zobacz kto zagra w Rzeszowie! - ECPv6.15.20//NONSGML v1.0//EN
CALSCALE:GREGORIAN
METHOD:PUBLISH
X-WR-CALNAME:Koncert Rzeszów. Zobacz kto zagra w Rzeszowie!
X-ORIGINAL-URL:https://koncertywrzeszowie.pl
X-WR-CALDESC:Wydarzenia dla Koncert Rzeszów. Zobacz kto zagra w Rzeszowie!
REFRESH-INTERVAL;VALUE=DURATION:PT1H
X-Robots-Tag:noindex
X-PUBLISHED-TTL:PT1H
BEGIN:VTIMEZONE
TZID:Europe/Warsaw
BEGIN:DAYLIGHT
TZOFFSETFROM:+0100
TZOFFSETTO:+0200
TZNAME:CEST
DTSTART:20150329T010000
END:DAYLIGHT
BEGIN:STANDARD
TZOFFSETFROM:+0200
TZOFFSETTO:+0100
TZNAME:CET
DTSTART:20151025T010000
END:STANDARD
BEGIN:DAYLIGHT
TZOFFSETFROM:+0100
TZOFFSETTO:+0200
TZNAME:CEST
DTSTART:20160327T010000
END:DAYLIGHT
BEGIN:STANDARD
TZOFFSETFROM:+0200
TZOFFSETTO:+0100
TZNAME:CET
DTSTART:20161030T010000
END:STANDARD
BEGIN:DAYLIGHT
TZOFFSETFROM:+0100
TZOFFSETTO:+0200
TZNAME:CEST
DTSTART:20170326T010000
END:DAYLIGHT
BEGIN:STANDARD
TZOFFSETFROM:+0200
TZOFFSETTO:+0100
TZNAME:CET
DTSTART:20171029T010000
END:STANDARD
END:VTIMEZONE
BEGIN:VEVENT
DTSTART;TZID=Europe/Warsaw:20160518T210000
DTEND;TZID=Europe/Warsaw:20160518T210000
DTSTAMP:20260426T013246
CREATED:20160419T094832Z
LAST-MODIFIED:20160419T094832Z
UID:2994-1463605200-1463605200@koncertywrzeszowie.pl
SUMMARY:Zenon Martyniuk z zespołem AKCENT w klubie Pod Palmą
DESCRIPTION:  \nKulURalia rozpoczynają się dzień wcześniej!\nBeforek kultURaliowy już 18 maja. W klubie POD PALMĄ zagra Zenon Martyniuk z zespołem AKCENT. Wszystkich fanów polskiego disco i nie tylko zapraszamy więc na koncert\, podczas którego usłyszycie takie hity jak: Przez Twe Oczy Zielone\, Przekorny Los czy Życie To Są Chwilę.\nW czasie imprezy: \n\nPIWO BUTELKA: 6 PLN\nPIWO LANE: 5 PLN\nBANIA 0.25ML: 2.5 PLN\nWÓDKA 0.5L: 50 PLN\nNAPOJE/SOKI 0.2L: 4 PLN\nENERGETYK: 7 PLN\nNIEPOWTARZALNE DRINKI! :)\n\nLoża 20 PLN – Rezerwacja lóż pod numerem (17) 872 39 52\, od poniedziałku do piątku między 9.00 a 17.00. Rezerwacja loży ważna jest przez 1 godz od momentu rozpoczęcia się danej imprezy! \n  \nAkcent – „Przez Twe Oczy Zielone”\n \n 
URL:https://koncertywrzeszowie.pl/event/zenon-martyniuk-zespolem-akcent-klubie-palma/
LOCATION:Pod Palmą\, Cicha 4a\, Rzeszów
CATEGORIES:Koncerty
ATTACH;FMTTYPE=image/jpeg:https://koncertywrzeszowie.pl/wp-content/uploads/2016/04/akcent_koncert_w_rzeszowie-pod_palma.jpg
END:VEVENT
END:VCALENDAR