BEGIN:VCALENDAR
VERSION:2.0
PRODID:-//Koncert Rzeszów. Zobacz kto zagra w Rzeszowie! - ECPv6.15.20//NONSGML v1.0//EN
CALSCALE:GREGORIAN
METHOD:PUBLISH
X-WR-CALNAME:Koncert Rzeszów. Zobacz kto zagra w Rzeszowie!
X-ORIGINAL-URL:https://koncertywrzeszowie.pl
X-WR-CALDESC:Wydarzenia dla Koncert Rzeszów. Zobacz kto zagra w Rzeszowie!
REFRESH-INTERVAL;VALUE=DURATION:PT1H
X-Robots-Tag:noindex
X-PUBLISHED-TTL:PT1H
BEGIN:VTIMEZONE
TZID:Europe/Warsaw
BEGIN:DAYLIGHT
TZOFFSETFROM:+0100
TZOFFSETTO:+0200
TZNAME:CEST
DTSTART:20150329T010000
END:DAYLIGHT
BEGIN:STANDARD
TZOFFSETFROM:+0200
TZOFFSETTO:+0100
TZNAME:CET
DTSTART:20151025T010000
END:STANDARD
BEGIN:DAYLIGHT
TZOFFSETFROM:+0100
TZOFFSETTO:+0200
TZNAME:CEST
DTSTART:20160327T010000
END:DAYLIGHT
BEGIN:STANDARD
TZOFFSETFROM:+0200
TZOFFSETTO:+0100
TZNAME:CET
DTSTART:20161030T010000
END:STANDARD
BEGIN:DAYLIGHT
TZOFFSETFROM:+0100
TZOFFSETTO:+0200
TZNAME:CEST
DTSTART:20170326T010000
END:DAYLIGHT
BEGIN:STANDARD
TZOFFSETFROM:+0200
TZOFFSETTO:+0100
TZNAME:CET
DTSTART:20171029T010000
END:STANDARD
END:VTIMEZONE
BEGIN:VEVENT
DTSTART;TZID=Europe/Warsaw:20161014T180000
DTEND;TZID=Europe/Warsaw:20161014T200000
DTSTAMP:20260424T191407
CREATED:20160913T124332Z
LAST-MODIFIED:20160913T124611Z
UID:3172-1476468000-1476475200@koncertywrzeszowie.pl
SUMMARY:Zaczarowany koncert Aloszy Awdiejewa w Hotelu Bristol w Rzeszowie
DESCRIPTION:Zapraszamy na koncert artysty estradowego\, który jednocześnie jest aktorem\, felietonistą\, tłumaczem i… profesorem Uniwersytetu Jagiellońskiego. \nAlosza to człowiek instytucja i człowiek-orkiestra\, a także człowiek kultury i nauki. To Rosjanin z polskim obywatelstwem\, który przybył do Krakowa\, po raz pierwszy w 1967 r. \nMówi o sobie: \nJestem Polakiem z wyboru i dodaje przewrotnie\, że to bardziej komfortowo niż być kimkolwiek z przymusu. \nUrodził się w Stawropolu\, na północnym Kaukazie. Już w dzieciństwie zaczął występować publicznie śpiewając wraz z matką na amatorskich koncertach. Ukończył średnią szkołę muzyczną w Moskwie\, później studiował anglistykę na Uniwersytecie Moskiewskim. W tym czasie występował w kabaretach studenckich\, w teatrze i uprawiał pantomimę. \nNa drugim roku studiów uzyskał stypendium Radia Moskiewskiego i rozpoczął studia na filologii polskiej Uniwersytetu Jagiellońskiego. Tak zaczęła się przygoda z Polską\, która z czasem przemieniła się w drogę życia trwającą do dziś. \n \nAlosza ożenił się z Polką\, a uczelnię ukończył z wyróżnieniem i został asystentem na filologii rosyjskiej UJ. W latach 70-tych trafił do legendarnej Piwnicy Pod Baranami. Początkowo śpiewał tam tylko romanse rosyjskie stopniowo dodając do swoich występów elementy autorskiej satyry. Poszerzył też repertuar muzyczny o piosenki z Odessy i folklor Cyganów i Żydów rosyjskich a także ballady Włodzimierza Wysockiego i Bułata Okudżawy. Stał się samodzielnym artystą estradowym i wykonuje własne recitale z towarzyszeniem małego zespołu.
URL:https://koncertywrzeszowie.pl/event/zaczarowany-koncert-aloszy-awdiejewa-hotelu-bristol-rzeszowie/
LOCATION:Hotel Bristol\, Rynek 20\, Rzeszów\, Polska
CATEGORIES:Koncerty
ATTACH;FMTTYPE=image/jpeg:https://koncertywrzeszowie.pl/wp-content/uploads/2016/09/alosza_awdiejew-koncert_w_rzeszowie.jpg
END:VEVENT
END:VCALENDAR