BEGIN:VCALENDAR
VERSION:2.0
PRODID:-//Koncert Rzeszów. Zobacz kto zagra w Rzeszowie! - ECPv6.15.20//NONSGML v1.0//EN
CALSCALE:GREGORIAN
METHOD:PUBLISH
X-WR-CALNAME:Koncert Rzeszów. Zobacz kto zagra w Rzeszowie!
X-ORIGINAL-URL:https://koncertywrzeszowie.pl
X-WR-CALDESC:Wydarzenia dla Koncert Rzeszów. Zobacz kto zagra w Rzeszowie!
REFRESH-INTERVAL;VALUE=DURATION:PT1H
X-Robots-Tag:noindex
X-PUBLISHED-TTL:PT1H
BEGIN:VTIMEZONE
TZID:Europe/Paris
BEGIN:DAYLIGHT
TZOFFSETFROM:+0100
TZOFFSETTO:+0200
TZNAME:CEST
DTSTART:20220327T010000
END:DAYLIGHT
BEGIN:STANDARD
TZOFFSETFROM:+0200
TZOFFSETTO:+0100
TZNAME:CET
DTSTART:20221030T010000
END:STANDARD
BEGIN:DAYLIGHT
TZOFFSETFROM:+0100
TZOFFSETTO:+0200
TZNAME:CEST
DTSTART:20230326T010000
END:DAYLIGHT
BEGIN:STANDARD
TZOFFSETFROM:+0200
TZOFFSETTO:+0100
TZNAME:CET
DTSTART:20231029T010000
END:STANDARD
BEGIN:DAYLIGHT
TZOFFSETFROM:+0100
TZOFFSETTO:+0200
TZNAME:CEST
DTSTART:20240331T010000
END:DAYLIGHT
BEGIN:STANDARD
TZOFFSETFROM:+0200
TZOFFSETTO:+0100
TZNAME:CET
DTSTART:20241027T010000
END:STANDARD
END:VTIMEZONE
BEGIN:VEVENT
DTSTART;TZID=Europe/Paris:20231111T200000
DTEND;TZID=Europe/Paris:20231111T200000
DTSTAMP:20260424T135346
CREATED:20230720T195642Z
LAST-MODIFIED:20230720T195642Z
UID:10286-1699732800-1699732800@koncertywrzeszowie.pl
SUMMARY:XX Lecie 52 Dębiec | Pub Spółdzielczy Rzeszów| 11.11.2023
DESCRIPTION:RZESZÓW \n20-lecie 52 Dębiec – Pub Spółdzielczy Rzeszów – 11.11.2023 \nRzeszów obchodzimy 20-lecie 52 Dębiec\, dołącz do nas ! \nTo wyjątkowa okazja\, aby świętować razem z nami.\nTego wieczoru usłyszycie na żywo prawdziwy klasyk – album 52 Dębiec PŃ VI – a także najbardziej znane utwory z innych solowych projektów Hansa. Koncert 52 Dębiec to nie tylko muzyka\, ale także spektakularne show z pozytywną energią. To będzie wieczór\, który na długo pozostanie w pamięci każdego fana 52 Dębiec oraz miłośników dobrego klasycznego rapu. Nie przegap okazji\, dołącz do nas i bądź częścią tego wyjątkowego jubileuszu! \nBilety 🎫 https://www.biletomat.pl/bilety/xx-lecie-52-debiec-rzeszow-13405/ \nStandart 40 pln | VIP 80 płn \n⏱ Wejście (Bilety VIP 19:00 Bilety Standard 20:00)\n📍 Pub Spółdzielczy Rzeszów | Aleksandra Fredry 4\, 35-005 Rzeszów\n🗓 11.11.2023 \nSprawdź teledyski \nTo My Polacy  https://youtu.be/XcQdJyo1B-8\nKonfrontacje   https://youtu.be/APrY6L0Z6e0\nPolicyjne         https://youtu.be/sRxj91IvZvk\nPies                 https://youtu.be/1rGQ-01mXTA\nKonfrontacje Live https://youtu.be/KKlJGVkug9c \n– wejście dla osób poniżej 16 roku życia z opiekunem\, który również musi posiadać bilet\,\n– wejście dla osób od 16 roku życia z oświadczeniem opiekuna.
URL:https://koncertywrzeszowie.pl/event/xx-lecie-52-debiec-pub-spoldzielczy-rzeszow-11-11-2023/
CATEGORIES:Pub Spółdzielczy
ATTACH;FMTTYPE=image/jpeg:https://koncertywrzeszowie.pl/wp-content/uploads/2023/07/10286_image_345632576_925632005221595_8139589247154399729_n.jpg
END:VEVENT
END:VCALENDAR