BEGIN:VCALENDAR
VERSION:2.0
PRODID:-//Koncert Rzeszów. Zobacz kto zagra w Rzeszowie! - ECPv6.15.20//NONSGML v1.0//EN
CALSCALE:GREGORIAN
METHOD:PUBLISH
X-WR-CALNAME:Koncert Rzeszów. Zobacz kto zagra w Rzeszowie!
X-ORIGINAL-URL:https://koncertywrzeszowie.pl
X-WR-CALDESC:Wydarzenia dla Koncert Rzeszów. Zobacz kto zagra w Rzeszowie!
REFRESH-INTERVAL;VALUE=DURATION:PT1H
X-Robots-Tag:noindex
X-PUBLISHED-TTL:PT1H
BEGIN:VTIMEZONE
TZID:Europe/Warsaw
BEGIN:DAYLIGHT
TZOFFSETFROM:+0100
TZOFFSETTO:+0200
TZNAME:CEST
DTSTART:20240331T010000
END:DAYLIGHT
BEGIN:STANDARD
TZOFFSETFROM:+0200
TZOFFSETTO:+0100
TZNAME:CET
DTSTART:20241027T010000
END:STANDARD
BEGIN:DAYLIGHT
TZOFFSETFROM:+0100
TZOFFSETTO:+0200
TZNAME:CEST
DTSTART:20250330T010000
END:DAYLIGHT
BEGIN:STANDARD
TZOFFSETFROM:+0200
TZOFFSETTO:+0100
TZNAME:CET
DTSTART:20251026T010000
END:STANDARD
BEGIN:DAYLIGHT
TZOFFSETFROM:+0100
TZOFFSETTO:+0200
TZNAME:CEST
DTSTART:20260329T010000
END:DAYLIGHT
BEGIN:STANDARD
TZOFFSETFROM:+0200
TZOFFSETTO:+0100
TZNAME:CET
DTSTART:20261025T010000
END:STANDARD
END:VTIMEZONE
BEGIN:VEVENT
DTSTART;TZID=Europe/Warsaw:20250328T200000
DTEND;TZID=Europe/Warsaw:20250328T200000
DTSTAMP:20260422T103021
CREATED:20250326T185358Z
LAST-MODIFIED:20250326T185534Z
UID:12459-1743192000-1743192000@koncertywrzeszowie.pl
SUMMARY:Wieczór Burleski w Pubie Spółdzielczym
DESCRIPTION:Chcemy dać wam pierwsze promienie wiosennego słoneczka! Brokat pióra i cekiny tym razem w mniej oczywistej\, undergroundowej oprawie rodem z czasów prohibicji. Przenieście się w ten klimat prosto do Pubu Spółdzielczego na fantastyczny spektakl\, podczas którego zobaczycie niesamowite artystki. \n❤ Lady Fox – rudowłosa piękność\, która zadziwi Was nie raz\, nie dwa\, a aż trzy raz tego wieczoru\,\n❤ Rose de Noir – organizatorka całego zamieszania i prawdziwe dzikie sceniczne zwierzę uwiedzie Państwa swoją charyzmą zaczaruje tańcem!\n❤ Wieczór poprowadzi kolejna niesamowita kobieta czyli Owacja! \nImpreza będzie składała się z trzech części rozdzielonych przerwami\, w czasie których zapraszamy do skosztowania pysznych drinków lub innych płynnych smakołyków\, dostępnych na barze. \nZapraszamy Państwa od godziny 19:00\, start show planowany jest na godzinę 20:00. \nBilety na wieczór burleski w Pubie Spółdzielczym\nBilety VIP: czyli przy samej scenie 120zł (ilość bardzo mocno ograniczona!)\nBilety Standard: 85zł\nZakup biletu mailowo: rosedenoir@vp.pl\nBilety online: kup bilecik \nIlość miejsc ograniczona! Wydarzenie przeznaczone dla widzów dorosłych
URL:https://koncertywrzeszowie.pl/event/wieczor-burleski-w-pubie-spoldzielczym/
LOCATION:Pub Spółdzielczy Rzeszów\, Aleksandra Fredry 4\, Rzeszów\, podkarpackie\, 35-235\, Poland
CATEGORIES:Pub Spółdzielczy
ATTACH;FMTTYPE=image/jpeg:https://koncertywrzeszowie.pl/wp-content/uploads/2025/03/wieczor-burleski-pub-spoldzielczy-2025.jpg
END:VEVENT
END:VCALENDAR