BEGIN:VCALENDAR
VERSION:2.0
PRODID:-//Koncert Rzeszów. Zobacz kto zagra w Rzeszowie! - ECPv6.15.20//NONSGML v1.0//EN
CALSCALE:GREGORIAN
METHOD:PUBLISH
X-WR-CALNAME:Koncert Rzeszów. Zobacz kto zagra w Rzeszowie!
X-ORIGINAL-URL:https://koncertywrzeszowie.pl
X-WR-CALDESC:Wydarzenia dla Koncert Rzeszów. Zobacz kto zagra w Rzeszowie!
REFRESH-INTERVAL;VALUE=DURATION:PT1H
X-Robots-Tag:noindex
X-PUBLISHED-TTL:PT1H
BEGIN:VTIMEZONE
TZID:Europe/Warsaw
BEGIN:DAYLIGHT
TZOFFSETFROM:+0100
TZOFFSETTO:+0200
TZNAME:CEST
DTSTART:20240331T010000
END:DAYLIGHT
BEGIN:STANDARD
TZOFFSETFROM:+0200
TZOFFSETTO:+0100
TZNAME:CET
DTSTART:20241027T010000
END:STANDARD
BEGIN:DAYLIGHT
TZOFFSETFROM:+0100
TZOFFSETTO:+0200
TZNAME:CEST
DTSTART:20250330T010000
END:DAYLIGHT
BEGIN:STANDARD
TZOFFSETFROM:+0200
TZOFFSETTO:+0100
TZNAME:CET
DTSTART:20251026T010000
END:STANDARD
BEGIN:DAYLIGHT
TZOFFSETFROM:+0100
TZOFFSETTO:+0200
TZNAME:CEST
DTSTART:20260329T010000
END:DAYLIGHT
BEGIN:STANDARD
TZOFFSETFROM:+0200
TZOFFSETTO:+0100
TZNAME:CET
DTSTART:20261025T010000
END:STANDARD
END:VTIMEZONE
BEGIN:VEVENT
DTSTART;TZID=Europe/Warsaw:20250427T130000
DTEND;TZID=Europe/Warsaw:20250427T200000
DTSTAMP:20260424T153459
CREATED:20250327T135530Z
LAST-MODIFIED:20250327T162749Z
UID:12511-1745758800-1745784000@koncertywrzeszowie.pl
SUMMARY:Warsztaty muzyczne vol. 3 na Uniwersytecie Muzycznym
DESCRIPTION:Chcesz rozwijać swoją pasję i w przyszłości studiować jazz oraz muzykę rozrywkową? \nWarsztaty skierowane są do wszystkich zainteresowanych pogłębieniem swojej wiedzy o muzyce jazzowej i rozrywkowej\, którzy w przyszłości planują studia muzyczne\, a także do kandydatów na studia na kierunku Jazz i Muzyka Rozrywkowa UR. \nDołącz do wyjątkowych warsztatów muzycznych! \nWarsztaty muzyczne Vol. 3 na Uniwersytecie Rzeszowskim to:\n✅ Zajęcia w małych grupach dla kandydatów\n✅ Indywidualne podejście\n✅ MASTERCLASS z wykładowcami jazzu i muzyki rozrywkowej Wydziału Muzyki UR\n✅ Wykład dla kandydatów\, uczestników oraz studentów \nGość specjalny: Prof. dr hab. Jakub Stankiewicz – wybitny pianista jazzowy i dziekan Wydziału Muzyki Jazzowej\, Akademia Muzyczna im. Karola Lipińskiego we Wrocławiu.\nJego wykład: “Polscy kompozytorzy w Hollywood. Źródła inspiracji jazzowych” pokaże\, jak polska muzyka wpłynęła na światowe standardy jazzowe! \nWarsztaty prowadzone przez wykładowców Jazzu i Muzyki Rozrywkowej Wydziału Muzyki Uniwersytetu Rzeszowskiego\, którzy podzielą się swoim doświadczeniem i wiedzą\, pokazując praktyczne aspekty gry i improwizacji.\nKandydaci na studia dowiedzą się także więcej o egzaminach wstępnych\, wymaganiach oraz przebiegu rekrutacji! \nProgram Warsztatów\n13:00 Rozpoczęcie warsztatów\n13:15 Wykład prof. Stankiewicza\n14:15 Zajęcia w klasach dla kandydatów\n☕ 15:15-18:00 Przerwa\n18:00 Koncert jazzowy w wykonaniu wykładowców – Stankiewicz/Ziółek/Frankiewicz \nKiedy? 27 kwietnia 2025\nGdzie? Wydział Muzyki\, Rzeszów\nZapisz się! ➡️ dziolek@ur.edu.pl \nNie przegap okazji na muzyczne doświadczenie i inspirację! To świetna okazja\, by sprawdzić\, jak wyglądają studia na tym kierunku i lepiej przygotować się do egzaminów!
URL:https://koncertywrzeszowie.pl/event/warsztaty-muzyczne-vol-3-na-uniwersytecie-muzycznym/
LOCATION:Wydział Muzyki UR\, Dąbrowskiego 83\, Rzeszów\, 35-040\, Poland
CATEGORIES:Wydział Muzyki UR
ATTACH;FMTTYPE=image/jpeg:https://koncertywrzeszowie.pl/wp-content/uploads/2025/03/warsztaty-muzyczne-20250427.jpg
END:VEVENT
END:VCALENDAR