BEGIN:VCALENDAR
VERSION:2.0
PRODID:-//Koncert Rzeszów. Zobacz kto zagra w Rzeszowie! - ECPv6.15.20//NONSGML v1.0//EN
CALSCALE:GREGORIAN
METHOD:PUBLISH
X-WR-CALNAME:Koncert Rzeszów. Zobacz kto zagra w Rzeszowie!
X-ORIGINAL-URL:https://koncertywrzeszowie.pl
X-WR-CALDESC:Wydarzenia dla Koncert Rzeszów. Zobacz kto zagra w Rzeszowie!
REFRESH-INTERVAL;VALUE=DURATION:PT1H
X-Robots-Tag:noindex
X-PUBLISHED-TTL:PT1H
BEGIN:VTIMEZONE
TZID:Europe/Warsaw
BEGIN:DAYLIGHT
TZOFFSETFROM:+0100
TZOFFSETTO:+0200
TZNAME:CEST
DTSTART:20250330T010000
END:DAYLIGHT
BEGIN:STANDARD
TZOFFSETFROM:+0200
TZOFFSETTO:+0100
TZNAME:CET
DTSTART:20251026T010000
END:STANDARD
BEGIN:DAYLIGHT
TZOFFSETFROM:+0100
TZOFFSETTO:+0200
TZNAME:CEST
DTSTART:20260329T010000
END:DAYLIGHT
BEGIN:STANDARD
TZOFFSETFROM:+0200
TZOFFSETTO:+0100
TZNAME:CET
DTSTART:20261025T010000
END:STANDARD
BEGIN:DAYLIGHT
TZOFFSETFROM:+0100
TZOFFSETTO:+0200
TZNAME:CEST
DTSTART:20270328T010000
END:DAYLIGHT
BEGIN:STANDARD
TZOFFSETFROM:+0200
TZOFFSETTO:+0100
TZNAME:CET
DTSTART:20271031T010000
END:STANDARD
END:VTIMEZONE
BEGIN:VEVENT
DTSTART;TZID=Europe/Warsaw:20260514T203000
DTEND;TZID=Europe/Warsaw:20260514T203000
DTSTAMP:20260421T143900
CREATED:20260414T191728Z
LAST-MODIFIED:20260414T191728Z
UID:13411-1778790600-1778790600@koncertywrzeszowie.pl
SUMMARY:Ventolin | Koncert w Rzeszowskich Piwnicach
DESCRIPTION:Ventolin to projekt muzyki elektronicznej czeskiego artysty Davida Doubka. Najważniejsze w jego działalności są koncerty na żywo – energiczne i grane bez użycia komputera\, tylko na syntezatorach i sekwencerach. Jego muzyka łączy disco\, techno\, acid\, pop i punk. \nProjekt powstał w 2007 roku jako jednorazowy występ\, ale szybko stał się głównym zajęciem artysty. W 2012 roku wydał album „Totem”\, a w 2017 roku „b”\, który przyniósł mu dużą popularność. \nZ tego albumu pochodzi utwór „Disco Science”\, który zdobył ponad 2\,5 miliona wyświetleń na YouTube. Płyta była bardziej piosenkowa i bardzo dobrze przyjęta przez publiczność. \nPo tym czasie Ventolin nagrał album „Dneska se vyčasilo” (2021)\, który jest bardziej osobisty i spokojniejszy. \nPo powrocie na scenę jego koncerty stały się jeszcze bardziej energetyczne. \nW 2025 roku ukazał się jego najnowszy album „Všechno nejlepší”. \n  \nOtwarcie bramek: 20:00 \nBilety: \nI pula – 30 zł\nII pula – 40 zł\nw dniu koncertu – 50 zł\nInformacje organizacyjne: koncert w formule stojącej \nDostępność: przestrzeń dostępna architektonicznie\, winda po lewej stronie drzwi wejściowych\, toaleta przystosowana do potrzeb osób z niepełnosprawnościami\nZniżka: Rzeszowska Karta Mieszkańca – 10% (stacjonarnie)\nKUP BILET
URL:https://koncertywrzeszowie.pl/event/ventolin-koncert-w-rzeszowskich-piwnicach/
LOCATION:Rzeszowskie Piwnice\, Rynek 26\, Rzeszów\, 35-062\, PL
CATEGORIES:Rzeszowskie Piwnice
ATTACH;FMTTYPE=image/jpeg:https://koncertywrzeszowie.pl/wp-content/uploads/2026/04/ventolin-rzeszowskie-piwnice.jpg
END:VEVENT
END:VCALENDAR