BEGIN:VCALENDAR
VERSION:2.0
PRODID:-//Koncert Rzeszów. Zobacz kto zagra w Rzeszowie! - ECPv6.15.20//NONSGML v1.0//EN
CALSCALE:GREGORIAN
METHOD:PUBLISH
X-WR-CALNAME:Koncert Rzeszów. Zobacz kto zagra w Rzeszowie!
X-ORIGINAL-URL:https://koncertywrzeszowie.pl
X-WR-CALDESC:Wydarzenia dla Koncert Rzeszów. Zobacz kto zagra w Rzeszowie!
REFRESH-INTERVAL;VALUE=DURATION:PT1H
X-Robots-Tag:noindex
X-PUBLISHED-TTL:PT1H
BEGIN:VTIMEZONE
TZID:Europe/Warsaw
BEGIN:DAYLIGHT
TZOFFSETFROM:+0100
TZOFFSETTO:+0200
TZNAME:CEST
DTSTART:20180325T010000
END:DAYLIGHT
BEGIN:STANDARD
TZOFFSETFROM:+0200
TZOFFSETTO:+0100
TZNAME:CET
DTSTART:20181028T010000
END:STANDARD
BEGIN:DAYLIGHT
TZOFFSETFROM:+0100
TZOFFSETTO:+0200
TZNAME:CEST
DTSTART:20190331T010000
END:DAYLIGHT
BEGIN:STANDARD
TZOFFSETFROM:+0200
TZOFFSETTO:+0100
TZNAME:CET
DTSTART:20191027T010000
END:STANDARD
BEGIN:DAYLIGHT
TZOFFSETFROM:+0100
TZOFFSETTO:+0200
TZNAME:CEST
DTSTART:20200329T010000
END:DAYLIGHT
BEGIN:STANDARD
TZOFFSETFROM:+0200
TZOFFSETTO:+0100
TZNAME:CET
DTSTART:20201025T010000
END:STANDARD
END:VTIMEZONE
BEGIN:VEVENT
DTSTART;TZID=Europe/Warsaw:20190412T100000
DTEND;TZID=Europe/Warsaw:20190413T170000
DTSTAMP:20260419T154813
CREATED:20190220T164959Z
LAST-MODIFIED:20190220T165045Z
UID:6100-1555063200-1555174800@koncertywrzeszowie.pl
SUMMARY:Trwają zgłoszenia do Festiwalu „Piosenka w Meloniku”
DESCRIPTION:Trwają zgłoszenia do Festiwalu „Piosenka w Meloniku”. W Jury: Robert Janowski\, Natasza Urbański i Olga Boczar\nRzeszowski Dom Kultury zaprasza wokalistów z całej Polski do udziału  w 9. Ogólnopolskim Festiwalu Piosenki Aktorskiej\, Filmowej i Musicalowej „Piosenka w Meloniku”. \nJury w składzie: Robert Janowski\, Natasza Urbańska i Olga Boczar oceni wykonawców w trzech kategoriach wiekowych: 13 – 15 lat\, 16 – 18 lat oraz 19 i więcej lat\, a zdobywca Grand Prix otrzyma nagrodę pieniężną w wysokości 3 000 zł. Zgłoszenia przyjmowane są do dnia 7 marca 2019 roku. \nPiosenka w Meloniku\n„Piosenka w Meloniku” to jedyny w Polsce festiwal piosenki poświęcony w całości tematyce aktorskiej\, filmowej i musicalowej. W ciągu ośmiu lat istnienia Festiwalu\, wystąpiło na nim blisko sześciuset wokalistów z ponad stu polskich miast. Ich sceniczne prezentacje były oceniane przez znanych i cenionych artystów z całej Polski\, takich jak Katarzyna Groniec\, Renata Przemyk\, Robert Janowski\, Olga Bończyk\, Dariusz Kordek\, Magdalena Steczkowska\, Robert Rozmus\, Mieczysław Szcześniak\, Łukasz Zagrobelny czy Michał Szpak. \nPodczas tegorocznej edycji Festiwalu uczestników oceniać będą: \n\nRobert Janowski – piosenkarz\, aktor filmowy\, teatralny i musicalowy\, prezenter telewizyjny\,\nNatasza Urbańska – piosenkarka\, tancerka\, aktorka filmowa\, telewizyjna i teatralno-musicalowa\, gimnastyczka artystyczna oraz prezenterka telewizyjna\,\nOlga Boczar – wokalistka\, flecistka\, songwriterka\, pedagog oraz doktor wokalistyki.\n\nFinał 9. Ogólnopolskiego Festiwalu Piosenki Aktorskiej\, Filmowej i Musicalowej „Piosenka w Meloniku” odbędzie się w dniach 12 – 13 kwietnia 2019 roku w Wydziale Muzyki Uniwersytetu Rzeszowskiego. W dniu 12 kwietnia przeprowadzony zostanie Konkurs Wokalny z udziałem zakwalifikowanych finalistów z całej Polski\, natomiast 13 kwietnia odbędzie się Koncert Galowy prowadzony przez Roberta Janowskiego\, podczas którego wystąpią nagrodzeni laureaci oraz Natasza Urbańska z zespołem. \nRegulamin\, karta zgłoszenia oraz szczegółowe informacje dotyczące zgłoszeń do Konkursu Wokalnego znajdują się na stronie internetowej Rzeszowskiego Domu Kultury – www.rdk.rzeszow.pl. \nBilety na Koncert Galowy w cenie 50 zł będą dostępne do nabycia od dnia 11 marca bieżącego roku: stacjonarnie w siedzibie Rzeszowskiego Domu Kultury przy ul. Staromiejskiej 43a w Rzeszowie oraz internetowo na stronach www.rdk.rzeszow.pl oraz biletyna.pl. \nTegoroczny Festiwal odbywa się pod Honorowym Patronatem Prezydenta Miasta Rzeszowa\, Marszałka Województwa Podkarpackiego oraz Wojewody Podkarpackiego.\nRealizację wydarzenia wspierają: Partner – Wydział Muzyki Uniwersytetu Rzeszowskiego\, Partner Logistyczny – CAR-RENTAL.PL oraz Sponsorzy Główni – Kino Helios\, Maxi Pizza i Globalgift.pl.
URL:https://koncertywrzeszowie.pl/event/trwaja-zgloszenia-do-festiwalu-piosenka-w-meloniku/
LOCATION:Instytut Muzyki URz\, Dąbrowskiego 83\, Rzeszów
CATEGORIES:Festiwal
ATTACH;FMTTYPE=image/jpeg:https://koncertywrzeszowie.pl/wp-content/uploads/2019/02/Piosenka-w-Meloniku2019.jpg
END:VEVENT
END:VCALENDAR