BEGIN:VCALENDAR
VERSION:2.0
PRODID:-//Koncert Rzeszów. Zobacz kto zagra w Rzeszowie! - ECPv6.15.20//NONSGML v1.0//EN
CALSCALE:GREGORIAN
METHOD:PUBLISH
X-WR-CALNAME:Koncert Rzeszów. Zobacz kto zagra w Rzeszowie!
X-ORIGINAL-URL:https://koncertywrzeszowie.pl
X-WR-CALDESC:Wydarzenia dla Koncert Rzeszów. Zobacz kto zagra w Rzeszowie!
REFRESH-INTERVAL;VALUE=DURATION:PT1H
X-Robots-Tag:noindex
X-PUBLISHED-TTL:PT1H
BEGIN:VTIMEZONE
TZID:Europe/Warsaw
BEGIN:DAYLIGHT
TZOFFSETFROM:+0100
TZOFFSETTO:+0200
TZNAME:CEST
DTSTART:20150329T010000
END:DAYLIGHT
BEGIN:STANDARD
TZOFFSETFROM:+0200
TZOFFSETTO:+0100
TZNAME:CET
DTSTART:20151025T010000
END:STANDARD
BEGIN:DAYLIGHT
TZOFFSETFROM:+0100
TZOFFSETTO:+0200
TZNAME:CEST
DTSTART:20160327T010000
END:DAYLIGHT
BEGIN:STANDARD
TZOFFSETFROM:+0200
TZOFFSETTO:+0100
TZNAME:CET
DTSTART:20161030T010000
END:STANDARD
BEGIN:DAYLIGHT
TZOFFSETFROM:+0100
TZOFFSETTO:+0200
TZNAME:CEST
DTSTART:20170326T010000
END:DAYLIGHT
BEGIN:STANDARD
TZOFFSETFROM:+0200
TZOFFSETTO:+0100
TZNAME:CET
DTSTART:20171029T010000
END:STANDARD
END:VTIMEZONE
BEGIN:VEVENT
DTSTART;TZID=Europe/Warsaw:20160618T200000
DTEND;TZID=Europe/Warsaw:20160618T200000
DTSTAMP:20260424T105028
CREATED:20160617T145706Z
LAST-MODIFIED:20160617T145744Z
UID:3091-1466280000-1466280000@koncertywrzeszowie.pl
SUMMARY:Taraban - koncert w klubie Vinyl
DESCRIPTION:Już w sobotę\, 18 czerwca w klubie VINYL koncert zespołu TARABAN. Supportować ich będzie zespół Simple Pleasures.\n \nTaraban to hard-rockowy band z Krakowa grający na styku mnogich inspiracji z lat 60/70. Organiczne\, lampowe brzmienie\, duże bębny\, bluesowe ballady i protometalowe\, gitarowe ilustracje do wojny w Wietnamie. Napalm pachnie jak zwycięstwo\, Taraban tak brzmi. \nFB: https://www.facebook.com/listentoTARABAN/\nBC: https://taraban.bandcamp.com/ \nSimple Pleasures to zespół założony w 2015 r. w Krakowie przez trzech przyjaciół\, których połączyła miłość do muzyki\, alkoholu i dobrej zabawy. Sami o sobie mówią\, że ich muzyka jest połączeniem rocka i bluesa z punkową energią i dekadentyzmem. Zespół Simple Pleasures to Igor Łucykow\, Marcin Piech i Kuba Jaworski – nieznani i nielubiani przez nikogo! \nTARABAN – „Death from Above”\n \n  \nWydarzenie na FB -> https://www.facebook.com/events/1015260791876645/ \nBilety: W dniu koncertu\, w klubie – 15 pln
URL:https://koncertywrzeszowie.pl/event/traban/
LOCATION:Klub Vinyl\, ul. Piłsudskiego 31\, Rzeszów
CATEGORIES:Koncerty
ATTACH;FMTTYPE=image/jpeg:https://koncertywrzeszowie.pl/wp-content/uploads/2016/06/TARABAN_koncert-w-rzeszowie-klub_vinyl.jpg
END:VEVENT
END:VCALENDAR