BEGIN:VCALENDAR
VERSION:2.0
PRODID:-//Koncert Rzeszów. Zobacz kto zagra w Rzeszowie! - ECPv6.15.20//NONSGML v1.0//EN
CALSCALE:GREGORIAN
METHOD:PUBLISH
X-WR-CALNAME:Koncert Rzeszów. Zobacz kto zagra w Rzeszowie!
X-ORIGINAL-URL:https://koncertywrzeszowie.pl
X-WR-CALDESC:Wydarzenia dla Koncert Rzeszów. Zobacz kto zagra w Rzeszowie!
REFRESH-INTERVAL;VALUE=DURATION:PT1H
X-Robots-Tag:noindex
X-PUBLISHED-TTL:PT1H
BEGIN:VTIMEZONE
TZID:Europe/Warsaw
BEGIN:DAYLIGHT
TZOFFSETFROM:+0100
TZOFFSETTO:+0200
TZNAME:CEST
DTSTART:20140330T010000
END:DAYLIGHT
BEGIN:STANDARD
TZOFFSETFROM:+0200
TZOFFSETTO:+0100
TZNAME:CET
DTSTART:20141026T010000
END:STANDARD
BEGIN:DAYLIGHT
TZOFFSETFROM:+0100
TZOFFSETTO:+0200
TZNAME:CEST
DTSTART:20150329T010000
END:DAYLIGHT
BEGIN:STANDARD
TZOFFSETFROM:+0200
TZOFFSETTO:+0100
TZNAME:CET
DTSTART:20151025T010000
END:STANDARD
BEGIN:DAYLIGHT
TZOFFSETFROM:+0100
TZOFFSETTO:+0200
TZNAME:CEST
DTSTART:20160327T010000
END:DAYLIGHT
BEGIN:STANDARD
TZOFFSETFROM:+0200
TZOFFSETTO:+0100
TZNAME:CET
DTSTART:20161030T010000
END:STANDARD
END:VTIMEZONE
BEGIN:VEVENT
DTSTART;TZID=Europe/Warsaw:20150731T190000
DTEND;TZID=Europe/Warsaw:20150731T190000
DTSTAMP:20260426T035835
CREATED:20150731T095657Z
LAST-MODIFIED:20150731T100924Z
UID:2470-1438369200-1438369200@koncertywrzeszowie.pl
SUMMARY:Tomasz Stężalski live w pubie Kultura
DESCRIPTION:Serdecznie zapraszamy na koncert Tomasza Stężalskiego\, który odbędzie się 31.07.2015 o godz. 19:00 w Pub Kultura. Wstęp na koncert jest darmowy. \nTomek na żywo brzmi tak :) ale zamiast klikać w youtuby lepiej przyjść i posłuchać na żywo! \n  \n  \nTomek Stężalski Quartet – „I Wish”
URL:https://koncertywrzeszowie.pl/event/tomasz-stezalski-live-w-pubie-kultura/
CATEGORIES:Koncerty
ATTACH;FMTTYPE=image/jpeg:https://koncertywrzeszowie.pl/wp-content/uploads/2015/07/tomek_stezalski-koncert-pub_kultura.jpg
END:VEVENT
END:VCALENDAR