BEGIN:VCALENDAR
VERSION:2.0
PRODID:-//Koncert Rzeszów. Zobacz kto zagra w Rzeszowie! - ECPv6.15.20//NONSGML v1.0//EN
CALSCALE:GREGORIAN
METHOD:PUBLISH
X-WR-CALNAME:Koncert Rzeszów. Zobacz kto zagra w Rzeszowie!
X-ORIGINAL-URL:https://koncertywrzeszowie.pl
X-WR-CALDESC:Wydarzenia dla Koncert Rzeszów. Zobacz kto zagra w Rzeszowie!
REFRESH-INTERVAL;VALUE=DURATION:PT1H
X-Robots-Tag:noindex
X-PUBLISHED-TTL:PT1H
BEGIN:VTIMEZONE
TZID:Europe/Helsinki
BEGIN:DAYLIGHT
TZOFFSETFROM:+0200
TZOFFSETTO:+0300
TZNAME:EEST
DTSTART:20220327T010000
END:DAYLIGHT
BEGIN:STANDARD
TZOFFSETFROM:+0300
TZOFFSETTO:+0200
TZNAME:EET
DTSTART:20221030T010000
END:STANDARD
BEGIN:DAYLIGHT
TZOFFSETFROM:+0200
TZOFFSETTO:+0300
TZNAME:EEST
DTSTART:20230326T010000
END:DAYLIGHT
BEGIN:STANDARD
TZOFFSETFROM:+0300
TZOFFSETTO:+0200
TZNAME:EET
DTSTART:20231029T010000
END:STANDARD
BEGIN:DAYLIGHT
TZOFFSETFROM:+0200
TZOFFSETTO:+0300
TZNAME:EEST
DTSTART:20240331T010000
END:DAYLIGHT
BEGIN:STANDARD
TZOFFSETFROM:+0300
TZOFFSETTO:+0200
TZNAME:EET
DTSTART:20241027T010000
END:STANDARD
END:VTIMEZONE
BEGIN:VEVENT
DTSTART;TZID=Europe/Helsinki:20231006T190000
DTEND;TZID=Europe/Helsinki:20231006T190000
DTSTAMP:20260424T185023
CREATED:20230720T193755Z
LAST-MODIFIED:20230720T193755Z
UID:10209-1696618800-1696618800@koncertywrzeszowie.pl
SUMMARY:The Bill / Sexbomba / Rzeszów - Underground Pub
DESCRIPTION:Wspólne koncerty zespołów SEXBOMBA i THE BILL mają już swoją tradycję. Z tym większą przyjemnością zapraszamy na kolejna odsłonę trasy PUNK ROCK CIRCUS 2023! Bilety w przedsprzedaży 55 zł\, w dniu koncertu 65 zł. Będziemy sukcesywnie informować Was o kolejnych wydarzeniach\, których kilka będzie mieć miejsce jesienią. Szczegóły wkrótce.\nDo zobaczenia na koncertach! \nSEXBOMBA\nW sytuacji\, gdy swą amunicję wystrzelały Pistolety Sexu\, gdy swój magiczny wymiar zaczynało tracić hasło Sex\, Love and Rock and Roll\, poczuliśmy\, iż jest to najwłaściwszy moment żeby zdetonować ładunek o nazwie SEXBOMBA!\nI skumulować jego energię w wąska wiązkę rock and rollowego ognia……\nZespół SEXBOMBA gra nieprzerwanie\, od 1986r. Powstał w Legionowie z fascynacji\nmelodyjnym punk rockiem i rockandrollem. Debiutował na Festiwalu jarocińskim w 1986r. Muzyka SEXBOMBY to kombinacja punk rocka i rockandrolla. Do tej pory SEXBOMBA nagrała: „To Niemożliwe”1990\, „Alkohol”1992\, „Zamachy Bombowe” 1993\, „Boom” 1993\, „Viva” 1996\, „Hallo\, To Ja”1999\, „Woda.Woda.Woda.” 2000\, „Historia jakiej Nie Znał Świat” 2001\, „Newyorksyty” 2005\, „Lekcja Historii” 2006\, 3 płytowy box „SEXXBOMBA na XX lecie” 2007\, reedycję „Vivy” z koncertem DVD z „Przystanku Woodstock” 2009\, „Ctrl+Alt+Delete” 2011\, reedycję „Zamachy Bombowe/Boom” 2012 \, album „Abstrahuj” z listopada 2013 r. W marcu 2016 r. ukazał się kolejny album zespołu zatytułowany „Spam”. Sexbomba wystąpiła dotąd m. in. na Festiwalach w Jarocinie\, Przystanku Woodstock\, węgierskim AORA festiwalu\, Mazowieckim Festiwalu Rockowym i wielu\, wielu innych koncertach. SEXBOMBA posiada najdłużej działającą stronę internetowa polskiego wykonawcy. Strona zespołu SEXBOMBA powstała jako pierwsza w 1997 roku. Zespół SEXBOMBA występował na jednej scenie m. in. z Buzzcocks\, G.B.H\, Vibrators\, 999\, Bones\, Generators\, UK Subs\, Anti Nowhere League\, Toy Dolls\, PTTB. W utworze Sexbomby „Raz przeżyty dzień” z albumu „CTRL+ALT+DELETE” oprócz Roberta Szymańskiego zaśpiewali gościnnie: Siczka (KSU)\, Harcerz (ANALOGS)\, Zygzak (TZN XENNA)\, Cichy (FORT BS)\, Iglak (BULBULATORS)\, Jaromir (WC) oraz Marek Wiernik – pierwszy propagator muzyki punk rockowej na antenie polskiego radia. Do utworu we wspomnianym składzie również powstał teledysk. Jest to największa tego typu produkcja w historii polskiego punk rocka. Kolejne lata to kolejne występy m.in. na Przystanku Woodstock w latach 2015\, 2016 i 2017 oraz rocznicowa składanka zatytułowana „SEXXXBOMBA” wydana z okazji XXXlecia istnienia zespołu. Z tej okazji odbył się również rocznicowy koncert w warszawskim klubie Stodoła z udziałem zespołów: Armia\, Moskwa\, Prawda\, KSU\, The Bill\, Cela Nr 3\, Pull The Wire\, który poprowadził Marek Wiernik Skład zespołu: Robert Szymański śpiew\, Maciek Gortatewicz – gitara\, Piotr Welcel – bass\, Hubert Traczyk – perkusja. W roku 2021 przypadła XXXV rocznica powstania zespołu. Z tej okazji zespół odbył jubileuszową trasę wraz z równolatkiem\, zespołem Farben Lehre. Oba zespoły wydały również wspólną płytę- split\, na której oprócz premierowych utworów grupy „wymieniły” się utworami – zespół Farben Lehre nagrał utwór Sexbomby „Betonowe to”\, a Sexbomba „Handel” z repertuaru Farben Lehre. W roku 2021 ukazała się winylowa płyta zespołu Sexbomba w USA oraz jubileuszowe\, dwupłytowe wydawnictwo w Polsce. Na jednej z płyt opublikowano absolutnie pierwszy koncert zespołu Sexbomba zarejestrowany w Jarocinie w 1986 roku\, a druga to zbiór utworów z różnych płyt Sexbomby. Aktualnie zespól koncertuje i przygotowuje materiał na kolejną\, premierową płytę.\nWybrane Teledyski zespołu SEXBOMBA:\nWoda Woda Woda\n\nHallo\, to ja\n\nDzisiaj jeszcze nie\nhttps://www.youtube.com/watch?v=8rcd5tFH-8w…\nMały Promil\n\nPodziemna Polska\n\nNikt Inny\n\nJest źle (kocham Cię debilu)\n\nRzuć monetą\n\nTHE BILL\nThe Bill powstał w 1986r w Pionkach z inicjatywy Kefira i Skóry. Pierwsze lata działalności\, to głównie próby\, koncerty na lokalnych scenach i…częste zmiany składu. Ostateczny skład zespołu z tego okresu\, to : Skóra\, Kefir\, Soko\, Mielony. W 1990 The Bill’a opuszcza Skóra\, a na wokalu jego miejsce zajmuje Soko.\nZespół w składzie trzyosobowym zostaje zaproszony do Jarocina ’92 i zdobywa tam nagrodę publiczności. Fakt ten\, rozpoczyna kolejny etap działalności. Pojawia się pierwsza płyta „The Biut”. Jej sprzedaż zaskakuje wszystkich. W ciągu kilku tygodni\, sprzedaje się około 60000 egzemplarzy. Zespół koncertuje\, zalicza kolejne festiwale jarocińskie\, jednocześnie przygotowując kolejne płyty. Pojawiają się: „Początek Końca” i „Sex and Roll”. Latem 1996 roku The Bill nagrywa czwartą płytę „Daję Wam Ogień” i… zawiesza działalność na 8 lat. W 2004 roku The Bill wraca na scenę i okazuje się\, że o nim nie zapomniano. Miejsce Soka\, grającego na basie zajmuje Maciek. Wokalistą zespołu zostaje Kefir\, który gra również na gitarze. Za perkusją\, bez zmian zasiada Mielony. W 2007 roku ukazuje się piąta płyta „Niech Tańczą Aniołowie”. A zaraz po niej zespół wydaje archiwalny materiał z lat 1988-1990 zatytułowany „Lekcja Historii”.\nRok 2009 rozpoczyna się dla The Bill’a udziałem w wielkiej trasie koncertowej „Punky Reggae Live”. Tu zespół poznaje Sebka\, gitarzystę zespołu Strajk. Pada propozycja wspólnego grania i od tej pory The Bill to kwartet. W tym składzie nagrał materiał na siódmą płytę. „Historie Prawdziwe”\, która pojawiła się w 2009 roku. Jednocześnie firma Lou Rocket Boys wydaje materiał archiwalny z lat 86-90. Płyta nosi tytuł „Lekcja Historii”. Kolejne lata to ciągłe koncerty w salach klubowych i na festiwalach. W 2013 roku The Bill wydaję płytę „8siem” oraz okazjonalny album „the Best”\, wydany przez MTJ. Rok później pojawia na dużej scenie festiwalu Woodstock 2014. Zapis tego koncertu ukazuje się na płycie CD. Lata 2016-22 to liczne koncerty w klubach oraz na festiwalach rockowych\, m.in. Przystanek Woodstock 2017\, Czochraj Bobra\, Izerbejdżan Punk Fest\, Rock Na Bagnie\, Cieszfanów. Zespół jest stałym gościem Punk-Festu\, największej punkowej imprezy w Polsce oraz cyklu koncertów „Był Kiedyś Jarocin”.\nTHE BILL (skład):\nKefir – śpiew\, gitara\nJędrek – gitara\nZawad – gitara basowa\, wokal\nArtie – perkusja\n👉 FB: www.facebook.com/thebillpunkrockband\nTeledyski THE BILL:\nKIBEL: www.youtube.com/watch?v=mI2Ot4I3LMY\nPIOSENKA DLA ŻOŁNIERZA: www.youtube.com/watch?v=xTMwURawweE\nPRZYSTANEK WOODSTOCK 2014 (cały koncert): www.youtube.com/watch?v=wGTnN2afzUs
URL:https://koncertywrzeszowie.pl/event/the-bill-sexbomba-rzeszow-underground-pub/
CATEGORIES:Underground Pub
ATTACH;FMTTYPE=image/jpeg:https://koncertywrzeszowie.pl/wp-content/uploads/2023/07/10209_image_339672747_1614318368993840_5926981692953304101_n.jpg
END:VEVENT
END:VCALENDAR