BEGIN:VCALENDAR
VERSION:2.0
PRODID:-//Koncert Rzeszów. Zobacz kto zagra w Rzeszowie! - ECPv6.15.20//NONSGML v1.0//EN
CALSCALE:GREGORIAN
METHOD:PUBLISH
X-WR-CALNAME:Koncert Rzeszów. Zobacz kto zagra w Rzeszowie!
X-ORIGINAL-URL:https://koncertywrzeszowie.pl
X-WR-CALDESC:Wydarzenia dla Koncert Rzeszów. Zobacz kto zagra w Rzeszowie!
REFRESH-INTERVAL;VALUE=DURATION:PT1H
X-Robots-Tag:noindex
X-PUBLISHED-TTL:PT1H
BEGIN:VTIMEZONE
TZID:Europe/Warsaw
BEGIN:DAYLIGHT
TZOFFSETFROM:+0100
TZOFFSETTO:+0200
TZNAME:CEST
DTSTART:20170326T010000
END:DAYLIGHT
BEGIN:STANDARD
TZOFFSETFROM:+0200
TZOFFSETTO:+0100
TZNAME:CET
DTSTART:20171029T010000
END:STANDARD
BEGIN:DAYLIGHT
TZOFFSETFROM:+0100
TZOFFSETTO:+0200
TZNAME:CEST
DTSTART:20180325T010000
END:DAYLIGHT
BEGIN:STANDARD
TZOFFSETFROM:+0200
TZOFFSETTO:+0100
TZNAME:CET
DTSTART:20181028T010000
END:STANDARD
BEGIN:DAYLIGHT
TZOFFSETFROM:+0100
TZOFFSETTO:+0200
TZNAME:CEST
DTSTART:20190331T010000
END:DAYLIGHT
BEGIN:STANDARD
TZOFFSETFROM:+0200
TZOFFSETTO:+0100
TZNAME:CET
DTSTART:20191027T010000
END:STANDARD
END:VTIMEZONE
BEGIN:VEVENT
DTSTART;TZID=Europe/Warsaw:20180503T000000
DTEND;TZID=Europe/Warsaw:20180503T233000
DTSTAMP:20260425T181218
CREATED:20180402T220227Z
LAST-MODIFIED:20180501T113336Z
UID:4777-1525305600-1525390200@koncertywrzeszowie.pl
SUMMARY:Święto Paniagi 2018
DESCRIPTION:Jak co roku\, mnóstwo atrakcji czeka na Mieszkańców Rzeszowa i Gości z okazji Święta Paniagi. To już 15 edycja wydarzenia\, które w tym roku będzie miało sporo akcentów związanych z setną rocznicą odzyskania przez Polskę niepodległości. \n15. ŚWIĘTO PANIAGI\nCzwartek – 3 maja 2018 r. \nKościół i Plac Farny\, ul. 3 Maja\, Rynek \n9.30 – UROCZYSTA MSZA ŚWIĘTA z okazji 227. rocznicy uchwalenia Konstytucji 3 Maja\nw Kościele Farnym. Msza Św. koncelebrowana pod przewodnictwem JE ks. bpa Jana Wątroby Ordynariusza Diecezji Rzeszowskiej \nPrzemarsz Kompanii Honorowej 21. Brygady Strzelców Podhalańskich i pocztów sztandarowych na rzeszowski Rynek \n11.00 – UROCZYSTOŚCI PATRIOTYCZNE pod pomnikiem Tadeusza Kościuszki na\nrzeszowskim Rynku \nSCENA PRZY KOŚCIELE FARNYM\nProwadzenie: Janusz Majkut \n\n12.00 – 12.10 – oficjalne rozpoczęcie 15. Święta Paniagi przez Prezydenta Miasta Rzeszowa\n12.10 – 12.20 – występ Orkiestry Szałamaistek i Zespołu Mażoretek INCANTO z WDK w Rzeszowie\, występ Dziewczęcej Orkiestry Dętej z MDK w Rzeszowie\n12.20 – POLONEZ – korowód taneczny na Paniadze z udziałem:\n\nDziewczęcej Orkiestry Dętej z MDK w Rzeszowie\, Orkiestry Szałamaistek i Zespołu Mażoretek INCANTO z WDK w Rzeszowie\, Zespołu Pieśni i Tańca KARPATY\, Studenckiego Zespołu Pieśni i Tańca Politechniki Rzeszowskiej POŁONINY\, Zespołu Pieśni i Tańca BANDOSKA\, Zespołu Tanecznego TAKA PAKA\, Zespołu Tanecznego TEMPO TWIST\, Zespołu Tańca Ludowego RZESZOWIANKA\, Dziecięcego Zespołu Artystycznego UŚMIECH\, Studia Baletowego Leili Arifuliny\, Tanecznego Klubu Sportowego GASIEK\, Szkoły Tańca Sportowego AKSEL\, Baletu z Nyíregyházy RE-FLEX\, Akademii Tańca Jazzowego „Sensdance”\, Akademii Tańca Orientalnego BhavRati\, Sensual Latin Dance\, Szkoły Tańca N Rzeszów\, SCENY TAŃCA ALIPSI\, KLAPS\, ART DANCE\, Grup Tanecznych: STREET DANCE MINI\, STREET DANCE KIDS\, JAZZ MŁODSI\, STREET MANIAX\, PPAP CREW\, KIPI ZAJAWA\, RIDERS CREW\, Teatru „Maska”\, Konnej Straży Ochrony Przyrody i Tradycji im. 20 Pułku Ułanów \n\n12.30 – 13.30 – „Zakazane piosenki” – patriotyczny koncert wokalno – taneczny w wykonaniu artystów Centrum Sztuki Wokalnej w Rzeszowie\, pod kierunkiem Anny Czenczek\n13.35 – 14.20 – pokaz mody z okresu międzywojennego (stroje codzienne i wieczorowe) oraz recital piosenek przedwojennych\n14.30 – 15.25 – występ wokalistów z Rzeszowskiego Domu Kultury\n15.30 – 15.50 – „Akademia Pana Kleksa” – wybrane piosenki w wykonaniu aktorów Teatru „Maska”\n16.05 – 17.05 – koncert przebojów musicalowych w wykonaniu uczniów Akademii Aktorskiej „Artysta”\n17.10 – 17.55 – pokaz mody z okresu międzywojennego (stroje codzienne i wieczorowe) recital piosenek przedwojennych\n18.00 – 19.00 – Koncert zespołu KARCZMARZE\n19.00 – zakończenie\n\nSCENA TANECZNA PRZY FONTANNIE MULTIMEDIALNEJ\nProwadzenie: Michał Samborski \n\n12.30 – powitanie publiczności\n12.35 – występ Dziewczęcej Orkiestry Dętej\n12.40 – występ Orkiestry Szałamaistek i Zespołu Mażoretek INCANTO\n12.45 – MŁODZIEŻOWY DOM KULTURY prezentuje:\n\nDziecięcy Zespół Artystyczny UŚMIECH\nZespół Tańca Ludowego RZESZOWIANKA\n\n\n13.00 – Szkoła Tańca N Rzeszów\n13.15 – Balet z Nyíregyházy RE-FLEX\n13.40 – RZESZOWSKI DOM KULTURY prezentuje:\n\nSCENA TAŃCA ALIPSI\nKLAPS\nART DANCE\nZespół Pieśni i Tańca KARPATY\n\n\n14.00 – Zespół Taneczny TAKA PAKA\n14.15 – Studio Baletowe Leili Arifuliny\n14.35 – Zespół Taneczny TAKA PAKA\n14.50 – Zespół Taneczny TEMPO TWIST\n15.05 – Zespół Taneczny TAKA PAKA\n15.20 – Zespół Taneczny TEMPO TWIST\n15.35 – Zespół Taneczny TAKA PAKA\n15.50 – Balet z Nyíregyházy RE-FLEX\n16.15 – Sensual Latin Dance\n16.25 – Akademia Tańca Jazzowego „Sensdance”\n16.30 – Wojewódzki Dom Kultury prezentuje:\nZespół Pieśni i Tańca BANDOSKA\n16.40 – Sensual Latin Dance\n16.45 – Akademia Tańca Jazzowego „Sensdance”\n16.50 – Akademia Tańca Orientalnego BhavRati\n17.00 – Studencki Zespół Pieśni i Tańca Politechniki Rzeszowskiej POŁONINY\n17.20 – Szkoła Tańca STREET LIFE prezentuje:\n\nStreet Dance Mini\nStreet Dance Kids\nJazz Młodsi\nStreet Maniax\nPpap Crew\nKipi Zajawa\nRiders Crew\n\n\n17.50 – Taneczny Klub Sportowy GASIEK\n18.20 – pokaz grupy z Klubu Akrobatyki Sportowej z Rzeszowa\n18.40 – Szkoła Tańca Sportowego AKSEL\n19.10 – zakończenie\n\nSCENA NA DZIEDZIŃCU RADIA RZESZÓW\nDzień Otwarty Polskiego Radia Rzeszów \n\n12.30 – spotkanie z Zamkolandią\n13.00 – koncert wokalno-taneczny w wykonaniu Solistów i Grupy Artystycznej z Centrum Sztuki Wokalnej w Rzeszowie pod kierunkiem Anny Czenczek – laureaci festiwali piosenki\nw kraju i za granicą oraz programów telewizyjnych; Pokaz tańca Szkoły Tańca Sportowego „AKSEL”; Gry Planszowe z Podkarpackim Stowarzyszeniem dla Aktywnych Rodziców\n\n\nKONCERTY GWIAZD:\n\n14.00 – BARTAS SZYMONIAK\n15.30 – CZARNO CZARNI\n\nPREZENTACJE WEWNĄTRZ BUDYNKÓW: \nRADIO RZESZÓW\, ul. Zamkowa 3 (gmach i dziedziniec) \nDZIEŃ OTWARTY POLSKIEGO RADIA RZESZÓW (10.00 – 17.00) \nZwiedzanie Polskiego Radia Rzeszów\, spotkania z dziennikarzami\, warsztaty dla dzieci\, wystawa sprzętu radiowego\, fotobudka\, występy artystów \nBIURO WYSTAW ARTYSTYCZNYCH W RZESZOWIE\, ul. Jana III Sobieskiego 18 (10.00 – 17.00) \nProjekcje filmu „Rzeszowskie Janusze” (Fundacja Rzeszowska). \nMUZEUM DOBRANOCEK ZE ZBIORÓW WOJCIECHA JAMY\, ul. Mickiewicza 13 (9.00 – 17.00) \n\nwystawa stała wzbogacona o nowe eksponaty;\nekspozycja czasowa „Świat przedmiotów i wspomnień rodziców i dziadków” – przedmioty z życia codziennego ze zbiorów Muzeum Regionalnego w Stalowej Woli\, Muzeum Okręgowego w Rzeszowie\,\nMuzeum Dobranocek w Rzeszowie oraz prywatnych kolekcji Marii Wieczorek\, Mariusza Kmity oraz osób prywatnych;\npokaz znanych polskich dobranocek prezentowany w sali projekcyjnej muzeum (ul. Mickiewicza 13);\nstoisko Muzeum Dobranocek w wirydarzu Muzeum Okręgowego przy ul. 3 Maja 19.\n\nGALERIA FOTOGRAFII MIASTA RZESZOWA\, ul. 3 Maja 9 (12.00 – 18.00) \nWernisaż wystawy ze zbiorów Galerii Fotografii Miasta Rzeszowa „W międzywojennym Rzeszowie”\, autorstwa Rodziny Edwarda Janusza (godz. 14.00).\nTermin ekspozycji wystawy: 3 – 31 maja 2018 r. \nGALERIA R_Z\, ul. 3 Maja 16 (10.00 – 18.00) \nWystawa „Za – tor” \nATELIER APARAT CAFFE\, Ul. Grunwaldzka 24 (12.00 – 17.00) \nwystawy stałe: „Retrospekcja Rzeszowska w rozszerzonej rzeczywistości”;\nwystawy czasowe: -„Fotografia natychmiastowa” (czynna do 18 maja 2018 r.)\, „Historia zaklęta w aparacie fotograficznym” (czynna do 11 maja 2018 r.)\, „Dawne zakłady fotograficzne w Rzeszowie” – wystawa portretów dawnych rzeszowian i winiet rzeszowskich zakładów fotograficznych (czynna do 11 maja 2018 r.).\nI LICEUM OGÓLNOKSZTAŁCĄCE im. Stanisława Konarskiego\, ul. 3 Maja 15 (12.00 – 18.00) \nwystawa historyczna poświęcona jubileuszowi odzyskania niepodległości przez Polskę;\ninformacja o jubileuszu szkoły;\npromocja szkoły\, prezentacja wydarzeń z życia szkoły\, sylwetki sławnych absolwentów.\nMUZEUM OKRĘGOWE w Rzeszowie\, ul. 3 Maja 19 (12.00 – 18.00) \nwystawy czasowe: „Historie klockami budowane II”\, „Jacek Malczewski malarz poezji – poeta malarstwa’;\nwystawy stałe: „Żołnierz polski 1914 – 1945. Kolekcja Jana Partyki”\, „Galeria Malarstwa Polskiego”\, „Odkopana przeszłość – pradzieje Polski południowo- wschodniej”;\nElegancka Niepodległa – prezentacja akcesoriów damskiej mody z dwudziestolecia międzywojennego;\nwarsztaty i gry dla dzieci;\nkiermasz książek muzealnych;\nspotkania autorskie z rzeszowskimi pisarzami\, kiermasz książki\, opowieści o dawnym Rzeszowie. Prowadzenie – Jerzy Fąfara\nprezentacja Muzeum Dobranocek ze zbiorów Wojciecha Jamy w Rzeszowie;\nstoisko informacyjno-promocyjne Wojewódzkiej Komendy Policji w Rzeszowie\, gdzie m.in. można się zapoznać z mapami zagrożeń oraz zasadami doboru do służby w Policji. \nKINO ZORZA\, ul. 3 Maja 28 (14.00 – 21.00) \n14.00 – „Luis i obcy”- animacja;\n15.30 – blok polskich filmów animowanych;\n15.00 – 17.00 pokazy interaktywnych robotów edukacyjnych;\n16.00 – projekcja filmu „Rzeszowskie Janusze. Rodzina”;\n21.00 – projekcja filmu „Wyklęty” na otwarcie Kina Letniego.\nKSIĘGARNIA EPOKA\, ul. 3 Maja 2 (10.00 – 17.00) \n170 lat rzeszowskiego księgarstwa. Spotkania i niespodzianki dla czytelników. \nPREZENTACJE PLENEROWE (12.00 – 18.00):\nFOSA ZAMKU LUBOMIRSKICH \npokazy snycerstwa i metaloplastyki w wykonaniu młodzieży Zespołu Szkół Plastycznych w Rzeszowie; ekspozycja „Herb Polski – zmiany na przestrzeni wieków”. Płaskorzeźby w metalu kolorowym autorstwa Stefana Miłosia;\nStraż Ochrony Przyrody i Tradycji im. 20 Pułku Ułanów – pokaz władania lancą i szablą; koń rekrucki – trening władania bronią dla mieszkańców;\nanimacje dla dzieci\, m.in. o tematyce niepodległościowej (flagi\, kotyliony\, warsztaty plastyczne) – Fundacja Animacji Społecznej;\n„Ludzka katapulta”. \nULICA 3 MAJA – Paniaga \npokazy zabytkowych rowerów\, opowieść o historii rowerów w Polsce i na świecie z prezentacją zdjęć\, przygotowane przez Lubelskie Towarzystwo Retrocyklistów;\nbicie okolicznościowych monet miedzianych\, upamiętniających Święto Paniagi i 100-lecie odzyskania niepodległości;\nnumizmatyka – prezentacja kolekcji ze zbiorów prywatnych\nprzedstawienie teatralne: „A to Polska właśnie”; autor Jerzy Fąfara\, reżyseria Grzegorz Styła (plac przed PKO BP);\ncyjanoportrety – otwarte warsztaty fotograficzne z cyjanotypii w scenerii ulicy 3 Maja (Fundacja Aparat Caffe);\nkocioł z grochówką wojskową – bezpłatny poczęstunek (przy Radiu Rzeszów\,\nul. Zamkowa/Al. Lubomirskich);\nwystawa plenerowa ze zbiorów Galerii Fotografii Miasta Rzeszowa\, ukazująca mieszkańców i ulice powojennego miasta oraz początki motoryzacji i lotnictwa w Rzeszowie (ul. 3 Maja 9). Termin ekspozycji wystaw: 26 kwietnia – 19 czerwca 2018 r.; \nBWA w RZESZOWIE – wystawa plakatów oraz bezpłatne archiwalne wydawnictwa BWA;\ncykl rysunkowy „Portrety” – mieszkańcy Rzeszowa portretowani przez młodzież Zespołu Szkół Plastycznych im. Piotra Michałowskiego w Rzeszowie;\n„Podkarpacka Historia” – prezentacja periodyku zajmującego się historią terenów Polski południowo – wschodniej;\npokaz oraz warsztaty wykonywania naczyń glinianych na żywo – Warsztat Garncarski Rodziny Plizgów z Medyni Głogowskiej;\nprezentacja atrakcji turystycznych Nyíregyházy – miasta partnerskiego Rzeszowa;\nprezentacja patrolu konnego i motocykla policyjnego Harley-Davidson przygotowana przez Komendę Wojewódzką Policji w Rzeszowie. \nNAJWIĘKSZY RZESZOWSKI JARMARK RĘKODZIEŁA I PRODUKTÓW REGIONALNYCH \nAl. Lubomirskich (10.00 – 18.00) \nPonadto: \n„Śladami rzeszowskich Żydów” – spacer z prelekcją\, upamiętniający postaci wybitnych rzeszowian okresu międzywojennego. Organizatorzy: Zakład Historii i Kultury Żydów Instytut Historii UR\, Podkarpacka Historia. Początek: stara synagoga\, godz. 14.00. \nSCENA NA RZESZOWSKIM RYNKU\n19.00 – „KONCERT TRZECH POLSKICH TENORÓW” (Krzysztof Marciniak\, Dariusz Stachura\, Paweł Skałuba) z towarzyszeniem Orkiestry Symfonicznej Filharmonii Podkarpackiej\, pod batutą Sławomira Chrzanowskiego. \n  \nźródło: Estrada Rzeszowska
URL:https://koncertywrzeszowie.pl/event/swieto-paniagi-2018/
LOCATION:Radio Rzeszów\, Zamkowa 3\, Rzeszów
CATEGORIES:Koncerty
ATTACH;FMTTYPE=image/jpeg:https://koncertywrzeszowie.pl/wp-content/uploads/2018/04/Paniaga_2018.jpg
END:VEVENT
END:VCALENDAR