BEGIN:VCALENDAR
VERSION:2.0
PRODID:-//Koncert Rzeszów. Zobacz kto zagra w Rzeszowie! - ECPv6.15.20//NONSGML v1.0//EN
CALSCALE:GREGORIAN
METHOD:PUBLISH
X-WR-CALNAME:Koncert Rzeszów. Zobacz kto zagra w Rzeszowie!
X-ORIGINAL-URL:https://koncertywrzeszowie.pl
X-WR-CALDESC:Wydarzenia dla Koncert Rzeszów. Zobacz kto zagra w Rzeszowie!
REFRESH-INTERVAL;VALUE=DURATION:PT1H
X-Robots-Tag:noindex
X-PUBLISHED-TTL:PT1H
BEGIN:VTIMEZONE
TZID:Europe/Warsaw
BEGIN:DAYLIGHT
TZOFFSETFROM:+0100
TZOFFSETTO:+0200
TZNAME:CEST
DTSTART:20170326T010000
END:DAYLIGHT
BEGIN:STANDARD
TZOFFSETFROM:+0200
TZOFFSETTO:+0100
TZNAME:CET
DTSTART:20171029T010000
END:STANDARD
BEGIN:DAYLIGHT
TZOFFSETFROM:+0100
TZOFFSETTO:+0200
TZNAME:CEST
DTSTART:20180325T010000
END:DAYLIGHT
BEGIN:STANDARD
TZOFFSETFROM:+0200
TZOFFSETTO:+0100
TZNAME:CET
DTSTART:20181028T010000
END:STANDARD
BEGIN:DAYLIGHT
TZOFFSETFROM:+0100
TZOFFSETTO:+0200
TZNAME:CEST
DTSTART:20190331T010000
END:DAYLIGHT
BEGIN:STANDARD
TZOFFSETFROM:+0200
TZOFFSETTO:+0100
TZNAME:CET
DTSTART:20191027T010000
END:STANDARD
END:VTIMEZONE
BEGIN:VEVENT
DTSTART;TZID=Europe/Warsaw:20181118T190000
DTEND;TZID=Europe/Warsaw:20181118T210000
DTSTAMP:20260419T211321
CREATED:20181114T073611Z
LAST-MODIFIED:20181114T073611Z
UID:5342-1542567600-1542574800@koncertywrzeszowie.pl
SUMMARY:Soyka Kolektyw - Rzeszów Jazz Festiwal
DESCRIPTION:Kolejny raz we współpracy z CH Plaza Rzeszów zapraszamy na koncert w ramach Rzeszów Jazz Festiwal. \nBilety w cenie 90 zł przedsprzedaż i 100 w dniu koncertu już dostępne na stronie Niezła Sztuka.\nW wersji fizycznej dostępne od 25 października w cafepubie Niezła Sztuka\, ul Sobieskiego 18 (I Piętro BWA) \nStanisław Soyka\nStanisław Soyka – śpiewak\, instrumentalista\, kompozytor – już od lat należy do grona największych artystów polskiej sceny muzycznej. Komponuje i śpiewa pieśni o miłości i o jej braku\, pieśni o tęsknocie i spełnieniu\, ale nie ucieka przed wielkimi problemami współczesności. W jego dorobku znajdziemy ponad 30 albumów\, z których kilka osiągnęło multiplatynowe nakłady. Nigdy nie poddał się modom i trendom.\nWypracował swój własny język muzyczny przez co należy do grona artystów\, których styl rozpoznaje się od pierwszych dźwięków a bogactwo repertuaru może przyprawiać o zawrót głowy. Posiada na koncie dziesiątki autorskich pieśni lecz trudno pominąć fakt\, że skomponował muzykę do wielu wierszy poetów polskich i… nie tylko. \nPodczas koncertów więc można usłyszeć pieśni do słów Agnieszki Osieckiej z albumu „Tylko brać… Osiecka znana i nieznana”\, klasyki Czesława Niemena z wydanej niedawno monografii „W hołdzie Mistrzowi”\, w sąsiedztwie takich szlagierów jak „Absolutnie nic”\, „Cud niepamięci” czy „Tolerancja”. Nie zabraknie pieśni napisanych do wierszy polskich i nie tylko poetów („Który skrzywdziłeś…” Cz. Miłosza\, „Gdybym” Bolesława Leśmiana). \nSoyka Kolektyw\nTym razem z zespołem o nazwie SOYKA KOLEKTYW. Towarzyszyć mu będą: \n\nPrzemek Greger na gitarze elektrycznej i akustycznej\,\nZbyszek Uhuru Brysiak na instrumentach perkusyjnych\,\nsyn Kuba Sojka na perkusji\,\nAntoni Gralak na trąbce.\n\nSOYKA KOLEKTYW stanowi bogatą i niebywale ciekawą paletę kolorystyczną a jazzowe temperamenty i kompetencje wyzwalają podczas nagrań i w czasie koncertów tę unikalną moc muzyki improwizowanej.\nWarto wybrać się na koncert Soyki\, bo to zupełne tak\, jakbyśmy na jakiś czas znaleźli się w innym wymiarze\, pełnym piękna i dobrych emocji\, które tylko on potrafi z taką lekkością wywołać w swojej publiczności. Przyjdzie a przekonacie się o tym osobiście.
URL:https://koncertywrzeszowie.pl/event/soyka-kolektyw-rzeszow-jazz-festiwal/
LOCATION:CH Plaza\, Rejtana 65\, Rzeszów
CATEGORIES:Festiwal,Rzeszów Jazz Festiwal
ATTACH;FMTTYPE=image/jpeg:https://koncertywrzeszowie.pl/wp-content/uploads/2018/11/Soyka_Kolektyw-Rzeszow_Jazz_Festiwal-2018.jpg
END:VEVENT
END:VCALENDAR