BEGIN:VCALENDAR
VERSION:2.0
PRODID:-//Koncert Rzeszów. Zobacz kto zagra w Rzeszowie! - ECPv6.15.20//NONSGML v1.0//EN
CALSCALE:GREGORIAN
METHOD:PUBLISH
X-WR-CALNAME:Koncert Rzeszów. Zobacz kto zagra w Rzeszowie!
X-ORIGINAL-URL:https://koncertywrzeszowie.pl
X-WR-CALDESC:Wydarzenia dla Koncert Rzeszów. Zobacz kto zagra w Rzeszowie!
REFRESH-INTERVAL;VALUE=DURATION:PT1H
X-Robots-Tag:noindex
X-PUBLISHED-TTL:PT1H
BEGIN:VTIMEZONE
TZID:Europe/Warsaw
BEGIN:DAYLIGHT
TZOFFSETFROM:+0100
TZOFFSETTO:+0200
TZNAME:CEST
DTSTART:20240331T010000
END:DAYLIGHT
BEGIN:STANDARD
TZOFFSETFROM:+0200
TZOFFSETTO:+0100
TZNAME:CET
DTSTART:20241027T010000
END:STANDARD
BEGIN:DAYLIGHT
TZOFFSETFROM:+0100
TZOFFSETTO:+0200
TZNAME:CEST
DTSTART:20250330T010000
END:DAYLIGHT
BEGIN:STANDARD
TZOFFSETFROM:+0200
TZOFFSETTO:+0100
TZNAME:CET
DTSTART:20251026T010000
END:STANDARD
BEGIN:DAYLIGHT
TZOFFSETFROM:+0100
TZOFFSETTO:+0200
TZNAME:CEST
DTSTART:20260329T010000
END:DAYLIGHT
BEGIN:STANDARD
TZOFFSETFROM:+0200
TZOFFSETTO:+0100
TZNAME:CET
DTSTART:20261025T010000
END:STANDARD
END:VTIMEZONE
BEGIN:VEVENT
DTSTART;TZID=Europe/Warsaw:20250316T190000
DTEND;TZID=Europe/Warsaw:20250316T220000
DTSTAMP:20260422T103441
CREATED:20250313T140825Z
LAST-MODIFIED:20250313T143135Z
UID:12372-1742151600-1742162400@koncertywrzeszowie.pl
SUMMARY:SHOEFEST w Rzeszowie. Zachwyt + Strangers in my House + little man figurine
DESCRIPTION:MiniFestiwal SHOEFEST\nPo trzech udanych edycjach w Krakowie\, Wytwórnia Tematy i Strangers in My House zapraszają na pierwszy w historii koncert wyjazdowy z cyklu SHOEFEST w Rzeszowie. \nSHOEFEST to wyjątkowy minifestiwal\, który łączy polskie i centralnoeuropejskie zespoły grające shoegaze\, dreampop oraz muzykę inspirowaną tymi gatunkami. To idealne wydarzenie dla miłośników głośnych\, przesterowanych\, i przestrzennych i rozmytych brzmień gitar oraz muzyki psychodelicznej. \nKup bilety na SHOEFEST już teraz i nie przegap tego wyjątkowego wydarzenia muzycznego w Rzeszowie! \nPodczas minifestiwalu SHOEFEST wystąpią\nzachwyt\nzachwyt – zespół założony przez Miłosza Boińskiego w 2022 roku. Po 2 latach od wydania EP „zachwyt” można śmiało nazwać legendarnym wydawnictwem polskiej muzyki niezależnej (cztery shoegaze’owe utwory\, które powstały w sypialni 17 latka zostały odtworzone na serwisach streamingowych łącznie ponad pół miliona razy!).\nDziś zachwyt to doświadczony zespół mający za sobą 3 trasy koncertowe\, podwójny występ na Off Festiwalu w Katowicach i wydaną w 2024 roku płytę „Wolniej”. Zachwyt koncertowo to zarówno transowa\, hipnotyczna energia shoegaze\, ale też alt rockowe hymny śpiewane razem z publicznością.\nIG: https://www.instagram.com/zachwyt.zachwyt\nS: https://open.spotify.com/artist/57F4M4L3esGKsmMwT4zt01 \nStrangers in My House\nProjekt Strangers in My House powstały w krakowskich piwnicach z inspiracji klasycznymi alternatywnymi zespołami shoegaze i dreampop. Pierwszy singiel zespołu ukazał się w 2019 roku i od tej pory nieodłącznym aspektem jego brzmienia są rozmarzone damskie wokale\, połączone z mocno zmodulowanym psychodelicznym brzmieniem gitarowym\, które czerpie zarówno z ładnej i chwytliwej\, jak i chaotycznej natury gatunku. \nIG: https://www.instagram.com/strangersinmyhouse/\nS https://open.spotify.com/artist/24esI5fvJhXylkDhHWViX9\nYT https://www.youtube.com/@StrangersInMyHouse \nlittle man\, figurine\nlittle man\, figurine to pięcioosobowy zespół noise/post-rockowy z Rzeszowa. Powstał w 2023 roku z inicjatywy grupy przyjaciół ze szkoły średniej\, których łączy zamiłowanie do surowych\, eksperymentalnych pejzaży dźwiękowych. Ich muzyka to świeże spojrzenie na to\, co wcześniej definiowali tacy artyści jak Swans czy Unwound. \nIch debiutancki singiel „Dazzle Camouflage” oddaje istotę zespołu\, łącząc chropowatość i piękno w sugestywnym miksie organicznych emocji przeplatanych kakofoniczną harmonią – lub harmonijną kakofonią. \nPomimo krótkiego stażu zespół już teraz pokazuje\, że ma potencjał\, by być świetnym zespołem na żywo. Ich dynamiczne\, teatralne\, acz nieskrępowane występy wprawiają publiczność w stan przypominający trans. Występując u boku takich polskich zespołów alternatywnych\, jak Goofy Ginz\, Natures Mortes\, Angry Sad Boys i Killer Goodbyes\, mają zamiar w najbliższej przyszłości poszerzyć swoje horyzonty. \nIG: https://www.instagram.com/littlemanfigurine\nYT: https://youtube.com/@littlemanfigurine \nOprawa graficzna: Bartek Miciński (@bartekthedestroyer) \nBilety na SHOEFEST dostępne na stronie: https://stage24.pl/events/rzeszowshoefest2025-4119 \n  \nPo więcej niezależnej polskiej muzyki zapraszamy na profile:\nWytwórni Tematy\n\nFB: https://www.facebook.com/tematytematy\nIG: https://www.instagram.com/tematytematy/\nwww: http://wytworniatematy.pl\nYT: https://www.youtube.com/@wytworniatematy\nS: https://open.spotify.com/user/31gc3fsaonfseltqtklsdpskkmr4 \ni na Independent.pl\n\nFB: https://www.facebook.com/independentpl\nTT: https://www.tiktok.com/@independent.pl\nIG: https://www.instagram.com/independent.pl\nYT: https://www.youtube.com/@independentpolska\nwww: https://independent.pl/
URL:https://koncertywrzeszowie.pl/event/shoefest-w-rzeszowie-zachwyt-strangers-in-my-house-little-man-figurine/
LOCATION:Pub Spółdzielczy Rzeszów\, Aleksandra Fredry 4\, Rzeszów\, podkarpackie\, 35-235\, Poland
CATEGORIES:Festiwal,Pub Spółdzielczy
ATTACH;FMTTYPE=image/jpeg:https://koncertywrzeszowie.pl/wp-content/uploads/2025/03/shoefest-pub-spoldzielczy.jpg
END:VEVENT
END:VCALENDAR