BEGIN:VCALENDAR
VERSION:2.0
PRODID:-//Koncert Rzeszów. Zobacz kto zagra w Rzeszowie! - ECPv6.15.20//NONSGML v1.0//EN
CALSCALE:GREGORIAN
METHOD:PUBLISH
X-WR-CALNAME:Koncert Rzeszów. Zobacz kto zagra w Rzeszowie!
X-ORIGINAL-URL:https://koncertywrzeszowie.pl
X-WR-CALDESC:Wydarzenia dla Koncert Rzeszów. Zobacz kto zagra w Rzeszowie!
REFRESH-INTERVAL;VALUE=DURATION:PT1H
X-Robots-Tag:noindex
X-PUBLISHED-TTL:PT1H
BEGIN:VTIMEZONE
TZID:Europe/Warsaw
BEGIN:DAYLIGHT
TZOFFSETFROM:+0100
TZOFFSETTO:+0200
TZNAME:CEST
DTSTART:20240331T010000
END:DAYLIGHT
BEGIN:STANDARD
TZOFFSETFROM:+0200
TZOFFSETTO:+0100
TZNAME:CET
DTSTART:20241027T010000
END:STANDARD
BEGIN:DAYLIGHT
TZOFFSETFROM:+0100
TZOFFSETTO:+0200
TZNAME:CEST
DTSTART:20250330T010000
END:DAYLIGHT
BEGIN:STANDARD
TZOFFSETFROM:+0200
TZOFFSETTO:+0100
TZNAME:CET
DTSTART:20251026T010000
END:STANDARD
BEGIN:DAYLIGHT
TZOFFSETFROM:+0100
TZOFFSETTO:+0200
TZNAME:CEST
DTSTART:20260329T010000
END:DAYLIGHT
BEGIN:STANDARD
TZOFFSETFROM:+0200
TZOFFSETTO:+0100
TZNAME:CET
DTSTART:20261025T010000
END:STANDARD
END:VTIMEZONE
BEGIN:VEVENT
DTSTART;TZID=Europe/Warsaw:20250222T200000
DTEND;TZID=Europe/Warsaw:20250222T200000
DTSTAMP:20260424T122500
CREATED:20250124T093852Z
LAST-MODIFIED:20250225T180206Z
UID:12185-1740254400-1740254400@koncertywrzeszowie.pl
SUMMARY:Sceptic. Rockowa Noc from the Basement
DESCRIPTION:22 lutego o 20:00 w Rzeszowskich Piwnicach wystąpi zespół SCEPTIC. \nKoncert odbędzie się w ramach cyklu Rockowa Noc from the Basement. SCEPTIC to powstała w 1994 roku deathmetalowa grupa inspirowana oldschool’owym\, technicznym sznytem prezentowanym przez takich tuzów jak Death\, Cynic czy Atheist. Od początku istnienia grupa\nwypracowała własny\, unikatowy styl\, melodykę i uderzenie. W 2022 r. zespół powrócił do pierwotnego składu\, nagrywając po siedemnastu latach wydawniczej ciszy piąty album „Nailed to Ignorance”. \nBilety na koncert zespołu SCEPTIC\nBilety na stronie https://bilety.rzeszowskiepiwnice.pl\, dodatkowy rabat 10% przy zakupie w kasie Rzeszowskich Piwnic z Rzeszowską Kartą Mieszkańca. \n  \nSprawdź wszystkie koncerty w ramach „Rockowa Noc from the Basement“\n  \nSceptic. Rockowa Noc from the Basement \n \nSARS i TOWOT Rockowa Noc from the Basement vol 2 \n \nKoncert zespołu BROWN. Rockowa Noc from the Basement vol. 3
URL:https://koncertywrzeszowie.pl/event/sceptic-rockowa-noc-from-the-basement/
LOCATION:Rzeszowskie Piwnice\, Rynek 26\, Rzeszów\, 35-062\, PL
CATEGORIES:Rzeszowskie Piwnice
ATTACH;FMTTYPE=image/jpeg:https://koncertywrzeszowie.pl/wp-content/uploads/2025/01/sceptic-rockowa-noc-2025.jpg
END:VEVENT
END:VCALENDAR