BEGIN:VCALENDAR
VERSION:2.0
PRODID:-//Koncert Rzeszów. Zobacz kto zagra w Rzeszowie! - ECPv6.15.20//NONSGML v1.0//EN
CALSCALE:GREGORIAN
METHOD:PUBLISH
X-WR-CALNAME:Koncert Rzeszów. Zobacz kto zagra w Rzeszowie!
X-ORIGINAL-URL:https://koncertywrzeszowie.pl
X-WR-CALDESC:Wydarzenia dla Koncert Rzeszów. Zobacz kto zagra w Rzeszowie!
REFRESH-INTERVAL;VALUE=DURATION:PT1H
X-Robots-Tag:noindex
X-PUBLISHED-TTL:PT1H
BEGIN:VTIMEZONE
TZID:Europe/Warsaw
BEGIN:DAYLIGHT
TZOFFSETFROM:+0100
TZOFFSETTO:+0200
TZNAME:CEST
DTSTART:20130331T010000
END:DAYLIGHT
BEGIN:STANDARD
TZOFFSETFROM:+0200
TZOFFSETTO:+0100
TZNAME:CET
DTSTART:20131027T010000
END:STANDARD
BEGIN:DAYLIGHT
TZOFFSETFROM:+0100
TZOFFSETTO:+0200
TZNAME:CEST
DTSTART:20140330T010000
END:DAYLIGHT
BEGIN:STANDARD
TZOFFSETFROM:+0200
TZOFFSETTO:+0100
TZNAME:CET
DTSTART:20141026T010000
END:STANDARD
BEGIN:DAYLIGHT
TZOFFSETFROM:+0100
TZOFFSETTO:+0200
TZNAME:CEST
DTSTART:20150329T010000
END:DAYLIGHT
BEGIN:STANDARD
TZOFFSETFROM:+0200
TZOFFSETTO:+0100
TZNAME:CET
DTSTART:20151025T010000
END:STANDARD
END:VTIMEZONE
BEGIN:VEVENT
DTSTART;TZID=Europe/Warsaw:20140927T200000
DTEND;TZID=Europe/Warsaw:20140927T200000
DTSTAMP:20260424T105354
CREATED:20140916T083741Z
LAST-MODIFIED:20140916T083855Z
UID:1747-1411848000-1411848000@koncertywrzeszowie.pl
SUMMARY:Rzeszów Klezmer Band - Stara Drukarnia
DESCRIPTION:Serdecznie zapraszamy 27 września 2014 roku o godzinie 20.00 na koncert zespołu Rzeszów Klezmer Band. \n\nJacek Anyszek – klarnet\nMateusz Chmiel – klarnet/sax\nDariusz Kot – akordeon\nWojciech Jajuga – kontrabas\nKamil Siciak – perkusja\nKatarzyna Blat – śpiew\n\nZespół RZESZÓW KLEZMER BAND powstał w listopadzie 2004 roku w związku odbywającą się wystawą poświęconą twórczości Brunona Schulza\, w miejscowej galerii sztuki. Nikt nie przypuszczał\, że będzie to początek wspaniałej przygody z muzyką klezmerską. Skład zespołu tworzą absolwenci rzeszowskich szkół muzycznych którzy kontynuują naukę na wyższych uczelniach muzycznych i technicznych.\nZespół wykonał ponad 200 koncertów na terenie całej Polski\, jak i Europy. Brał udział w wielu konkursach i festiwalach\, w tym: Festiwal „Warszawa Singera”\, Festiwal „Nowa Tradycja” w Warszawie\, Festiwal 'Muzyki i Tradycji Klezmerskiej’ oraz Festiwal „Kazimierskie Inspiracje” w Kazimierzu Dolnym\, „Spotkania z Kulturą Żydowską ” w Łodzi\, Wielokulturowy Festiwal „Galicja”\, Laureat I Nagrody w IV Podkarpackim Przeglądzie Zespołów Kameralnych w Rzeszowie. RKB kilkakrotnie udzielało nagrań dla Polskiego Radia Rzeszów i Telewizji Polskiej TVP3. Największym osiągnięciem zespołu jest udział w Festiwalu „SZIGET” w Budapeszcie oraz „KLEZFIESTA” w Buenos Aires. Zespół wielokrotnie współpracował z choreografem tańca klezmerskiego Leonem Blankiem. Utwory wykonywane przez muzyków to tradycyjne melodie klezmerskie\, aranżowane w taki sposób\, aby zawrzeć w nich elementy tradycji i nowoczesności. Dotychczasowy dorobek muzyczny po części składa się na płyty pt. „SIEDEM” i „KAMELEON”. Videotekę otwiera tylko jeden profesjonalny teledysk do utworu Yoshke wyprodukowany przez Grupę Producencką ART. MIMOFON. \nRzeszów Klezmer Band – Yoshke
URL:https://koncertywrzeszowie.pl/event/rzeszow-klezmer-band-stara-drukarnia/
LOCATION:Stara Drukarnia\, Bożnicza 6\, Rzeszów\, Polska
CATEGORIES:Koncerty
ATTACH;FMTTYPE=image/jpeg:https://koncertywrzeszowie.pl/wp-content/uploads/2014/09/koncert-rzeszow-klezmer-band-stara-drukarnia.jpg
END:VEVENT
END:VCALENDAR