BEGIN:VCALENDAR
VERSION:2.0
PRODID:-//Koncert Rzeszów. Zobacz kto zagra w Rzeszowie! - ECPv6.15.20//NONSGML v1.0//EN
CALSCALE:GREGORIAN
METHOD:PUBLISH
X-WR-CALNAME:Koncert Rzeszów. Zobacz kto zagra w Rzeszowie!
X-ORIGINAL-URL:https://koncertywrzeszowie.pl
X-WR-CALDESC:Wydarzenia dla Koncert Rzeszów. Zobacz kto zagra w Rzeszowie!
REFRESH-INTERVAL;VALUE=DURATION:PT1H
X-Robots-Tag:noindex
X-PUBLISHED-TTL:PT1H
BEGIN:VTIMEZONE
TZID:Europe/Warsaw
BEGIN:DAYLIGHT
TZOFFSETFROM:+0100
TZOFFSETTO:+0200
TZNAME:CEST
DTSTART:20210328T010000
END:DAYLIGHT
BEGIN:STANDARD
TZOFFSETFROM:+0200
TZOFFSETTO:+0100
TZNAME:CET
DTSTART:20211031T010000
END:STANDARD
BEGIN:DAYLIGHT
TZOFFSETFROM:+0100
TZOFFSETTO:+0200
TZNAME:CEST
DTSTART:20220327T010000
END:DAYLIGHT
BEGIN:STANDARD
TZOFFSETFROM:+0200
TZOFFSETTO:+0100
TZNAME:CET
DTSTART:20221030T010000
END:STANDARD
BEGIN:DAYLIGHT
TZOFFSETFROM:+0100
TZOFFSETTO:+0200
TZNAME:CEST
DTSTART:20230326T010000
END:DAYLIGHT
BEGIN:STANDARD
TZOFFSETFROM:+0200
TZOFFSETTO:+0100
TZNAME:CET
DTSTART:20231029T010000
END:STANDARD
END:VTIMEZONE
BEGIN:VEVENT
DTSTART;TZID=Europe/Warsaw:20220722T160000
DTEND;TZID=Europe/Warsaw:20220724T210000
DTSTAMP:20260419T211350
CREATED:20220705T095131Z
LAST-MODIFIED:20220705T095131Z
UID:8543-1658505600-1658696400@koncertywrzeszowie.pl
SUMMARY:Rzeszów Bike Festival 2022
DESCRIPTION:Zapraszamy na Rzeszowski Festiwal Rowerowy – Rzeszów BIKE Festival!\n \nJazda na rowerze to najczęściej wybierana forma aktywności. Coraz więcej osób wybiera ten właśnie sport\, aby zapewnić sobie dawkę ruchu\, ponieważ na rowerze może jeździć każdy – wystarczy dopasować intensywność i kilometraż do własnych potrzeb. Aktywność fizyczna na łonie natury to doskonały sposób na relaks\, odcięcie się od codzienności i pooddychanie świeżym powietrzem.\nRzeszów BIKE Festival to idealna okazja by zapoznać się z wieloma odmianami kolarstwa i wybrać tą\, która będzie najodpowiedniejsza dla Nas.\nZarezerwuj więc weekend 22-24 lipca 2022 r.\, żeby wziąć udział w wyjątkowym wydarzeniu: \n\n22.07 / Piątek: Podpromie (Skatepark/Dirt Park)\n23.07 / Sobota: Rynek\n24.07 / Niedziela: Park Sybiraków\n\nW połowie lipca Rzeszów zamienia się w arenę rowerowych wyścigów i licznych atrakcji\, których celem jest promowanie aktywnego i ekologicznego stylu życia i sportowego spędzania wolnego czasu. \nKolarstwo ma wiele odmian. Rzeszów BIKE Festival to jedyne takie wydarzenie w Polsce\, które łączy tyle atrakcji i konkurencji w jeden event\, co sprawia\, że program wydarzenia jest bardzo napięty. \nŚledźcie media społecznościowe\, żeby być na bieżąco z atrakcjami II edycji Rzeszów BIKE Festival: \nFacebook: Rzeszów BIKE Festival\nStrona internetowa: Rzeszowski Festiwal Rowerowy\nWydarzenie: Rzeszów BIKE Festival 2022\nInstagram: Rzeszow BIKE Festival\nYouTube: Wytwórnia Sportu \nProgram festiwalu\nDZIEŃ I: Piątek (22.07)  \nWykorzystując miejską infrastrukturę rowerową taką jak SkatePark i DirtPark\, zorganizujemy cały dzień w grawitacyjnym stylu.\n\nDIRT Jam – Luźna forma zawodów dla amatorów\, która odbędzie się na wyremontowanym torze Dirt Park. Przejazdy będą oceniane przez czołowych zawodników na świecie\, m.in. Szymona Godźka. Uczestnicy rywalizować będą w kategorii OPEN\, Amator i Junior. Oceniany przez sędziów będzie: Najlepszy Przejazd\, Best Trick i Best Whip. Atrakcyjne nagrody i odświeżony tor zgromadzą wielu zawodników z całej Polski.\nPonad to będzie możliwość testowania rowerów marki Specialized Bicycles i CUBE Bikes\, w tym również elektrycznych! \n\nŚledźcie wydarzenie:\nLINK DO WYDARZENIA: DPR DIRT Jam – Rzeszów BIKE Festival 2022 \nPiątek zakończy się koncertowo! After BIKE Party z One Life Studio na SkatePark’u\, czyli dobra dawka lokalnego Hip Hopu w wyjątkowej scenerii.\nSzczegóły znajdziecie w wydarzeniu. Musicie się pojawić!\nLINK DO WYDARZERZENIA: AFTER BIKE PARTY Z ONE LIFE STUDIO \nDZIEŃ II: Sobota (23.07)\nRynek – tu bije serce Miasta! Starówka Rzeszowa w weekend cieszy się największym zainteresowaniem wśród mieszkańców i turystów\, dlatego właśnie tutaj odbywa się II dzień Festiwalu\, który będzie pełny emocji!\nSzosowe Kryterium Uliczne – Wyścig w kolarstwie szosowym dla amatorów\, rozgrywany po ulicach w centrum miasta to runda o długości 5 km\, którą kolarze pokonają 10 razy. Łącznie to 50 km\, którą zwycięzca przebywa ze średnią prędkością blisko 50 km/h!\nKonkurencja jest otwarta\, z możliwością zapisów. Weź udział lub kibicuj zawodnikom na trasie! \n\nLINK DO WYDARZENIA: Wyścig Szosowy – Rzeszów BIKE Festival 2022 \nPokazy Sound of Gravity – to mocna dawka rowerowego szaleństwa:\nBMX Flatland – to freestyle BMX często opisywany jest jako forma artystycznego kolarstwa z mieszanką breakdance’u. Sztuczki wykonywane w tym stylu wyglądają jak wirowanie i balansowanie na rowerze w różnych\, nieoczekiwanych pozycjach. To świetne\, rowerowe widowisko\, które będzie prezentowane w formie pokazów i jak również szkoleń na specjalnej scenie\, przez najlepszych zawodników w kraju. \nPokazy Dirt Jumping – największa atrakcja Festiwalu\, czyli pokazy akrobacji rowerowych na skoczni ustawionej na samym środku Rynku w Rzeszowie! Pokaz wykonają zawodnicy\, którzy reprezentują̨ nasz kraj na największych imprezach\, m.in. Szymon Godziek! Na pokazy będzie można natknąć się przez cały dzień\, a największe SHOW zostanie zaprezentowane o godzinie 20:30.\nPokazy Trial – to akrobacje rowerowe\, gdzie równowaga i kontrola nad pojazdem zrobi wrażenie na niejednym widzu! Rozmiary przeszkód do pokonania są imponujące i da się je przejechać i to w bardzo efektowny sposób! \n \nPokazy na Bicyklach – to element imprezy\, który z pewnością wzbudza nie tylko uśmiech\, ale i podziw. Przedstawienie historii powstania i ewolucji rowerów będzie potwierdzeniem\, że Rzeszów BIKE Festival uczy i bawi. Całość okraszona dużą dawką humoru! \n\nLINK DO WYDARZENIA: Pokazy Sound of Gravity – Rzeszów BIKE Festival 2022 \nCUBE Power z WM Bikes – to konkurencja dla chętnych w sprawdzeniu siły swoich rąk! Podczas Festiwalu Rowerowego nie tylko siła nóg jest ważna. Trzymanie roweru na wyprostowanych rękach na czas to konkurencja dla tych\, którzy mają mocniejszą górną część ciała.\nSklep WM BIKES przygotował ciekawe nagrody dla najsilniejszych! \nAfter BIKE Party z Get Me High! Sobota nie może zakończyć się inaczej jak nocną imprezą z mocną dawką muzyki! A DJ zagra wprost z balkonu Rzeszowskiego Ratusza! Tego jeszcze nie było! Niech na rzeszowskim Rynku porwie Was klubowa muzyka Elektroniczna! \nDZIEŃ III: Niedziela (24.07)\nPark Sybiraków ze swoim odpowiednim ukształtowaniem terenu to idealne miejsce na rodzinny dzień festiwalowy.\nW tym dniu czeka na Was: \nWyścig w Kolarstwie Górskim MTB XC – wyścigi w kolarstwie górskim dla amatorów\, rozgrywane w centrum miasta. Zawodników na pewno zadowoli fakt\, że będą mieli bezpośredni kontakt z widzami podczas rywalizacji. Zawody będą zorganizowane dla wielu kategorii wiekowych\, zaczynając od najmłodszych dzieci kończąc na osobach dorosłych. \n\nLINK DO WYDARZENIA: Wyścig MTB XC – Rzeszów BIKE Festival 2022 \nCUBE E-BIKE Race – to konkurencja\, w której uczestnicy będą mieli możliwość pokonania trasy zawodów MTB XC na rowerach elektrycznych. W miasteczku Festiwalowym będą czekały na Was maszyny od WM BIKES. \nZawody dla dzieci – Zawody dla dzieci to nieodłączny element każdej imprezy rowerowej. Nie mogło ich zabraknąć również podczas Rzeszów BIKE Festival. Wspólnie z Rzeszowską Akademią Kolarską przygotowana zostanie trasa i program zawodów tak aby zadowolić każdego kolarza. Oczywiście każdy młody uczestnik na linii mety otrzyma pamiątkowy medal! \n \nLINK OD WYDRZENIA – Zawody dla dzieci – Rzeszów BIKE Festival 2022  \nPonad to:\nStrefa dla dzieci \ Akademia Bezpiecznego Rowerzysty: to specjalnie przygotowane tory do jazdy na rowerze dla najmłodszych\, wyposażone w równoważnie\, moduły i przeszkody\, czyli nauka przez świetną zabawę! Równowaga i stabilizacja na rowerze podczas jazdy to podstawowe umiejętności każdego młodego rowerzysty.\nTwoje dziecko nie będzie się nudzić i na pewno nie będzie chciało wracać do domu!\nTesty rowerów marki Specialized Bicycles i CUBE Bikes\, w tym elektrycznych! \nStrefa Gastro\nSkoro Festiwal to i gastronomiczna strefa. Z pewnością nie będziesz głodny. Różnorodne menu i zawsze atrakcyjna forma „gotujących samochodów” będzie dostępna dla Was w trakcie Rzeszów BIKE Festival! \n22.07 (piątek) – Podpromie\n24.07 (niedziela) – Park Sybiraków \nOrganizatorem całego przedsięwzięcia jest Rzeszowski Klub Sportowy SPORT-PARTNER\, który pod sterami Wojciecha Kwiatka organizuje wiele wydarzeń sportowych w naszym regionie\, m.in. Wyścig w Kolarstwie Szosowym KLASYK PODKARPACKI czy Wyścig w Kolarstwie Górskim „Dakar Toyota MTB Lubenia”. \nPartnerzy wydarzenia:\nPartner Główny \n\nRzeszów – stolica Innowacji\n\nPartnerzy Strategiczni \n\n Dakar – Toyota Rzeszów\nLexus Rzeszów\nOPTeam S.A.\nDworzysko Park\nGrupa reklamowa Greemi\nLord Jack Rzeszów\nWM BIKES\nCUBE Bikes\nFil-Bike\nSpecialized Bicycles\n4-bike.pl\nCUNA\nWERON\nNAMEDSPORT Polska\n\nPartnerzy\n\nWytwórnia Sportu\nSfera Sportu\nRedBull\nQueens of the Road\nRzeszowska Akademia Kolarska\nOne Life Studio\nGetmehigh
URL:https://koncertywrzeszowie.pl/event/rzeszow-bike-festival-2022/
LOCATION:Parking przy Podpromiu\, Podpromie\, Rzeszów
CATEGORIES:Festiwal
ATTACH;FMTTYPE=image/jpeg:https://koncertywrzeszowie.pl/wp-content/uploads/2022/07/rzeszow-bike-festival-2022.jpg
END:VEVENT
END:VCALENDAR