BEGIN:VCALENDAR
VERSION:2.0
PRODID:-//Koncert Rzeszów. Zobacz kto zagra w Rzeszowie! - ECPv6.15.20//NONSGML v1.0//EN
CALSCALE:GREGORIAN
METHOD:PUBLISH
X-WR-CALNAME:Koncert Rzeszów. Zobacz kto zagra w Rzeszowie!
X-ORIGINAL-URL:https://koncertywrzeszowie.pl
X-WR-CALDESC:Wydarzenia dla Koncert Rzeszów. Zobacz kto zagra w Rzeszowie!
REFRESH-INTERVAL;VALUE=DURATION:PT1H
X-Robots-Tag:noindex
X-PUBLISHED-TTL:PT1H
BEGIN:VTIMEZONE
TZID:Europe/Warsaw
BEGIN:DAYLIGHT
TZOFFSETFROM:+0100
TZOFFSETTO:+0200
TZNAME:CEST
DTSTART:20230326T010000
END:DAYLIGHT
BEGIN:STANDARD
TZOFFSETFROM:+0200
TZOFFSETTO:+0100
TZNAME:CET
DTSTART:20231029T010000
END:STANDARD
BEGIN:DAYLIGHT
TZOFFSETFROM:+0100
TZOFFSETTO:+0200
TZNAME:CEST
DTSTART:20240331T010000
END:DAYLIGHT
BEGIN:STANDARD
TZOFFSETFROM:+0200
TZOFFSETTO:+0100
TZNAME:CET
DTSTART:20241027T010000
END:STANDARD
BEGIN:DAYLIGHT
TZOFFSETFROM:+0100
TZOFFSETTO:+0200
TZNAME:CEST
DTSTART:20250330T010000
END:DAYLIGHT
BEGIN:STANDARD
TZOFFSETFROM:+0200
TZOFFSETTO:+0100
TZNAME:CET
DTSTART:20251026T010000
END:STANDARD
END:VTIMEZONE
BEGIN:VEVENT
DTSTART;TZID=Europe/Warsaw:20240216T190000
DTEND;TZID=Europe/Warsaw:20240216T190000
DTSTAMP:20260420T051938
CREATED:20240103T081432Z
LAST-MODIFIED:20240103T081704Z
UID:10780-1708110000-1708110000@koncertywrzeszowie.pl
SUMMARY:RUSINA - WYGRYWAM ALBO UMRĘ TOUR / RZESZÓW / 16.02
DESCRIPTION:Rusina\, znany traper i reprezentant Def Jam Recordings Poland\, szykuje się do swojej drugiej trasy koncertowej. Na przestrzeni ostatnich dwóch lat zasłynął za sprawą przełomowego debiutu – pokrytej platyną „Energii Wygrywania”. Płyta zawierająca viralowe hity jak „Na Forach”\, „10 Pak” czy „Zemsta” \nTeraz\, z albumem “Ostatnie dni\, przeklętych dni” w ręku\, zamierza wyruszyć w kolejny tour po Polsce. Wraz ze swoim zespołem odwiedzi w sumie 17 miast. \nFani mogą spodziewać się intensywnych\, trapowych koncertów\, które z pewnością dostarczą im niezapomnianych wrażeń. Rusina zaplanował również wiele niespodzianek\, w tym występy gości specjalnych. Po koncertach imprezy przeniosą się do topowych klubów na oficjalne after parties.\nNie może zabraknąć Was pod sceną ! \nKoncert Premierowy RUSINA – WYGRYWAM ALBO UMRĘ TOUR\nLEARNHOWTOHUSTLE x LISTER\nSupport : ? \nData : 16.02.2024 ( piątek )\nLokalizacja : RZESZÓW – POD PALMĄ\nul. Cicha 4a\, https://www.facebook.com/podpalma \n18:00 – Osoby z Biletami Vip\n19:00 – Osoby z Biletami Normalnymi\n22:00 – After Party dla osób pełnoletnich \nBILETY NORMALNE i VIP – MEET&GREET już dostępne ON-LINE na www. STAGE24.pl > https://stage24.pl/events/rusina-pod-palma-1916 \nBILET VIP – MEET&GREET ( Ilość Mocno Ograniczona ! )\n> Spotkanie z RUSINĄ + pamiątkowe zdjęcie.\n> Otrzymujesz opaskę VIP + bilet kolekcjonerski.\n> Otrzymujesz Plakat z autografem Rusiny.\n> Możliwość wygrania zestawów płyt (losowanie na spotkaniu)\n> Możliwość wygrania biletów VIP na kolejny koncert w tym samy klubie.\n> Pierwszeństwo do kupna limitowanego Merchu na koncercie.\n> Wcześniejsze wejście do klubu bez kolejki. \nINFORMACJE ORGANIZATORA:\nWSTĘP NA KONCERT BEZ OGRANICZEŃ WIEKOWYCH !!!\n> Osoby niepełnoletnie muszą mieć ze sobą pisemną zgodę na udział w koncercie od opiekunów prawnych.\n> Osoby\, które nie ukończyły 16 lat mogą wejść na teren koncertu tylko z opiekunem prawnym lub osobą pełnoletnią pisemnie upoważnioną przez opiekunów prawnych na wyłączną odpowiedzialność osoby dorosłej\, pod której pieczą pozostaje przez całe wydarzenie. Opiekun również musi posiadać bilet. \n>>> WZÓR ZGODY : https://www.dropbox.com/s/z2i9l8wju8xsxje/zgoda.png <<< WAŻNE: > Nie ma potrzeby drukowania biletów\, wystarczy pokazać kod QR na telefonie (prosimy maksymalnie rozjaśnić ekran i mieć przygotowany QR w momencie podejścia do osoby obsługującej wejście).\n> Aby dostać się na teren wydarzenia każdy obowiązkowo posiadać musi dokument tożsamości ze zdjęciem.\n> Przypominamy\, że kupując bilety poza oficjalnym kanałem sprzedaży\, np. od osób trzecich możecie zostać oszukani – ryzykujecie w ten sposób kupno fałszywych wejściówek\, które nie umożliwiają wejścia na koncert.
URL:https://koncertywrzeszowie.pl/event/rusina-wygrywam-albo-umre-tour-rzeszow-16-02/
LOCATION:Pod Palmą\, Cicha4a\, Rzeszów\, 35-326\, PL
CATEGORIES:Pod Palmą
ATTACH;FMTTYPE=image/jpeg:https://koncertywrzeszowie.pl/wp-content/uploads/2024/01/10780_image_415757469_755171213304807_8984063653716369753_n.jpg
END:VEVENT
END:VCALENDAR