BEGIN:VCALENDAR
VERSION:2.0
PRODID:-//Koncert Rzeszów. Zobacz kto zagra w Rzeszowie! - ECPv6.15.20//NONSGML v1.0//EN
CALSCALE:GREGORIAN
METHOD:PUBLISH
X-WR-CALNAME:Koncert Rzeszów. Zobacz kto zagra w Rzeszowie!
X-ORIGINAL-URL:https://koncertywrzeszowie.pl
X-WR-CALDESC:Wydarzenia dla Koncert Rzeszów. Zobacz kto zagra w Rzeszowie!
REFRESH-INTERVAL;VALUE=DURATION:PT1H
X-Robots-Tag:noindex
X-PUBLISHED-TTL:PT1H
BEGIN:VTIMEZONE
TZID:Europe/Warsaw
BEGIN:DAYLIGHT
TZOFFSETFROM:+0100
TZOFFSETTO:+0200
TZNAME:CEST
DTSTART:20240331T010000
END:DAYLIGHT
BEGIN:STANDARD
TZOFFSETFROM:+0200
TZOFFSETTO:+0100
TZNAME:CET
DTSTART:20241027T010000
END:STANDARD
BEGIN:DAYLIGHT
TZOFFSETFROM:+0100
TZOFFSETTO:+0200
TZNAME:CEST
DTSTART:20250330T010000
END:DAYLIGHT
BEGIN:STANDARD
TZOFFSETFROM:+0200
TZOFFSETTO:+0100
TZNAME:CET
DTSTART:20251026T010000
END:STANDARD
BEGIN:DAYLIGHT
TZOFFSETFROM:+0100
TZOFFSETTO:+0200
TZNAME:CEST
DTSTART:20260329T010000
END:DAYLIGHT
BEGIN:STANDARD
TZOFFSETFROM:+0200
TZOFFSETTO:+0100
TZNAME:CET
DTSTART:20261025T010000
END:STANDARD
END:VTIMEZONE
BEGIN:VEVENT
DTSTART;TZID=Europe/Warsaw:20251114T180000
DTEND;TZID=Europe/Warsaw:20251115T233000
DTSTAMP:20260422T101721
CREATED:20250917T111857Z
LAST-MODIFIED:20251027T171340Z
UID:12987-1763143200-1763249400@koncertywrzeszowie.pl
SUMMARY:Rockowa Noc 2025
DESCRIPTION:ROCKOWA NOC nadchodzi! \nJuż w listopadzie widzimy się na 20. jubileuszowej edycji Rockowej Nocy! Czekają na Was dwa wieczory mocnego grania i niepowtarzalnej rockowej atmosfery – dokładnie tak jak lubicie najbardziej! \nOdsłaniamy pierwsze karty! \nILLUSION\nILLUSION powstał w 1992 r. w Gdańsku z inicjatywy Tomasza „Lipy” Lipnickiego\, Jurka „Jerrego” Rutkowskiego i Pawła Herbascha\, do których szybko dołączył Jarek Śmigiel. Już rok później wygrali Marlboro Rock-in\, zagrali w Jarocinie i na zagranicznym festiwalu w Gampel. W latach 90. wydali pięć albumów z takimi hitami jak „Nóż”\, „Vendetta” czy „Cierń”\, zdobyli trzy złote płyty i nominacje do Fryderyków. \nW 1999 r.\, u szczytu popularności\, zawiesili działalność\, żegnając się koncertem w gdańskim klubie „Kwadratowa”. Powrócili dopiero w 2008 r. na jednorazowy występ we Wrocławiu\, a w 2011 r. wydali „The Best Of” i zagrali kilka dużych koncertów.\nNa prawdziwy powrót trzeba było poczekać do 2014 r.\, kiedy po 16 latach ukazała się płyta „Opowieści”. Album promowała ogólnopolska trasa\, a limitowana edycja winylowa szybko stała się gratką dla fanów. Od tego czasu Illusion regularnie koncertuje\, potwierdzając\, że wrócił na dobre. \nJAD\nJAD to zespół grający szorstki punk inspirowany polskimi klasykami oraz amerykańskim hardcore. Zespół powstał w Warszawie w 2017 roku i dość szybko zaczął koncertować. Po wydaniu drugiej płyty „Ból” sprawy nabrały rozpędu i ostatnie trzy lata zespół spędził koncertując intensywnie w kraju\, Europie i za oceanem. Rok 2025 przynosi nowy album\, która tak jak wszystkie poprzednie wydawnictwa zespół wydał własnym sumptem.\nOba zespoły zagrają dla Was w sobotę 15 listopada! \nWięcej informacji tutaj: https://koncertywrzeszowie.pl/caly-line-up-rockowej-nocy-2025/ \nStrefa Kultury Studenckiej Politechniki Rzeszowskiej\, ul. Akademicka 8\, Rzeszów \nBILETY :\nI pula dostępna do 5 listopada*: bilet jednodniowy 99 zł\, karnet 129 zł (*lub do wyczerpania biletów)\nII pula dostępna: bilet jednodniowy 139 zł\, karnet 169 zł \nOrganizatorzy:\nRzeszów Stolica Innowacji\nEstrada Rzeszowska\n\nPartnerzy strategiczni:\nSteel Roses MC Rzeszów\nPolitechnika Rzeszowska \nPatroni medialni:\nKoncerty w Rzeszowie\nPolskie Radio Rzeszów\nMuzyczne Retrospekcje\nRadio Centrum\nRockblog33
URL:https://koncertywrzeszowie.pl/event/rockowa-noc-2025/
LOCATION:Strefa Kultury Studenckiej\, Akademicka 8\, Rzeszów\, podkarpackie\, 35-029\, Poland
CATEGORIES:Strefa Kultury Studenckiej
ATTACH;FMTTYPE=image/jpeg:https://koncertywrzeszowie.pl/wp-content/uploads/2025/09/rockowa-noc-2025.jpg
END:VEVENT
END:VCALENDAR