BEGIN:VCALENDAR
VERSION:2.0
PRODID:-//Koncert Rzeszów. Zobacz kto zagra w Rzeszowie! - ECPv6.15.20//NONSGML v1.0//EN
CALSCALE:GREGORIAN
METHOD:PUBLISH
X-WR-CALNAME:Koncert Rzeszów. Zobacz kto zagra w Rzeszowie!
X-ORIGINAL-URL:https://koncertywrzeszowie.pl
X-WR-CALDESC:Wydarzenia dla Koncert Rzeszów. Zobacz kto zagra w Rzeszowie!
REFRESH-INTERVAL;VALUE=DURATION:PT1H
X-Robots-Tag:noindex
X-PUBLISHED-TTL:PT1H
BEGIN:VTIMEZONE
TZID:Europe/Warsaw
BEGIN:DAYLIGHT
TZOFFSETFROM:+0100
TZOFFSETTO:+0200
TZNAME:CEST
DTSTART:20180325T010000
END:DAYLIGHT
BEGIN:STANDARD
TZOFFSETFROM:+0200
TZOFFSETTO:+0100
TZNAME:CET
DTSTART:20181028T010000
END:STANDARD
BEGIN:DAYLIGHT
TZOFFSETFROM:+0100
TZOFFSETTO:+0200
TZNAME:CEST
DTSTART:20190331T010000
END:DAYLIGHT
BEGIN:STANDARD
TZOFFSETFROM:+0200
TZOFFSETTO:+0100
TZNAME:CET
DTSTART:20191027T010000
END:STANDARD
BEGIN:DAYLIGHT
TZOFFSETFROM:+0100
TZOFFSETTO:+0200
TZNAME:CEST
DTSTART:20200329T010000
END:DAYLIGHT
BEGIN:STANDARD
TZOFFSETFROM:+0200
TZOFFSETTO:+0100
TZNAME:CET
DTSTART:20201025T010000
END:STANDARD
END:VTIMEZONE
BEGIN:VEVENT
DTSTART;TZID=Europe/Warsaw:20190824T170000
DTEND;TZID=Europe/Warsaw:20190824T233000
DTSTAMP:20260424T104007
CREATED:20190518T112311Z
LAST-MODIFIED:20190508T112341Z
UID:6392-1566666000-1566689400@koncertywrzeszowie.pl
SUMMARY:Rockowa Noc 2019
DESCRIPTION:Festiwal Rockowa Noc to impreza\, podczas której usłyszeć można gwiazdy polskiej sceny rockowej. To także konkurs dla młodych zespołów\, które nie posiadają kontraktów z wytwórniami fonograficznymi. Dzięki imprezie mają szansę zaprezentować się szerszej publiczności. \n \nW tym roku festiwal odbędzie się w dniu 24 sierpnia 2019r. \nW poprzednich edycjach festiwalu wystąpili między innymi takie zespoły jak: \n\nIllusion\nOddział Zamknięty\nIRA\nCOMA\nTSA\nKSU\nAcid Drinkers\nProletaryat\n\nKto wystąpi podczas tegorocznej edycji festiwalu Rockowa Noc?\nKto wystąpi w tym roku jako gwiazda festiwalu Rockowa No tego jeszcze nie wiemy\, ale już dziś rezerwujemy sobie przedostatnią sobotę wakacji\, czyli dzień 24 sierpnia.
URL:https://koncertywrzeszowie.pl/event/rockowa-noc-2019/
LOCATION:Bulwary rzeszowskie\, Rzeszów
CATEGORIES:Festiwal
ATTACH;FMTTYPE=image/jpeg:https://koncertywrzeszowie.pl/wp-content/uploads/2019/05/rockowa-noc-2019.jpg
END:VEVENT
END:VCALENDAR