BEGIN:VCALENDAR
VERSION:2.0
PRODID:-//Koncert Rzeszów. Zobacz kto zagra w Rzeszowie! - ECPv6.15.20//NONSGML v1.0//EN
CALSCALE:GREGORIAN
METHOD:PUBLISH
X-WR-CALNAME:Koncert Rzeszów. Zobacz kto zagra w Rzeszowie!
X-ORIGINAL-URL:https://koncertywrzeszowie.pl
X-WR-CALDESC:Wydarzenia dla Koncert Rzeszów. Zobacz kto zagra w Rzeszowie!
REFRESH-INTERVAL;VALUE=DURATION:PT1H
X-Robots-Tag:noindex
X-PUBLISHED-TTL:PT1H
BEGIN:VTIMEZONE
TZID:Europe/Warsaw
BEGIN:DAYLIGHT
TZOFFSETFROM:+0100
TZOFFSETTO:+0200
TZNAME:CEST
DTSTART:20180325T010000
END:DAYLIGHT
BEGIN:STANDARD
TZOFFSETFROM:+0200
TZOFFSETTO:+0100
TZNAME:CET
DTSTART:20181028T010000
END:STANDARD
BEGIN:DAYLIGHT
TZOFFSETFROM:+0100
TZOFFSETTO:+0200
TZNAME:CEST
DTSTART:20190331T010000
END:DAYLIGHT
BEGIN:STANDARD
TZOFFSETFROM:+0200
TZOFFSETTO:+0100
TZNAME:CET
DTSTART:20191027T010000
END:STANDARD
BEGIN:DAYLIGHT
TZOFFSETFROM:+0100
TZOFFSETTO:+0200
TZNAME:CEST
DTSTART:20200329T010000
END:DAYLIGHT
BEGIN:STANDARD
TZOFFSETFROM:+0200
TZOFFSETTO:+0100
TZNAME:CET
DTSTART:20201025T010000
END:STANDARD
END:VTIMEZONE
BEGIN:VEVENT
DTSTART;TZID=Europe/Warsaw:20191123T210000
DTEND;TZID=Europe/Warsaw:20191124T020000
DTSTAMP:20260422T102752
CREATED:20191118T104352Z
LAST-MODIFIED:20191118T104352Z
UID:6922-1574542800-1574560800@koncertywrzeszowie.pl
SUMMARY:Rest / Kafar - klub Vinyl
DESCRIPTION:  \nMitch\, a także Klub Vinyl oraz ekipa Dixon37 zapraszają na koncert premierowy REST / KAFAR (Dixon37) w sobotę\, 23.11.2019r.\, w Rzeszowie. \nEvent wchodzi w skład trasy BSNT TOUR 2019 ! \nTej ekipy nie trzeba nikomu przedstawiać. Ulica\, podwórka\, osiedla\, ławki\, warszawski hip-hop. KAFAR DIX37 i Rest Dixon37\, których na scenie poprowadzi DJ JUVSON mają dla Was przygotowany specjalny set koncertowy\, w skład którego wchodzą najlepsze i najbardziej znane utwory tej ekipy. \nEkipa będzie miała ze sobą swoje CD albumy\, więc jeśli macie braki w kolekcji\, to jest to dobra okazja\, by je uzupełnić. \nBilety na koncert\nStandardowe Bilety w cenie 30/40 dostępne niebawem zarówno online jak i stacjonarnie. \nSupporty \nRum WzM Hamski Bruk\n \n  \n  \n  \nPejdżer + DJ MRK\n \n  \n 
URL:https://koncertywrzeszowie.pl/event/rest-kafar-klub-vinyl/
LOCATION:Klub Vinyl\, ul. Piłsudskiego 31\, Rzeszów
CATEGORIES:Klub Vinyl
ATTACH;FMTTYPE=image/jpeg:https://koncertywrzeszowie.pl/wp-content/uploads/2019/11/dixon37-kafar-rest-rzeszow-klub-vinyl.jpg
END:VEVENT
END:VCALENDAR