BEGIN:VCALENDAR
VERSION:2.0
PRODID:-//Koncert Rzeszów. Zobacz kto zagra w Rzeszowie! - ECPv6.15.20//NONSGML v1.0//EN
CALSCALE:GREGORIAN
METHOD:PUBLISH
X-WR-CALNAME:Koncert Rzeszów. Zobacz kto zagra w Rzeszowie!
X-ORIGINAL-URL:https://koncertywrzeszowie.pl
X-WR-CALDESC:Wydarzenia dla Koncert Rzeszów. Zobacz kto zagra w Rzeszowie!
REFRESH-INTERVAL;VALUE=DURATION:PT1H
X-Robots-Tag:noindex
X-PUBLISHED-TTL:PT1H
BEGIN:VTIMEZONE
TZID:Europe/Warsaw
BEGIN:DAYLIGHT
TZOFFSETFROM:+0100
TZOFFSETTO:+0200
TZNAME:CEST
DTSTART:20150329T010000
END:DAYLIGHT
BEGIN:STANDARD
TZOFFSETFROM:+0200
TZOFFSETTO:+0100
TZNAME:CET
DTSTART:20151025T010000
END:STANDARD
BEGIN:DAYLIGHT
TZOFFSETFROM:+0100
TZOFFSETTO:+0200
TZNAME:CEST
DTSTART:20160327T010000
END:DAYLIGHT
BEGIN:STANDARD
TZOFFSETFROM:+0200
TZOFFSETTO:+0100
TZNAME:CET
DTSTART:20161030T010000
END:STANDARD
BEGIN:DAYLIGHT
TZOFFSETFROM:+0100
TZOFFSETTO:+0200
TZNAME:CEST
DTSTART:20170326T010000
END:DAYLIGHT
BEGIN:STANDARD
TZOFFSETFROM:+0200
TZOFFSETTO:+0100
TZNAME:CET
DTSTART:20171029T010000
END:STANDARD
END:VTIMEZONE
BEGIN:VEVENT
DTSTART;TZID=Europe/Warsaw:20161002T180000
DTEND;TZID=Europe/Warsaw:20161002T180000
DTSTAMP:20260424T204149
CREATED:20160819T151416Z
LAST-MODIFIED:20160819T151422Z
UID:3146-1475431200-1475431200@koncertywrzeszowie.pl
SUMMARY:Radek Tarach w klubie Vinyl
DESCRIPTION:Już 2 października\, w niedzielę\, w klubie Vinyl w Rzeszowie odbędzie się koncert Radka Taracha w towarzystwie gitarzysty – Marcina Cieśli. \nWydarzenie odbędzie się o godzinie 18:00 | CENA BILETU: 15 PLN \nO artyście: \nRadek Tarach w 2013 roku wydał swój debiutancki album „Pierwszy krok” sfinansowany w pełni przez ponad 150 fanów na portalu MegaTotal.pl\nUczestniczył w przesłuchaniach jurorskich do programu MUST BE THE MUSIC – Tylko Muzyka. Otrzymał trzy pozytywne opinie – od Kory\, Elżbiety Zapendowskiej oraz Piotra Roguckiego. \nPod koniec 2015 roku dzięki wytwórni MyMusic światło dzienne ujrzał jego wideoklip do utworu „Dobry dzień” \nRadek Tarach – „Dzień dobry„\n \nBrał udział w Young Stars On Tour – największej młodzieżowej trasie po Polsce (Łódź\, Rzeszów\, Katowice\, Szczecin oraz Gdańsk). Uczestnik Young Stars Show (Olsztyn oraz Sopot)\nJego najnowszy singiel wydany w lipcu 2016 nosi tytuł „Niewidzialny” \nWYDARZENIE SKŁADA SIĘ Z DWÓCH CZĘŚCI: KONCERT + SPOTKANIE \nBILETY DO NABYCIA: evenea
URL:https://koncertywrzeszowie.pl/event/radek-tarach-klubie-vinyl/
LOCATION:Klub Vinyl\, ul. Piłsudskiego 31\, Rzeszów
CATEGORIES:Koncerty
ATTACH;FMTTYPE=image/jpeg:https://koncertywrzeszowie.pl/wp-content/uploads/2016/08/Radek_Tarach_Rzeszow-Vinyl.jpg
END:VEVENT
END:VCALENDAR