BEGIN:VCALENDAR
VERSION:2.0
PRODID:-//Koncert Rzeszów. Zobacz kto zagra w Rzeszowie! - ECPv6.15.20//NONSGML v1.0//EN
CALSCALE:GREGORIAN
METHOD:PUBLISH
X-WR-CALNAME:Koncert Rzeszów. Zobacz kto zagra w Rzeszowie!
X-ORIGINAL-URL:https://koncertywrzeszowie.pl
X-WR-CALDESC:Wydarzenia dla Koncert Rzeszów. Zobacz kto zagra w Rzeszowie!
REFRESH-INTERVAL;VALUE=DURATION:PT1H
X-Robots-Tag:noindex
X-PUBLISHED-TTL:PT1H
BEGIN:VTIMEZONE
TZID:Europe/Warsaw
BEGIN:DAYLIGHT
TZOFFSETFROM:+0100
TZOFFSETTO:+0200
TZNAME:CEST
DTSTART:20170326T010000
END:DAYLIGHT
BEGIN:STANDARD
TZOFFSETFROM:+0200
TZOFFSETTO:+0100
TZNAME:CET
DTSTART:20171029T010000
END:STANDARD
BEGIN:DAYLIGHT
TZOFFSETFROM:+0100
TZOFFSETTO:+0200
TZNAME:CEST
DTSTART:20180325T010000
END:DAYLIGHT
BEGIN:STANDARD
TZOFFSETFROM:+0200
TZOFFSETTO:+0100
TZNAME:CET
DTSTART:20181028T010000
END:STANDARD
BEGIN:DAYLIGHT
TZOFFSETFROM:+0100
TZOFFSETTO:+0200
TZNAME:CEST
DTSTART:20190331T010000
END:DAYLIGHT
BEGIN:STANDARD
TZOFFSETFROM:+0200
TZOFFSETTO:+0100
TZNAME:CET
DTSTART:20191027T010000
END:STANDARD
END:VTIMEZONE
BEGIN:VEVENT
DTSTART;TZID=Europe/Warsaw:20180304T170000
DTEND;TZID=Europe/Warsaw:20180304T190000
DTSTAMP:20260419T201855
CREATED:20180218T214916Z
LAST-MODIFIED:20180218T215150Z
UID:4683-1520182800-1520190000@koncertywrzeszowie.pl
SUMMARY:Piotr Nowak Band - koncert pamięci Tadeusza Nalepy
DESCRIPTION:Zapraszamy na koncert pamięci Tadeusza Nalepy w jedenastą rocznicę śmierci.\n \nPrzed koncertem\, o godzinie 15:30\, planowane jest spotkanie dla fanów Artysty i zespołu Breakout pod pomnikiem Tadeusza Nalepy w Rzeszowie. \nKoncert Piotr Nowak Band odbędzie się w sali widowiskowej WDK w Rzeszowie przy ul. Okrzei 7. \nBezpłatne zaproszenia do odbioru: \n\nEstrada Rzeszowska – ul. Jagiellońska 24\nWojewódzki Dom Kultury w Rzeszowie – ul. Okrzei 7\nPolskie Radio Rzeszów – ul. Zamkowa 3
URL:https://koncertywrzeszowie.pl/event/piotr-nowak-band-koncert-pamieci-tadeusza-nalepy/
CATEGORIES:Koncerty,WDK Rzeszów
END:VEVENT
END:VCALENDAR