BEGIN:VCALENDAR
VERSION:2.0
PRODID:-//Koncert Rzeszów. Zobacz kto zagra w Rzeszowie! - ECPv6.15.20//NONSGML v1.0//EN
CALSCALE:GREGORIAN
METHOD:PUBLISH
X-WR-CALNAME:Koncert Rzeszów. Zobacz kto zagra w Rzeszowie!
X-ORIGINAL-URL:https://koncertywrzeszowie.pl
X-WR-CALDESC:Wydarzenia dla Koncert Rzeszów. Zobacz kto zagra w Rzeszowie!
REFRESH-INTERVAL;VALUE=DURATION:PT1H
X-Robots-Tag:noindex
X-PUBLISHED-TTL:PT1H
BEGIN:VTIMEZONE
TZID:Europe/Warsaw
BEGIN:DAYLIGHT
TZOFFSETFROM:+0100
TZOFFSETTO:+0200
TZNAME:CEST
DTSTART:20150329T010000
END:DAYLIGHT
BEGIN:STANDARD
TZOFFSETFROM:+0200
TZOFFSETTO:+0100
TZNAME:CET
DTSTART:20151025T010000
END:STANDARD
BEGIN:DAYLIGHT
TZOFFSETFROM:+0100
TZOFFSETTO:+0200
TZNAME:CEST
DTSTART:20160327T010000
END:DAYLIGHT
BEGIN:STANDARD
TZOFFSETFROM:+0200
TZOFFSETTO:+0100
TZNAME:CET
DTSTART:20161030T010000
END:STANDARD
BEGIN:DAYLIGHT
TZOFFSETFROM:+0100
TZOFFSETTO:+0200
TZNAME:CEST
DTSTART:20170326T010000
END:DAYLIGHT
BEGIN:STANDARD
TZOFFSETFROM:+0200
TZOFFSETTO:+0100
TZNAME:CET
DTSTART:20171029T010000
END:STANDARD
END:VTIMEZONE
BEGIN:VEVENT
DTSTART;TZID=Europe/Warsaw:20161014T200000
DTEND;TZID=Europe/Warsaw:20161014T200000
DTSTAMP:20260424T174844
CREATED:20160826T084946Z
LAST-MODIFIED:20160914T123245Z
UID:3151-1476475200-1476475200@koncertywrzeszowie.pl
SUMMARY:Pidżama Porno w październiku Pod Palmą
DESCRIPTION:Chcesz zrobić prezent swojemu nauczycielowi? Zabierz go na koncert Pidżamy Porno do klubu Pod Palmą w Rzeszowie :) Data idealna 14 października\, piątek\, otwarcie klubu godz. 19:00. \n  \nPidżama Porno – „Do nieba wzięci” \n 
URL:https://koncertywrzeszowie.pl/event/pidzama-porno-pazdzierniku-palma/
LOCATION:Pod Palmą\, Cicha 4a\, Rzeszów
CATEGORIES:Koncerty
ATTACH;FMTTYPE=image/jpeg:https://koncertywrzeszowie.pl/wp-content/uploads/2016/08/pidzama_porno-koncert_w_rzeszowie-pod_palma.jpg
END:VEVENT
END:VCALENDAR