BEGIN:VCALENDAR
VERSION:2.0
PRODID:-//Koncert Rzeszów. Zobacz kto zagra w Rzeszowie! - ECPv6.15.20//NONSGML v1.0//EN
CALSCALE:GREGORIAN
METHOD:PUBLISH
X-WR-CALNAME:Koncert Rzeszów. Zobacz kto zagra w Rzeszowie!
X-ORIGINAL-URL:https://koncertywrzeszowie.pl
X-WR-CALDESC:Wydarzenia dla Koncert Rzeszów. Zobacz kto zagra w Rzeszowie!
REFRESH-INTERVAL;VALUE=DURATION:PT1H
X-Robots-Tag:noindex
X-PUBLISHED-TTL:PT1H
BEGIN:VTIMEZONE
TZID:Europe/Warsaw
BEGIN:DAYLIGHT
TZOFFSETFROM:+0100
TZOFFSETTO:+0200
TZNAME:CEST
DTSTART:20250330T010000
END:DAYLIGHT
BEGIN:STANDARD
TZOFFSETFROM:+0200
TZOFFSETTO:+0100
TZNAME:CET
DTSTART:20251026T010000
END:STANDARD
BEGIN:DAYLIGHT
TZOFFSETFROM:+0100
TZOFFSETTO:+0200
TZNAME:CEST
DTSTART:20260329T010000
END:DAYLIGHT
BEGIN:STANDARD
TZOFFSETFROM:+0200
TZOFFSETTO:+0100
TZNAME:CET
DTSTART:20261025T010000
END:STANDARD
BEGIN:DAYLIGHT
TZOFFSETFROM:+0100
TZOFFSETTO:+0200
TZNAME:CEST
DTSTART:20270328T010000
END:DAYLIGHT
BEGIN:STANDARD
TZOFFSETFROM:+0200
TZOFFSETTO:+0100
TZNAME:CET
DTSTART:20271031T010000
END:STANDARD
END:VTIMEZONE
BEGIN:VEVENT
DTSTART;TZID=Europe/Warsaw:20260201T170000
DTEND;TZID=Europe/Warsaw:20260201T170000
DTSTAMP:20260424T210315
CREATED:20260118T190617Z
LAST-MODIFIED:20260118T190617Z
UID:13236-1769965200-1769965200@koncertywrzeszowie.pl
SUMMARY:Philippe Giusiano\, laureat Konkursu Chopinowskiego\, z recitalem w Rzeszowie
DESCRIPTION:Philippe Giusiano – laureat Konkursu Chopinowskiego – z recitalem w Rzeszowie\nWyjątkowy koncert fortepianowy w Rzeszowie! W niedzielę\, 1 lutego 2026 roku o godz. 17.00 w sali widowiskowej Wojewódzkiego Domu Kultury wystąpi Philippe Giusiano\, laureat II nagrody na XIII Międzynarodowym Konkursie Pianistycznym im. Fryderyka Chopina w Warszawie. \nGłówną część koncertu wypełnią dzieła Mistrza z Żelazowej Woli. W programie znajdzie się także intrygujący akcent. Artysta wraz z pianistką Indrė Eugenija Želvytė zaprezentuje utwory Bacha i Schuberta w duecie na cztery ręce. \nPhilippe Giusiano\nPhilippe Giusiano (ur. 8 stycznia 1973 w Marsylii) rozpoczął swoją przygodę z fortepianem w wieku zaledwie 5 lat. Jego edukacja wiodła przez najbardziej prestiżowe europejskie uczelnie: Narodowe Konserwatorium Muzyczne Regionu Marsylii\, Konserwatorium Paryskie\, salzburskie Mozarteum oraz Konserwatorium Amsterdamskie. Doskonalił swoje umiejętności na kursach mistrzowskich\, m.in. u legendarnego chopinologa\, Jana Ekiera. \nKluczowym momentem w jego karierze było zdobycie II nagrody (ex aequo z Aleksiejem Sułtanowem) na XIII Międzynarodowym Konkursie Pianistycznym im. Fryderyka Chopina w Warszawie w 1995 roku – konkursie\, na którym pierwszej nagrody wówczas nie przyznano. \nJego talent został wcześniej potwierdzony na innych międzynarodowych konkursach\, m.in. zdobył I nagrodę na Konkursie Pianistycznym im. Ferenca Liszta w Pennes-Mirabeau (1986) oraz I nagrodę na Konkursie Pianistycznym im. Dariusa Milhauda (1987). \n  \nEkspert Chopina i pedagog Forum Pianistycznego\nKoncert w Rzeszowie jest częścią prestiżowego XXI Międzynarodowego Forum Pianistycznego „Bieszczady bez granic” Sanok 2026. Warto podkreślić\, że Philippe Giusiano jest od lat związany z tym wydarzeniem nie tylko jako koncertujący artysta. \nFrancuski pianista\, uznawany za autorytet w zakresie twórczości polskiego kompozytora\, jest jednym z wybitnych pedagogów\, którzy prowadzą kursy mistrzowskie w ramach Forum w Sanoku. Jego obecność co roku przyciąga do Polski studentów pianistyki z wielu krajów. Przez lata gościł na Forum obok takich sław jak Kevin Kenner\, Akiko Ebi czy prof. Andrzej Jasiński\, wielokrotnie powracając z koncertami do Polski (m.in. na Międzynarodowy Festiwal Chopinowski w Dusznikach-Zdroju). W 2021 roku był jurorem XVIII Konkursu Chopinowskiego\, co potwierdza jego niekwestionowaną pozycję w świecie chopinowskim. \nWystęp w Rzeszowie\nW repertuarze Giusiano znajdują się utwory m.in. Chopina\, Beethovena\, Rachmaninowa\, Mozarta\, Schumanna\, Ravela\, Prokofjewa i Debussy’ego\, ale to polski kompozytor będzie królował na scenie w WDK.\nIndrė Eugenija Želvytė i Philippe Giusiano zasiądą przy nowym fortepianie koncertowym Bechstein\, który Wojewódzki Dom Kultury w Rzeszowie zakupił pod koniec ubiegłego roku dzięki dotacji Urzędu Marszałkowskiego Województwa Podkarpackiego. To wyjątkowa okazja\, by usłyszeć\, jak brzmi instrument pod palcami mistrza.\nBilety na koncert (cena 40 zł) są dostępne:\n◦ online: https://bilety.kulturapodkarpacka.pl\n◦ w kasie Wojewódzkiego Domu Kultury w Rzeszowie\, ul. Okrzei 7\, tel. 17 853 25 35. \nProgram Koncertu\nJohann Sebastian Bach\nJesu\, Joy of Man’s Desiring z kantaty BWV 147\n(Indrė Eugenija Želvytė – partia I; Philippe Giusiano – partia II) \nFranz Schubert\nFantazja f-moll na fortepian na cztery ręce\, D 940\nAllegro molto moderato – Largo – Allegro – Con delicatezza\n(Indrė Eugenija Želvytė – partia I; Philippe Giusiano – partia II) \nFryderyk Chopin\nBallada nr 2 F-dur\, op. 38\n4 mazurki\, op. 24\nnr 1 g-moll\, nr 2 C-dur\, nr 3 As-dur\, nr 4 b-moll\nPolonez b-moll\, op. posth. Pożegnanie (Les adieux)\nScherzo nr 2 b-moll\, op. 31\n(Philippe Giusiano – fortepian) \n 
URL:https://koncertywrzeszowie.pl/event/philippe-giusiano-laureat-konkursu-chopinowskiego-z-recitalem-w-rzeszowie/
LOCATION:Wojewódzki Dom Kultury w Rzeszowie\, ul. Stefana Okrzei 7\, Rzeszów\, 35-002\, PL
ATTACH;FMTTYPE=image/jpeg:https://koncertywrzeszowie.pl/wp-content/uploads/2026/01/philippe-giusiano-wdk-rzeszow-plakat.jpg
END:VEVENT
END:VCALENDAR