BEGIN:VCALENDAR
VERSION:2.0
PRODID:-//Koncert Rzeszów. Zobacz kto zagra w Rzeszowie! - ECPv6.15.20//NONSGML v1.0//EN
CALSCALE:GREGORIAN
METHOD:PUBLISH
X-WR-CALNAME:Koncert Rzeszów. Zobacz kto zagra w Rzeszowie!
X-ORIGINAL-URL:https://koncertywrzeszowie.pl
X-WR-CALDESC:Wydarzenia dla Koncert Rzeszów. Zobacz kto zagra w Rzeszowie!
REFRESH-INTERVAL;VALUE=DURATION:PT1H
X-Robots-Tag:noindex
X-PUBLISHED-TTL:PT1H
BEGIN:VTIMEZONE
TZID:Europe/Warsaw
BEGIN:DAYLIGHT
TZOFFSETFROM:+0100
TZOFFSETTO:+0200
TZNAME:CEST
DTSTART:20170326T010000
END:DAYLIGHT
BEGIN:STANDARD
TZOFFSETFROM:+0200
TZOFFSETTO:+0100
TZNAME:CET
DTSTART:20171029T010000
END:STANDARD
BEGIN:DAYLIGHT
TZOFFSETFROM:+0100
TZOFFSETTO:+0200
TZNAME:CEST
DTSTART:20180325T010000
END:DAYLIGHT
BEGIN:STANDARD
TZOFFSETFROM:+0200
TZOFFSETTO:+0100
TZNAME:CET
DTSTART:20181028T010000
END:STANDARD
BEGIN:DAYLIGHT
TZOFFSETFROM:+0100
TZOFFSETTO:+0200
TZNAME:CEST
DTSTART:20190331T010000
END:DAYLIGHT
BEGIN:STANDARD
TZOFFSETFROM:+0200
TZOFFSETTO:+0100
TZNAME:CET
DTSTART:20191027T010000
END:STANDARD
END:VTIMEZONE
BEGIN:VEVENT
DTSTART;TZID=Europe/Warsaw:20180307T200000
DTEND;TZID=Europe/Warsaw:20180307T220000
DTSTAMP:20260422T101919
CREATED:20180204T220257Z
LAST-MODIFIED:20230219T201230Z
UID:4476-1520452800-1520460000@koncertywrzeszowie.pl
SUMMARY:Peter J. Birch i Sonia Pisze Piosenki. Koncert w Underground Pub
DESCRIPTION:  \nPeter J. Birch\nGdy w dzisiejszych czasach ktoś decyduje się grać i komponować folk\, alt-country czy americanę\, to musi mieć do tego dobry powód i jeszcze lepsze umiejętności. Tak jest w przypadku Piotra Jana Brzezińskiego\, muzyka\, który już od blisko ośmiu lat udowadnia\, że muzyka gitarowa ma się dobrze pod warunkiem\, że ma się na nią pomysł. Tych pomysłów artyście z Wołowa nie brakuje\, gdyż właśnie prezentuje swoją czwartą długogrającą płytę zatytułowaną „Inner Anxiety”. \nPeter J. Birch\, gdyż pod takim pseudonimem tworzy Brzeziński\, to człowiek-orkiestra\, który niezależnie od tego czy na scenie występuje w pojedynkę czy ze składem muzyków\, potrafi zbudować unikatową atmosferę już po kilku taktach. Swoją karierę zainaugurował w 2010 roku wydając EP-kę „In My Island”. Kolejne wydawnictwa kształtowy jego styl\, który przypadł do gustu nie tylko słuchaczom\, lecz znalazł także uznanie w opinii dziennikarzy czy organizatorów największych festiwali. Na koncie Petera J. Bircha są występy na najważniejszych imprezach w kraju\, takich jak Open’er czy OFF Festival\, lecz także zagranicą\, gdzie miał okazję zaprezentować się publiczności wielu państw Europy. \nStyl Petera J. Bircha przez lata nabierał rumieńców. Ciepłemu brzmieniu gitary akustycznej towarzyszy mocny\, męski głos\, w którym nie brakuje emocji. Warstwa liryczna jest równie ważna co brzmienie\, o czym Brzeziński przekonuje na każdej ze swoich płyt. Choć wachlarz stylistyczny artysty z Wołowa jest szeroki to całokształt twórczości Petera J. Bircha należy uznać za wyjątkowo spójny. Muzykowi udaje się niesłychanie zgrabnie łączyć elementy folku spod znaku Williama Fitzsimmonsa z akcentami alt-country w stylu Ryana Adamsa\, Wilco czy Okkervil River. Co ciekawe\, w brzmieniu Brzezińskiego z łatwością odnajdą się fani Neila Younga czy Nicka Cave’a\, ale trzeba oddać\, że Birchowi nie brakuje odwagi\, by wychodzić poza ramy muzyki gitarowej i eksperymentować z elementami elektroniki\, podobnie jak robią to Damien Rice czy James Vincent McMorrow. Wspólnym mianownikiem wszystkich wcieleń Bircha jest autentyczność\, która wybija się na pierwszy plan niezależnie od towarzyszącego jej dźwiękowego anturażu. Muzyk przekonuje nas o tym na swoim najnowszym krążku „Inner Anxiety”. \nCzwarta płyta w dorobku Brzezińskiego to podróż przez skrajne emocje i style. W najnowszym materiale Bircha nie brakuje surowości i pełnych wyrazistości numerów jak choćby otwierający album „The Magical Rope”. Im dalej\, tym tylko ciekawiej. Melancholia przeplata się z przyjemnym rozmarzeniem\, czego doskonałymi przykładami są „Under The Willows” czy „Tango Bilbao”. Wspaniały flashback do swoich poprzednich dokonań\, muzyk serwuje w „My Dear Ivene”. Birch wielokrotnie puszcza oczko do fanów starszych brzmień\, w tym Johnny’ego Casha. Tak jest w przypadku „Unlovable Man”. Prawdziwą perełką jest jednak „Melinda”\, numer\, od którego po prostu nie da się uwolnić po jednym odsłuchaniu. \nNa „Inner Anxiety” Piotrowi Brzezińskiemu udaje się niesamowita sztuka. Muzyk pozostał wierny doskonale znanej stylistyce\, lecz nie sposób nie odnieść wrażenia\, iż wzniósł swoją twórczość o kolejny poziom wyżej. Wysmakowana\, wypełniona unikatowym\, klimatycznym brzmieniem płyta jest dowodem na to\, że Peter J. Birch to artysta w pełni świadomy swoich umiejętności\, a jednocześnie wciąż poszukujący\, zbierający doświadczenie i inspiracje i przekuwający je w kolejne\, doskonałe nagrania. Tak jest również w przypadku „Inner Anxiety”\, albumu\, który ma wszelkie atuty\, by stać się jedną z najlepszych płyt początku 2018 roku w Polsce.\nZagrał koncert w 18 krajach Europy. Wielkim sukcesem były koncerty na dużych festiwalach jak: Opener Festival (dwukrotnie w 2011 i 2013 roku) OFF Festiwal (2013) w Polsce\, orazMelodica (Niemcy)\, Sounds Of Bronkow (Niemcy) i Poke Festival (Słowacja). \nPeter J. Birch – „Melinda”\n \nSonia pisze piosenki\nSonia Wąsowska pochodzi z Warszawy. Szerszej publiczności dała się poznać za sprawą songwriterskich wieczorków organizowanych w Klubokawiarni Eufemia i\, co przyszło chwilę później\, występów przed duetem Lilly Hates Roses.\nZnalazła się w line upie Off Festivalu\, Halfway Festival\, Spring Breaku\, Alter Fest\, Piotrkoff Art Festival\, Slow Life Festiwal\, Asymmetry Festival\, Opole Songwriters Festival\, oraz Europejskich Targów Muzycznych „Co Jest Grane” \n26 czerwca 2014 ukazała się jej debiutancka epka „Friends to lovers” Singlowy kawałek „Movie Quotes” miał swą premierę w audycji Offensywa w Radiowej Trójce. Na płycie znajdują się cztery utwory utrzymane w folkowej stylistyce.\nMało jest w Polsce dziewczyn z gitarą. Jeszcze mniej\, które swoimi piosenkami poruszają emocje. Sonia mówi\, że inspiruje się głównie Cat Power i Laurą Marling. To bardzo dobre inspiracje\, u nas – nie bójmy się tego powiedzieć – niespotykane. \nMy dorzucamy do tego koszyka jeszcze Marikę Hackman\, utalentowaną songwriterkę z Anglii\, która podąża ścieżkami Laury Marling. Te porównania są jak najbardziej uzasadnione. Na koncercie Sonia występowi w duecie z Kasią z Lilly Hates Roses!
URL:https://koncertywrzeszowie.pl/event/peter-j-birch-i-sonia-pisze-piosenki-koncert-w-underground-pub/
LOCATION:Underground pub\, Matejki 2\, Rzeszów\, Polska
CATEGORIES:Koncerty,Underground Pub
ATTACH;FMTTYPE=image/jpeg:https://koncertywrzeszowie.pl/wp-content/uploads/2018/02/peter_J_Birch-Sonia-pisze_piosenki-Underground.jpg
END:VEVENT
END:VCALENDAR