BEGIN:VCALENDAR
VERSION:2.0
PRODID:-//Koncert Rzeszów. Zobacz kto zagra w Rzeszowie! - ECPv6.15.20//NONSGML v1.0//EN
CALSCALE:GREGORIAN
METHOD:PUBLISH
X-WR-CALNAME:Koncert Rzeszów. Zobacz kto zagra w Rzeszowie!
X-ORIGINAL-URL:https://koncertywrzeszowie.pl
X-WR-CALDESC:Wydarzenia dla Koncert Rzeszów. Zobacz kto zagra w Rzeszowie!
REFRESH-INTERVAL;VALUE=DURATION:PT1H
X-Robots-Tag:noindex
X-PUBLISHED-TTL:PT1H
BEGIN:VTIMEZONE
TZID:Europe/Warsaw
BEGIN:DAYLIGHT
TZOFFSETFROM:+0100
TZOFFSETTO:+0200
TZNAME:CEST
DTSTART:20210328T010000
END:DAYLIGHT
BEGIN:STANDARD
TZOFFSETFROM:+0200
TZOFFSETTO:+0100
TZNAME:CET
DTSTART:20211031T010000
END:STANDARD
BEGIN:DAYLIGHT
TZOFFSETFROM:+0100
TZOFFSETTO:+0200
TZNAME:CEST
DTSTART:20220327T010000
END:DAYLIGHT
BEGIN:STANDARD
TZOFFSETFROM:+0200
TZOFFSETTO:+0100
TZNAME:CET
DTSTART:20221030T010000
END:STANDARD
BEGIN:DAYLIGHT
TZOFFSETFROM:+0100
TZOFFSETTO:+0200
TZNAME:CEST
DTSTART:20230326T010000
END:DAYLIGHT
BEGIN:STANDARD
TZOFFSETFROM:+0200
TZOFFSETTO:+0100
TZNAME:CET
DTSTART:20231029T010000
END:STANDARD
END:VTIMEZONE
BEGIN:VEVENT
DTSTART;TZID=Europe/Warsaw:20220824T210000
DTEND;TZID=Europe/Warsaw:20220824T223000
DTSTAMP:20260419T194442
CREATED:20220822T113752Z
LAST-MODIFIED:20220822T113752Z
UID:8619-1661374800-1661380200@koncertywrzeszowie.pl
SUMMARY:Ostatni Dzień Lata | Koncert zespołu Late Night Poems | Przestrzenie Sztuki Rzeszów
DESCRIPTION:Koncertowa premiera Late Night Poems – Ostatni Dzień Lata\nAbsolutna koncertowa premiera przygotowana specjalnie na potrzeby festiwalu Trans / Misje – Trójmorze 2022. Mistrzowskie połączenie akustycznego jazzu w jego kilku wymiarach ze słowem mówionym w konwencji spoken word / jazz & poetry oraz aktorską interpretacją tekstów twórcy Late Night Poems – Bartłomieja Skubisza w wykonaniu aktora Teatru im. Wandy Siemaszkowej – Roberta Żurka. \nZespół tworzą czołowi muzycy polskiej sceny jazzowej a materiał\, który powstał podczas spontanicznej sesji nagraniowej niesie w sobie ducha wolności\, improwizacji i uważnego słuchania siebie nawzajem. To muzyczna i poetycka podróż krętą ścieżką prowadzącą od plaż Bałtyku\, przez ulice jednego z robotniczych miast i nocne studio w radiu\, aż po egzystencjalne rozważania. \nTak o płycie\, która ukaże się na przełomie roku 2022 / 2023 w limitowanej wersji winylowej nakładem jednego z prestiżowych polskich wydawnictw mówi sam autor: \n– „To album o emocjach. O przyjaźni i miłości\, ale też o samotności\, smutku i tęsknocie. To próba ubrania w słowa i muzykę tego\, co nieuchwytne i tkwiące w najgłębszych zakamarkach naszego jestestwa. To radość z małych rzeczy w niepewnych czasach i opowieść o nieustającej potrzebie prawdziwych\, intensywnych i głębokich relacji\, które w pędzącym i zdigitalizowanym świecie nie zawsze są w stanie przetrwać próbę czasu. To wreszcie pamiątka magicznej podróży trójki przyjaciół w ostatnie dni lata 2020 roku.” \nSkład: \n\nBartłomiej „Eskaubei” Skubisz – słowo\, instrumenty perkusyjne\nPiotr Lemańczyk – kontrabas\, gitara basowa\nMichał Szkil – fortepian\nTomasz Nowak – trąbka\nMaksymilian Olszewski – perkusja\n\nBartłomiej Skubisz „Eskaubei”\nBartłomiej Skubisz „Eskaubei” – raper\, autor tekstów\, animator kultury\, dziennikarz muzyczny\, dj. Aktywny muzycznie pod ponad 20 lat\, pionier kultury hip hop w południowo wschodniej Polsce. Od kilkunastu lat łączy rapowane słowo z muzyką graną na żywo. Od 2014 roku koncertuje i nagrywa w ramach Eskaubei & Tomek Nowak Quartet – zespołu będącego ewenementem na polskiej scenie muzycznej dzięki trwałej fuzji muzyki improwizowanej i rapu\, co ma odzwierciedlenie na 4 dotychczas wydanych płytach zespołu i ponad 150 koncertach w Polsce i za granicą. Eskaubei współtworzy również: Late Night Poems\, Skubisz Lemańczyk Cooperation\, Sophia Grand Club i Subcarpathians. Współpracował m.in. z Agą Zaryan\, Michałem Urbaniakiem\, Orange Trane\, Krzesimirem Dębskim i Vitoldem Rekiem. \nPiotr Lemańczyk\nPiotr Lemańczyk – jest uważany za jednego z najwybitniejszych europejskich basistów jazzowych. Koncertuje i nagrywa z nazwiskami światowego jazzu takimi jak: Walter Smith III /USA/\, Jerry Bergonzi /USA/\, Seamus Blake /USA/\, Dave Kikoski /USA/\, Tim Hagans /USA/\, Brian Melvin /USA/\, Gary Novak /USA/\, Avishai Cohen-tr /Izrael/ \, Soweto Kinch /GB/\, Leszek Możdżer\, Krzesimir Dębski\, Zbigniew Namysłowski\, Dominik Wania\, Krystyna Stańko\, MAP\, Maciej Sikała i innymi. Nagrał osiem autorskich płyt\, które otrzymały znakomite recenzje w takich magazynach jak Down Beat\, JazzTimes\, Jazz Forum\, Jazzpress\, The Guardian. Jest laureatem konkursów jazzowych: Jazz Juniors 95 ́ i 96 ́ w Krakowie\, gdzie został nagrodzony za indywidualność\, kompozycje oraz jako najlepszy instrumentalista. Jazz nad Odrą 96 ́ – nagroda za kompozycje oraz Pomorska Jesień Jazzowa 96 ́\, gdzie otrzymał “Złoty Klucz do Kariery”. Jest członkiem wielu czołowych polskich zespołów jazzowych oraz jedynym Europejczykiem amerykańskiego zespołu BEATLEJAZZ. Ponadto brał udział w nagraniu ponad sześćdziesięciu płyt z topowymi artystami polskiej sceny jazzowej. W ankiecie Jazz Top 2020 Jazz Forum\, głosami Krytyków plasuje się na trzeciej pozycji w kategorii “KONTRABAS” i czwartej jako “MUZYK ROKU”. Jako lider występuje w zespołach: PIOTR LEMAŃCZYK Electric Band\, PIOTR LEMAŃCZYK Acoustic trio. \nMichał Szkil\nMichał Szkil – Pianista\, kompozytor\, pedagog. Absolwent Wydziału Jazzu PWSZ w Nysie oraz Wydziału Jazzu i Muzyki Estradowej Akademii Muzycznej im. Karola Szymanowskiego w Katowicach w klasie fortepianu prof. Wojciecha Niedzieli. Wykładowca na Wydziale Jazzu i Muzyki Rozrywkowej – Uniwersytet Rzeszowski. W 2020 roku uzyskał stopień doktora sztuk muzycznych. Zdobywca wielu nagród na Międzynarodowych Festiwalach Jazzowych. Prowadzi intensywną działalność koncertową występując ze swoim kwartetem w najlepszych salach koncertowych i klubach jazzowych w Polsce i za granicą. Występował m.in.: w Niemczech\, Danii\, Belgii\, Hiszpanii\, Słowacji\, Czechach\, Indiach. Współpracował oraz występował z: Bobby Watson\, Freedie Hendrix\, Anders Bergcrantz\, Essiet Okon Essiet\, Newman Taylor Baker\, John Betsch\, Dominiqe Sanders\, Andy Middleton\, Eric Allen\, Rasul Siddik\, Deborah Brown\, Piotr Baron\, Maciej Sikała\, Robert Majewski\, Grzegorz Nagórski\, Eryk Kulm\, Jerzy Małek\, Akiko\, Lora Szafran\, Dorota Miśkiewicz\, Aga Zaryan\, Cezary Konrad\, Robert Kubiszyn czy Piotr Wojtasik\, z którym ściśle współpracuje do dnia dzisiejszego. \nTomasz Nowak\nTomasz Nowak – współpracownik Nigela Kennedy i Jarosława Śmietany a także muzyków z zespołu Amy Winehouse (obecnie koncertuje w projekcie Amy Lives). Wykładowca akademicki\, ceniony sideman. Współtwórca formacji Eskaubei & Tomek Nowak Quartet będącej ewenementem na polskiej scenie muzycznej. Obecnie współpracuje również z Adamem Nowakiem (Raz Dwa Trzy) i Karimem Martusewiczem (Voo Voo) w projekcie Akustyk Amigos\, a także z Vitoldem Rekiem w projekcie Vitold Rek & the Spark. Przez wiele lat stacjonował w Londynie\, gdzie współtworzył londyńską scenę muzyczną. Koncertował w całej Europie\, w Meksyku\, Ameryce Południowej\, m.in. w Royal Albert Hall\, Ronnie Scott`s czy na festiwalach Glastonbury\, BBC Music – Biggest Weekend. Grał wspólne koncerty z takimi tuzami jak Mike Stern\, Mark King (Level 42)\, Dean Brown\, Michał Urbaniak\, Krzesimir Dębski. \nMaksymilian Olszewski\nMaksymilian Olszewski – przedstawiciel bydgoskiej szkoły perkusji. Współtwórca zespołów The Flash i 3Kings. Członek Eskaubei & Tomek Nowak Quartet i Sophia Grand Club. Grał i nagrywał też z Fours Collective\, Gadabit i Stanisław Słowiński Quintet. Obecnie koncertuje też z Alan Wykpisz Project. Pierwszy laureat nagrody im. Janusza Muniaka przyznawanej w ramach Festiwalu Jazz Juniors. Z Vibe Quartet zdobył w 2017 roku nagrodę Grand Prix XVI Krokus Jazz Festival w Jeleniej Górze. Koncertował m.in. w Azji\, Gruzjii czy Niemczech. Zdobywca 2 miejsca na konkursie perkusyjnym Polish Drummers w Bielsku Białej. Współpracuje z takimi wykonawcami jak: Vitold Rek czy Janusz Radek. \n  \nMiejsca nienumerowane!
URL:https://koncertywrzeszowie.pl/event/ostatni-dzien-lata-koncert-zespolu-late-night-poems-przestrzenie-sztuki-rzeszow/
LOCATION:Dziedziniec Teatru im. W. Siemaszkowej\, ul. Sokoła 7\, Rzeszów\, Poland
CATEGORIES:Koncerty,Teatr im. W. Siemaszkowej
ATTACH;FMTTYPE=image/jpeg:https://koncertywrzeszowie.pl/wp-content/uploads/2022/08/ostatni-dzien-lata.jpg
END:VEVENT
END:VCALENDAR