BEGIN:VCALENDAR
VERSION:2.0
PRODID:-//Koncert Rzeszów. Zobacz kto zagra w Rzeszowie! - ECPv6.15.20//NONSGML v1.0//EN
CALSCALE:GREGORIAN
METHOD:PUBLISH
X-WR-CALNAME:Koncert Rzeszów. Zobacz kto zagra w Rzeszowie!
X-ORIGINAL-URL:https://koncertywrzeszowie.pl
X-WR-CALDESC:Wydarzenia dla Koncert Rzeszów. Zobacz kto zagra w Rzeszowie!
REFRESH-INTERVAL;VALUE=DURATION:PT1H
X-Robots-Tag:noindex
X-PUBLISHED-TTL:PT1H
BEGIN:VTIMEZONE
TZID:Europe/Warsaw
BEGIN:DAYLIGHT
TZOFFSETFROM:+0100
TZOFFSETTO:+0200
TZNAME:CEST
DTSTART:20170326T010000
END:DAYLIGHT
BEGIN:STANDARD
TZOFFSETFROM:+0200
TZOFFSETTO:+0100
TZNAME:CET
DTSTART:20171029T010000
END:STANDARD
BEGIN:DAYLIGHT
TZOFFSETFROM:+0100
TZOFFSETTO:+0200
TZNAME:CEST
DTSTART:20180325T010000
END:DAYLIGHT
BEGIN:STANDARD
TZOFFSETFROM:+0200
TZOFFSETTO:+0100
TZNAME:CET
DTSTART:20181028T010000
END:STANDARD
BEGIN:DAYLIGHT
TZOFFSETFROM:+0100
TZOFFSETTO:+0200
TZNAME:CEST
DTSTART:20190331T010000
END:DAYLIGHT
BEGIN:STANDARD
TZOFFSETFROM:+0200
TZOFFSETTO:+0100
TZNAME:CET
DTSTART:20191027T010000
END:STANDARD
END:VTIMEZONE
BEGIN:VEVENT
DTSTART;TZID=Europe/Warsaw:20180329T170000
DTEND;TZID=Europe/Warsaw:20180329T200000
DTSTAMP:20260425T191543
CREATED:20180215T110727Z
LAST-MODIFIED:20180215T111142Z
UID:4593-1522342800-1522353600@koncertywrzeszowie.pl
SUMMARY:O.Torvald zagra w Rzeszowie w klubie Vinyl
DESCRIPTION:O.Torvald\n29 marca ukraiński zespół rockowy O.Torvald zagra w Rzeszowie w ramach europejskiej. Na koncercie zostanie zaprezentowany materiał z najnowszej płyty chłopaków\, nie zabraknie też najbardziej znanych utworów. \n  \nO.Torvald to ukraiński zespół rockowy\, założony w 2005 roku w Połtawie. W 2006 muzycy przeprowadzili się do Kijowa\, a w 2008 wyszedł ich debiutancki album studyjny zatytułowany po prostu O.Torvald. Druga płyta\, zatytułowana „W tobi„\, ukazała się w 2011 roku. W 2012 roku zespół wydał dwa kolejne albumy długogrające: „Akustycznyj” і „Prymat„. W 2014 wyszła ich piąta płyta studyjna zatytułowana „Ty je„. A w roku 2016 płyta „#NasziLudyWsiudy„. \nW maju 2017 roku reprezentowali Ukrainę w finale 62. Konkursu Piosenki Eurowizji organizowanego w Kijowie. \nObecny skład zespołu \n\nJewhen Hałycz – wokal (od 2005); gitara rytmiczna (od 2011)\nDenys Miziuk – gitara prowadząca\, wokal wspierający (od 2005)\nMykoła Rajda – DJ\, klawiszowiec (od 2008)\nMykyta Wasyliew – gitara basowa\, wokal wspierający (od 2014)\nOłeksandr Sołocha – perkusja (od 2011)\n\nO.TORVALD – Без тебе / Bez Ciebie\n \n 
URL:https://koncertywrzeszowie.pl/event/o-torvald-zagra-w-rzeszowie-w-klubie-vinyl/
LOCATION:Klub Vinyl\, ul. Piłsudskiego 31\, Rzeszów
CATEGORIES:Klub Vinyl,Koncerty
ATTACH;FMTTYPE=image/jpeg:https://koncertywrzeszowie.pl/wp-content/uploads/2018/02/koncert_otorvald_rzeszow_vinyl.jpg
END:VEVENT
END:VCALENDAR