BEGIN:VCALENDAR
VERSION:2.0
PRODID:-//Koncert Rzeszów. Zobacz kto zagra w Rzeszowie! - ECPv6.15.20//NONSGML v1.0//EN
CALSCALE:GREGORIAN
METHOD:PUBLISH
X-WR-CALNAME:Koncert Rzeszów. Zobacz kto zagra w Rzeszowie!
X-ORIGINAL-URL:https://koncertywrzeszowie.pl
X-WR-CALDESC:Wydarzenia dla Koncert Rzeszów. Zobacz kto zagra w Rzeszowie!
REFRESH-INTERVAL;VALUE=DURATION:PT1H
X-Robots-Tag:noindex
X-PUBLISHED-TTL:PT1H
BEGIN:VTIMEZONE
TZID:Europe/Warsaw
BEGIN:DAYLIGHT
TZOFFSETFROM:+0100
TZOFFSETTO:+0200
TZNAME:CEST
DTSTART:20170326T010000
END:DAYLIGHT
BEGIN:STANDARD
TZOFFSETFROM:+0200
TZOFFSETTO:+0100
TZNAME:CET
DTSTART:20171029T010000
END:STANDARD
BEGIN:DAYLIGHT
TZOFFSETFROM:+0100
TZOFFSETTO:+0200
TZNAME:CEST
DTSTART:20180325T010000
END:DAYLIGHT
BEGIN:STANDARD
TZOFFSETFROM:+0200
TZOFFSETTO:+0100
TZNAME:CET
DTSTART:20181028T010000
END:STANDARD
BEGIN:DAYLIGHT
TZOFFSETFROM:+0100
TZOFFSETTO:+0200
TZNAME:CEST
DTSTART:20190331T010000
END:DAYLIGHT
BEGIN:STANDARD
TZOFFSETFROM:+0200
TZOFFSETTO:+0100
TZNAME:CET
DTSTART:20191027T010000
END:STANDARD
END:VTIMEZONE
BEGIN:VEVENT
DTSTART;TZID=Europe/Warsaw:20180505T080000
DTEND;TZID=Europe/Warsaw:20180505T170000
DTSTAMP:20260419T211300
CREATED:20180505T140315Z
LAST-MODIFIED:20180505T140329Z
UID:4820-1525507200-1525539600@koncertywrzeszowie.pl
SUMMARY:Na psa urok - koncert charytatywny
DESCRIPTION:Masz wielkie serce i chęci na dobrą zabawę? Jesteś miłośnikiem zwierząt\, imprez i muzyki? Masz psa\, chcesz mieć psa lub żadne z powyższych\, ale dasz się przekonać\, by to zmienić? A może po prostu chcesz super spędzić czas na atrakcjach i koncertach? \nPrzyjdź 5 maja na imprezę „Na psa urok!” pod scenę przy Bulwarach w Rzeszowie! \nOrganizatorzy akcji „Na psa urok!” tworzonej w ramach projektu „Zwolnieni z teorii”\, w porozumieniu z Rzeszowskim Stowarzyszeniem Ochrony Zwierząt zapraszają na imprezę charytatywną na rzecz lokalnego Schronisko dla zwierząt „Kundelek”. \nProgram imprezy:\n14:00-19:00 – piknik rodzinny\n19:00-22:00 – koncerty \nPIKNIK RODZINNY:\nPokazy tresury\, zumba\, wywiady ze specjalistami\, dmuchane zjeżdżalnie\, konkursy rodzinne z nagrodami\, wata cukrowa\, popcorn\, balony\, występy młodych artystów\, rodzinne gry i zabawy\, atrakcje dla dzieci\, pokazy strażackie\, finał konkursu plastycznego „Na psa urok!”. \nKONCERTY:\n19:00 – Dominika Kobiałka\n19:30 – The Louders\n20:00 – Insani\n20:30 – Clockwork Mind\n21:00 – Le Moor \nZapraszamy do zabierania swoich psiaków\, rodzin\, przyjaciół i tłumów znajomych! Przed wyjściem koniecznie przeszukajcie też kieszenie spodni i zajrzyjcie w zakamarki kanapy\, bo w trakcie wydarzenia będziemy zbierać datki na rzecz Stowarzyszenia. Wolontariusze zbiórki i podopieczni schroniska liczą na waszą hojność! \nŹródło: wydarzenie na facebooku – dołącz :) \n 
URL:https://koncertywrzeszowie.pl/event/na-psa-urok-koncert-charytatywny/
CATEGORIES:Koncerty,Scena na Bulwarach
ATTACH;FMTTYPE=image/jpeg:https://koncertywrzeszowie.pl/wp-content/uploads/2018/05/koncert_charytatywny-na_psa_urok.jpg
END:VEVENT
END:VCALENDAR