BEGIN:VCALENDAR
VERSION:2.0
PRODID:-//Koncert Rzeszów. Zobacz kto zagra w Rzeszowie! - ECPv6.15.20//NONSGML v1.0//EN
CALSCALE:GREGORIAN
METHOD:PUBLISH
X-WR-CALNAME:Koncert Rzeszów. Zobacz kto zagra w Rzeszowie!
X-ORIGINAL-URL:https://koncertywrzeszowie.pl
X-WR-CALDESC:Wydarzenia dla Koncert Rzeszów. Zobacz kto zagra w Rzeszowie!
REFRESH-INTERVAL;VALUE=DURATION:PT1H
X-Robots-Tag:noindex
X-PUBLISHED-TTL:PT1H
BEGIN:VTIMEZONE
TZID:Europe/Warsaw
BEGIN:DAYLIGHT
TZOFFSETFROM:+0100
TZOFFSETTO:+0200
TZNAME:CEST
DTSTART:20190331T010000
END:DAYLIGHT
BEGIN:STANDARD
TZOFFSETFROM:+0200
TZOFFSETTO:+0100
TZNAME:CET
DTSTART:20191027T010000
END:STANDARD
BEGIN:DAYLIGHT
TZOFFSETFROM:+0100
TZOFFSETTO:+0200
TZNAME:CEST
DTSTART:20200329T010000
END:DAYLIGHT
BEGIN:STANDARD
TZOFFSETFROM:+0200
TZOFFSETTO:+0100
TZNAME:CET
DTSTART:20201025T010000
END:STANDARD
BEGIN:DAYLIGHT
TZOFFSETFROM:+0100
TZOFFSETTO:+0200
TZNAME:CEST
DTSTART:20210328T010000
END:DAYLIGHT
BEGIN:STANDARD
TZOFFSETFROM:+0200
TZOFFSETTO:+0100
TZNAME:CET
DTSTART:20211031T010000
END:STANDARD
END:VTIMEZONE
BEGIN:VEVENT
DTSTART;TZID=Europe/Warsaw:20200207T190000
DTEND;TZID=Europe/Warsaw:20200207T210000
DTSTAMP:20260419T203253
CREATED:20191206T132313Z
LAST-MODIFIED:20191206T132337Z
UID:7128-1581102000-1581109200@koncertywrzeszowie.pl
SUMMARY:Michał Wiśniewski akustycznie. Koncert w Kinie Zorza
DESCRIPTION:  \nJuż wkrótce w rzeszowskim kinie Zorza zobaczymy niezwykle klimatyczny koncert Michała Wiśniewskiego z Agatą Buczkowską\, pełen ciepła\, emocji\, ciekawych aranżacji. Michał Wiśniewski jakiego nie znamy. \nMichał Wiśniewski\nPo bardzo dobrym przyjęciu przez publiczność pierwszej odsłony trasy akustycznej Michała Wiśniewskiego „A niech gadają” artysta postanowił ponownie zaprezentować się w odsłonie akustycznej. \nPodczas koncertów będzie można usłyszeć największe przeboje Michała Wiśniewskiego i zespołu Ich Troje\, takie jak „Powiedz”\, „A wszystko to…” czy „Zawsze z Tobą chciałbym być”\, a także wiele innych\, w wersjach akustycznych\, na żywo! \nDużą gratką dla fanów jest fakt\, że pojawią się piosenki niewykonywane do tej pory na koncertach! Zaczarują nas dźwięki płynące z pianina\, basu\, gitary oraz instrumentów perkusyjnych. \nTe koncerty z pewnością pozostaną na długo w pamięci każdemu\, kto postanowi udać się na to muzyczne wydarzenie! \nBilety na koncert\nBilety w cenie od 79 zł dostępnie na portalu biletyna.pl oraz w Podziemnej Trasie Turystycznej oraz w kinie Zorza. \nIch Troje – Powiedz\n \n 
URL:https://koncertywrzeszowie.pl/event/michal-wisniewski-akustycznie-koncert-w-kinie-zorza/
LOCATION:Kino Zorza\, 3 Maja 28\, Rzeszów\, Poland
CATEGORIES:Kino Zorza
ATTACH;FMTTYPE=image/jpeg:https://koncertywrzeszowie.pl/wp-content/uploads/2019/12/michal-wisniewski-akustycznie.jpg
END:VEVENT
END:VCALENDAR