BEGIN:VCALENDAR
VERSION:2.0
PRODID:-//Koncert Rzeszów. Zobacz kto zagra w Rzeszowie! - ECPv6.15.20//NONSGML v1.0//EN
CALSCALE:GREGORIAN
METHOD:PUBLISH
X-WR-CALNAME:Koncert Rzeszów. Zobacz kto zagra w Rzeszowie!
X-ORIGINAL-URL:https://koncertywrzeszowie.pl
X-WR-CALDESC:Wydarzenia dla Koncert Rzeszów. Zobacz kto zagra w Rzeszowie!
REFRESH-INTERVAL;VALUE=DURATION:PT1H
X-Robots-Tag:noindex
X-PUBLISHED-TTL:PT1H
BEGIN:VTIMEZONE
TZID:Europe/Warsaw
BEGIN:DAYLIGHT
TZOFFSETFROM:+0100
TZOFFSETTO:+0200
TZNAME:CEST
DTSTART:20180325T010000
END:DAYLIGHT
BEGIN:STANDARD
TZOFFSETFROM:+0200
TZOFFSETTO:+0100
TZNAME:CET
DTSTART:20181028T010000
END:STANDARD
BEGIN:DAYLIGHT
TZOFFSETFROM:+0100
TZOFFSETTO:+0200
TZNAME:CEST
DTSTART:20190331T010000
END:DAYLIGHT
BEGIN:STANDARD
TZOFFSETFROM:+0200
TZOFFSETTO:+0100
TZNAME:CET
DTSTART:20191027T010000
END:STANDARD
BEGIN:DAYLIGHT
TZOFFSETFROM:+0100
TZOFFSETTO:+0200
TZNAME:CEST
DTSTART:20200329T010000
END:DAYLIGHT
BEGIN:STANDARD
TZOFFSETFROM:+0200
TZOFFSETTO:+0100
TZNAME:CET
DTSTART:20201025T010000
END:STANDARD
END:VTIMEZONE
BEGIN:VEVENT
DTSTART;TZID=Europe/Warsaw:20190303T170000
DTEND;TZID=Europe/Warsaw:20190303T183000
DTSTAMP:20260419T161636
CREATED:20190303T185458Z
LAST-MODIFIED:20190303T185458Z
UID:6170-1551632400-1551637800@koncertywrzeszowie.pl
SUMMARY:Michał Bajor w Rzeszowie.
DESCRIPTION:Od Kofty… do Korcza\nPrawie 45 lat temu Michał Bajor mając niespełna 16 lat wystąpił jednocześnie w konkursie festiwalu w Zielonej Górze i jako gość na festiwalu w Sopocie. Wtedy jedna z nielicznych w Polsce wytwórni płytowych wydała pocztówkę dźwiękową z piosenką śpiewaną przez niego na obu festiwalach. Pocztówkę tę można było kupić w sklepach muzycznych\, a nawet w kioskach Ruchu. Pierwszą dorosłą płytę (jeszcze winylową) Polskie Nagrania wydały wokaliście w 1986 roku. \nNadchodząca kolekcja „Od Kofty… do Korcza„\, niejako podsumowująca kilkadziesiąt lat przygody aktora z piosenką. Będzie dwudziestą pozycją w jego dorobku nagraniowym (nie licząc pocztówki z 1973 roku). A skąd tytuł? Jak wyjaśnia sam Michał Bajor: \n„Kofta\, bo między innymi od jego pięknych i poetyckich tekstów zaczęło się na poważnie moje śpiewanie; a Korcz\, bo tak kapitalnie utrafił w moją muzyczną osobowość\, że od dawna nosiłem się z zamiarem nagrania naraz jego muzycznych\, dla mnie napisanych perełek”. \nNa repertuar jubileuszowego zestawu złożą się najważniejsze utwory w muzycznym życiu wybitnego wokalisty. Te\, o których wydanie od lat proszą fani\, i do których jednocześnie on sam ma szczególny sentyment. Nagrane i zaaranżowane na nowo\, przefiltrowane przez jego dzisiejszą dojrzałość\, wrażliwość oraz świadomość emocjonalną i interpretacyjną\, mogą z powodzeniem stanowić rodzaj klamry dla artystycznej drogi Bajora. \nMateriał zostanie podzielony na dwie części\, które ukażą się nakładem wytwórni Sony Music z półrocznym odstępem. Dla sympatyków Michała Bajora ten zbiór będzie niewątpliwie wymarzoną i niezastąpioną perłą w całej jego dyskografii.
URL:https://koncertywrzeszowie.pl/event/michal-bajor-w-rzeszowie/
CATEGORIES:Filharmonia Podkarpacka
ATTACH;FMTTYPE=image/jpeg:https://koncertywrzeszowie.pl/wp-content/uploads/2019/03/micha_bajor-filharmonia-podkarpacka.jpg
END:VEVENT
END:VCALENDAR