BEGIN:VCALENDAR
VERSION:2.0
PRODID:-//Koncert Rzeszów. Zobacz kto zagra w Rzeszowie! - ECPv6.15.20//NONSGML v1.0//EN
CALSCALE:GREGORIAN
METHOD:PUBLISH
X-WR-CALNAME:Koncert Rzeszów. Zobacz kto zagra w Rzeszowie!
X-ORIGINAL-URL:https://koncertywrzeszowie.pl
X-WR-CALDESC:Wydarzenia dla Koncert Rzeszów. Zobacz kto zagra w Rzeszowie!
REFRESH-INTERVAL;VALUE=DURATION:PT1H
X-Robots-Tag:noindex
X-PUBLISHED-TTL:PT1H
BEGIN:VTIMEZONE
TZID:Europe/Warsaw
BEGIN:DAYLIGHT
TZOFFSETFROM:+0100
TZOFFSETTO:+0200
TZNAME:CEST
DTSTART:20230326T010000
END:DAYLIGHT
BEGIN:STANDARD
TZOFFSETFROM:+0200
TZOFFSETTO:+0100
TZNAME:CET
DTSTART:20231029T010000
END:STANDARD
BEGIN:DAYLIGHT
TZOFFSETFROM:+0100
TZOFFSETTO:+0200
TZNAME:CEST
DTSTART:20240331T010000
END:DAYLIGHT
BEGIN:STANDARD
TZOFFSETFROM:+0200
TZOFFSETTO:+0100
TZNAME:CET
DTSTART:20241027T010000
END:STANDARD
BEGIN:DAYLIGHT
TZOFFSETFROM:+0100
TZOFFSETTO:+0200
TZNAME:CEST
DTSTART:20250330T010000
END:DAYLIGHT
BEGIN:STANDARD
TZOFFSETFROM:+0200
TZOFFSETTO:+0100
TZNAME:CET
DTSTART:20251026T010000
END:STANDARD
END:VTIMEZONE
BEGIN:VEVENT
DTSTART;TZID=Europe/Warsaw:20240407T180000
DTEND;TZID=Europe/Warsaw:20240407T193000
DTSTAMP:20260424T134635
CREATED:20240312T203341Z
LAST-MODIFIED:20240312T203522Z
UID:11076-1712512800-1712518200@koncertywrzeszowie.pl
SUMMARY:Mery Spolsky - Rzeszów / Pod Palmą
DESCRIPTION:Mery Spolsky\nPrzygotujcie się na elektroniczne brzmienia\, mocne basy\, rave’ove rytmy\, które nie pozwolą Wam ustać w miejscu. Ta trasa jest o tańcu do utraty tchu\, odwadze w wyrażaniu siebie i pozbyciu się ograniczeń. Twórczość Mery Spolsky to jednak coś więcej niż dobra zabawa. Artystka jak zwykle ma coś do powiedzenia. Tym razem przygląda się tematom dotyczącym seksualności\, ciałopozytywności\, wstydu\, relacji\, oczekiwań wobec kobiet i daje temu bezkompromisowy wyraz w swoich tekstach. \nMery Spolsky ze swoim powiększonym o perkusje składzie zagra promujące nowy materiał single – „SUKA” i „MARIA PRZED OŁTARZEM” oraz premierowo pozostałe utwory z nadchodzącej płyty. Nie zabraknie także ulubionych przez Ludzi Spolsky hitów z poprzednich albumów „Miło było Pana poznać” i „Dekalog Spolsky”. \n  \nOtwarcie Klubu 18:00 \nBilety:\nI pula 99 PLN\nII pula 109 PLN\nIII pula oraz w dniu koncertu 119 PLN \nBilety z I puli w cenie 99 PLN do nabycia:\n►Kup Bilecik Online: https://kbq.pl/120819\n►Stage24 Online: https://stage24.pl/events/pod-palma-2161 \nPunkty sprzedaży stacjonarnej:\n✶Rzeszów\, ul. Dąbrowskiego 17 (Sklep Muzyczny Riff) \n► Na stronie klubu:\nhttp://palma.rzeszow.pl/\nNa stronie danego wydarzenia na samym dole jest link „zamów bilet”:\n►Klikamy „zamów bilet”:\n►Wypełniamy dane.\n►Na maila przychodzi info z numerem konta.\n►Płacimy przelewem za określona liczbę sztuk.\n►Drukujemy potwierdzenie przelewu i przynosimy je w dniu koncertu/imprezy na bramkę.\n►Za okazaniem potwierdzenia wpłaty wchodzimy do klubu. \n 
URL:https://koncertywrzeszowie.pl/event/mery-spolsky-rzeszow-pod-palma/
CATEGORIES:Pod Palmą
ATTACH;FMTTYPE=image/jpeg:https://koncertywrzeszowie.pl/wp-content/uploads/2024/03/11076_image_424955201_415924327469866_3306648024619252381_n.jpg
END:VEVENT
END:VCALENDAR