BEGIN:VCALENDAR
VERSION:2.0
PRODID:-//Koncert Rzeszów. Zobacz kto zagra w Rzeszowie! - ECPv6.15.20//NONSGML v1.0//EN
CALSCALE:GREGORIAN
METHOD:PUBLISH
X-WR-CALNAME:Koncert Rzeszów. Zobacz kto zagra w Rzeszowie!
X-ORIGINAL-URL:https://koncertywrzeszowie.pl
X-WR-CALDESC:Wydarzenia dla Koncert Rzeszów. Zobacz kto zagra w Rzeszowie!
REFRESH-INTERVAL;VALUE=DURATION:PT1H
X-Robots-Tag:noindex
X-PUBLISHED-TTL:PT1H
BEGIN:VTIMEZONE
TZID:Europe/Warsaw
BEGIN:DAYLIGHT
TZOFFSETFROM:+0100
TZOFFSETTO:+0200
TZNAME:CEST
DTSTART:20240331T010000
END:DAYLIGHT
BEGIN:STANDARD
TZOFFSETFROM:+0200
TZOFFSETTO:+0100
TZNAME:CET
DTSTART:20241027T010000
END:STANDARD
BEGIN:DAYLIGHT
TZOFFSETFROM:+0100
TZOFFSETTO:+0200
TZNAME:CEST
DTSTART:20250330T010000
END:DAYLIGHT
BEGIN:STANDARD
TZOFFSETFROM:+0200
TZOFFSETTO:+0100
TZNAME:CET
DTSTART:20251026T010000
END:STANDARD
BEGIN:DAYLIGHT
TZOFFSETFROM:+0100
TZOFFSETTO:+0200
TZNAME:CEST
DTSTART:20260329T010000
END:DAYLIGHT
BEGIN:STANDARD
TZOFFSETFROM:+0200
TZOFFSETTO:+0100
TZNAME:CET
DTSTART:20261025T010000
END:STANDARD
END:VTIMEZONE
BEGIN:VEVENT
DTSTART;TZID=Europe/Warsaw:20250223T180000
DTEND;TZID=Europe/Warsaw:20250223T180000
DTSTAMP:20260422T102523
CREATED:20250109T141817Z
LAST-MODIFIED:20250109T141817Z
UID:12015-1740333600-1740333600@koncertywrzeszowie.pl
SUMMARY:Lech Janerka w Rzeszowie | Koncert w klubie Pod Palmą
DESCRIPTION:Lech Janerka w Rzeszowie\nLech Janerka – legenda polskiej muzyki alternatywnej – kontynuuje trasę “Gipsowy odlew i inne… “ \nIkona polskiej muzyki alternatywnej\, autor takich hitów jak „Strzeż się tych miejsc”\, „Jezu jak się cieszę” czy „Paragwaj”. Choć skończył 70 lat\, wciąż zachwyca błyskotliwymi tekstami i wnikliwą obserwacją rzeczywistości. \nSzykuje się prawdziwa muzyczna uczta! Lech Janerka\, niezależny duch i artysta z krwi i kości\, zaprezentuje swoje największe przeboje oraz materiał z najnowszej płyty „Gipsowy odlew falsyfikatu”\, która ujrzała światło dzienne po 18 latach ciszy. \n“Gipsowy odlew falsyfikatu”\, zbyt długo oczekiwany album Lecha Janerki\, naprawdę ukazał się jesienią ubiegłego roku. Materiał to równie wytęskniony\, co znakomity\, więc nic dziwnego\, że znalazł się na czołowych miejscach podsumowań roku – w tym na pierwszym w zestawieniu polskich płyt 2023 według „Gazety Wyborczej”\, „Polityki” czy „Onetu” zgarniając po drodze 5 Fryderyków\, m.in. za „Album Roku” i „Najlepszą Piosenkę Roku”. \nJanerka rzadko koncertuje\, ponieważ tworzy i występuje tylko wtedy\, kiedy czuje taką potrzebę i ma coś ważnego do przekazania. Dzięki swojemu bezkompromisowemu podejściu\, po ponad czterech dekadach na scenie – jest żywą legendą rocka. \n  \nBilety na koncert Lecha Janerki w Rzeszowie\nBilety na koncert Lecha Janerki w cenie: \n\nMiejsce siedzące przed sceną na krześle- 140 PLN\nMiejsce siedzące w loży o numerze: 2\,3\,4\,5\,7\,8\,9- 160 PLN\nMiejsce siedzące w loży o numerze: 10\,11\,12- 130 PLN\nMiejsce stojące- 99 PLN\n\ndostępne na KupBilecik\,Stage24 oraz w sklepie muzycznym Riff.
URL:https://koncertywrzeszowie.pl/event/lech-janerka-w-rzeszowie-koncert-w-klubie-pod-palma/
LOCATION:Pod Palmą\, Cicha 4a\, Rzeszów
CATEGORIES:Pod Palmą
ATTACH;FMTTYPE=image/jpeg:https://koncertywrzeszowie.pl/wp-content/uploads/2025/01/lech-janerka-pod-palma-2025-banner.jpg
END:VEVENT
END:VCALENDAR