BEGIN:VCALENDAR
VERSION:2.0
PRODID:-//Koncert Rzeszów. Zobacz kto zagra w Rzeszowie! - ECPv6.15.20//NONSGML v1.0//EN
CALSCALE:GREGORIAN
METHOD:PUBLISH
X-WR-CALNAME:Koncert Rzeszów. Zobacz kto zagra w Rzeszowie!
X-ORIGINAL-URL:https://koncertywrzeszowie.pl
X-WR-CALDESC:Wydarzenia dla Koncert Rzeszów. Zobacz kto zagra w Rzeszowie!
REFRESH-INTERVAL;VALUE=DURATION:PT1H
X-Robots-Tag:noindex
X-PUBLISHED-TTL:PT1H
BEGIN:VTIMEZONE
TZID:Europe/Warsaw
BEGIN:DAYLIGHT
TZOFFSETFROM:+0100
TZOFFSETTO:+0200
TZNAME:CEST
DTSTART:20170326T010000
END:DAYLIGHT
BEGIN:STANDARD
TZOFFSETFROM:+0200
TZOFFSETTO:+0100
TZNAME:CET
DTSTART:20171029T010000
END:STANDARD
BEGIN:DAYLIGHT
TZOFFSETFROM:+0100
TZOFFSETTO:+0200
TZNAME:CEST
DTSTART:20180325T010000
END:DAYLIGHT
BEGIN:STANDARD
TZOFFSETFROM:+0200
TZOFFSETTO:+0100
TZNAME:CET
DTSTART:20181028T010000
END:STANDARD
BEGIN:DAYLIGHT
TZOFFSETFROM:+0100
TZOFFSETTO:+0200
TZNAME:CEST
DTSTART:20190331T010000
END:DAYLIGHT
BEGIN:STANDARD
TZOFFSETFROM:+0200
TZOFFSETTO:+0100
TZNAME:CET
DTSTART:20191027T010000
END:STANDARD
END:VTIMEZONE
BEGIN:VEVENT
DTSTART;TZID=Europe/Warsaw:20181123T190000
DTEND;TZID=Europe/Warsaw:20181123T220000
DTSTAMP:20260425T152712
CREATED:20181123T111704Z
LAST-MODIFIED:20181123T111704Z
UID:5357-1542999600-1543010400@koncertywrzeszowie.pl
SUMMARY:Lady Pank. Koncert Pod Palmą. WYPRZEDANY
DESCRIPTION:„Lady Pank – po 35 latach od debiutu”\nPierwsza płyta zespołu Lady Pank jest dla wielu fanów polskiej muzyki niczym biblia. Przeszła już do historii polskiego rocka jako klasyk. Przez wielu jest określana mianem The Best Of\, bo to właśnie z niej pochodzą największe przeboje Lady Pank: Kryzysowa narzeczona\, Mniej niż zero\, Zamki na piasku\, Vademecum skauta\, Fabryka małp i kilka pozostałych. To z tego albumu\, na początku lat 80\, radiowa Trójka\, jako jedyna wówczas stacja prezentująca muzykę rockową\, wylansowała 10 piosenek czyli dokładnie tyle\, ile znajduje się na płycie (singlem został nawet instrumentalny numer Zakłócenie porządku!). Precedens\, który nie powtórzył się w przypadku żadnej innej polskiej płyty. \nI tak oto dziś\, po 35 latach od premiery tego historycznego albumu\, dostajemy jego remake\, którego wartością dodaną jest plejada artystów\, którzy uświetnili swoimi talentami utwory stworzone blisko 4 dekady temu przez Lady Pank. Lista nazwisk artystów\, którzy przyjęli zaproszenie zespołu do nagrań\, jest imponująca: Nosowska\, Kowalska\, Janerka\, Markowski\, Rojek\, Maleńczuk\, Organek\, Zalewski\, Rogucki\, Wyrostek. Kolejnym prezentem\, który zespół przygotował dla swoich fanów to bonusy w postaci trzech piosenek\, które wprawdzie nie ukazały się na debiutanckim albumie Lady Pank\, ale zostały nagrane i wylansowane jeszcze przed jego ukazaniem się na rynku: Tańcz głupia tańcz\, Mała Lady Punk i Minus 10 w Rio. Wykonanie tej ostatniej przez Katarzynę Nosowską powali na kolana nie tylko fanów tej artystki… \nTrasa koncertowa\nDruga połowa roku to trasa koncertowa pod szyldem LP1\, która obejmie swoim zasięgiem kilkadziesiąt miast w kraju i za granicą. Podczas koncertów zostanie zagrana pierwsza płyta Lady Pank w niezmienionej kolejności\, aranżacjach i\, w kilku przypadkach\, w towarzystwie gości\, którzy zaznaczyli swoją obecność na płycie. Koncertom będzie towarzyszyła oprawa nawiązująca do okresu\, kiedy Lady Pank zaczynało swoją burzliwą karierę czyli z latami 80. Nie zabraknie niespodzianek i zaskoczeń\, którymi zespół Jana Borysewicza i Janusza Panasewicza rzadko rozpieszcza swoich fanów… \nZarówno płyta\, jak i trasa LP1\, zapowiadają się na jedno z najważniejszych wydarzeń 2018 roku na polskim rynku muzycznym.” \nLady Pank – „Tańcz głupia tańcz”\n  \n \n 
URL:https://koncertywrzeszowie.pl/event/lady-pank-koncert-pod-palma-wyprzedany/
LOCATION:Pod Palmą\, Cicha 4a\, Rzeszów
CATEGORIES:Koncerty,Pod Palmą
ATTACH;FMTTYPE=image/jpeg:https://koncertywrzeszowie.pl/wp-content/uploads/2018/11/lady_pank-pod-palma2018.jpg
END:VEVENT
END:VCALENDAR