BEGIN:VCALENDAR
VERSION:2.0
PRODID:-//Koncert Rzeszów. Zobacz kto zagra w Rzeszowie! - ECPv6.15.20//NONSGML v1.0//EN
CALSCALE:GREGORIAN
METHOD:PUBLISH
X-WR-CALNAME:Koncert Rzeszów. Zobacz kto zagra w Rzeszowie!
X-ORIGINAL-URL:https://koncertywrzeszowie.pl
X-WR-CALDESC:Wydarzenia dla Koncert Rzeszów. Zobacz kto zagra w Rzeszowie!
REFRESH-INTERVAL;VALUE=DURATION:PT1H
X-Robots-Tag:noindex
X-PUBLISHED-TTL:PT1H
BEGIN:VTIMEZONE
TZID:Europe/Warsaw
BEGIN:DAYLIGHT
TZOFFSETFROM:+0100
TZOFFSETTO:+0200
TZNAME:CEST
DTSTART:20200329T010000
END:DAYLIGHT
BEGIN:STANDARD
TZOFFSETFROM:+0200
TZOFFSETTO:+0100
TZNAME:CET
DTSTART:20201025T010000
END:STANDARD
BEGIN:DAYLIGHT
TZOFFSETFROM:+0100
TZOFFSETTO:+0200
TZNAME:CEST
DTSTART:20210328T010000
END:DAYLIGHT
BEGIN:STANDARD
TZOFFSETFROM:+0200
TZOFFSETTO:+0100
TZNAME:CET
DTSTART:20211031T010000
END:STANDARD
BEGIN:DAYLIGHT
TZOFFSETFROM:+0100
TZOFFSETTO:+0200
TZNAME:CEST
DTSTART:20220327T010000
END:DAYLIGHT
BEGIN:STANDARD
TZOFFSETFROM:+0200
TZOFFSETTO:+0100
TZNAME:CET
DTSTART:20221030T010000
END:STANDARD
END:VTIMEZONE
BEGIN:VEVENT
DTSTART;TZID=Europe/Warsaw:20210918T163000
DTEND;TZID=Europe/Warsaw:20210918T183000
DTSTAMP:20260425T042134
CREATED:20210826T080216Z
LAST-MODIFIED:20210826T080249Z
UID:7804-1631982600-1631989800@koncertywrzeszowie.pl
SUMMARY:Krzysztof Daukszewicz w programie „Meneliki Nowe“
DESCRIPTION:Najnowszy\, na bieżąco aktualizowany autorski program Krzysztofa Daukszewicza.\nSatyryk opisuje i wyśmiewa absurdy\, do których dochodzi na co dzień w kraju nad Wisłą. Każdy występ może różnić się od poprzedniego\, w zależności od tego\, co akurat dzieje się w świecie polityki. Podczas wydarzenia artyście towarzyszy pianista Mieczysław Grochowski. \n \nKrzysztof Daukszewicz\nKrzysztof Daukszewicz urodził się 30 października 1947 roku w Wichrówie. Jest satyrykiem\, felietonistą\, poetą\, kompozytorem\, gitarzystą i piosenkarzem. Działalność estradową artysta rozpoczął w 1975 r. Pełnił wtedy funkcję dyrektora Miejskiego Domu Kultury w Szczytnie oraz współtworzył kabaret Gwuść. \nJuż w 1976 r. satyryk otrzymał drugą nagrodę na I Biesiadzie Humoru i Satyry w Lidzbarku Warmińskim za swój autorski program „Dookoła Wojtek”\, a zaledwie rok później otrzymał nagrodę Złote Rogi Kozicy na przeglądzie kabaretów w Zakopanem. \nKrzysztof Daukszewicz po przeprowadzce w 1978 r. do Warszawy zaczął występować w kabarecie Na Pięterku. W latach 1979 – 1984 był kierownikiem literackim Teatru na Targówku\, w którym wystawiono dwa programy artysty: satyryczny „Dziury na drodze” oraz musical dla najmłodszych widzów – „Dzieci taty Zeusa„. \nW latach 1983 – 1986 artysta współtworzył z Januszem Gajosem kabaret Hotel Nitz. W 1986 r. otrzymał III nagrodę na Międzynarodowym Konkursie na sztukę teatralną za antywojenną farsę „Cycek”. \nOd 1986 r. do 1990 r. był członkiem kabaretu Pod Egidą. Artysta występuje z własnymi programami satyrycznymi\, realizuje programy w telewizji\, jest także autorem kilkunastu książek. Ma swoją rubrykę w tygodniku „Przegląd„. \nKrzysztof Daukszewicz otrzymał również wiele nagród i odznaczeń\, m.in. Srebrny Medal „Zasłużony Kulturze Gloria Artis” w 2009 r.
URL:https://koncertywrzeszowie.pl/event/krzysztof-daukszewicz-w-programie-meneliki-nowe/
LOCATION:MKD Łańcut\, Kościuszki 15\, Łańcut\, podkarpackie\, 37-100
CATEGORIES:Koncerty
ATTACH;FMTTYPE=image/jpeg:https://koncertywrzeszowie.pl/wp-content/uploads/2021/08/krzysztof-daukszewicz-w-lancucie.jpg
END:VEVENT
END:VCALENDAR