BEGIN:VCALENDAR
VERSION:2.0
PRODID:-//Koncert Rzeszów. Zobacz kto zagra w Rzeszowie! - ECPv6.15.20//NONSGML v1.0//EN
CALSCALE:GREGORIAN
METHOD:PUBLISH
X-WR-CALNAME:Koncert Rzeszów. Zobacz kto zagra w Rzeszowie!
X-ORIGINAL-URL:https://koncertywrzeszowie.pl
X-WR-CALDESC:Wydarzenia dla Koncert Rzeszów. Zobacz kto zagra w Rzeszowie!
REFRESH-INTERVAL;VALUE=DURATION:PT1H
X-Robots-Tag:noindex
X-PUBLISHED-TTL:PT1H
BEGIN:VTIMEZONE
TZID:Europe/Warsaw
BEGIN:DAYLIGHT
TZOFFSETFROM:+0100
TZOFFSETTO:+0200
TZNAME:CEST
DTSTART:20250330T010000
END:DAYLIGHT
BEGIN:STANDARD
TZOFFSETFROM:+0200
TZOFFSETTO:+0100
TZNAME:CET
DTSTART:20251026T010000
END:STANDARD
BEGIN:DAYLIGHT
TZOFFSETFROM:+0100
TZOFFSETTO:+0200
TZNAME:CEST
DTSTART:20260329T010000
END:DAYLIGHT
BEGIN:STANDARD
TZOFFSETFROM:+0200
TZOFFSETTO:+0100
TZNAME:CET
DTSTART:20261025T010000
END:STANDARD
BEGIN:DAYLIGHT
TZOFFSETFROM:+0100
TZOFFSETTO:+0200
TZNAME:CEST
DTSTART:20270328T010000
END:DAYLIGHT
BEGIN:STANDARD
TZOFFSETFROM:+0200
TZOFFSETTO:+0100
TZNAME:CET
DTSTART:20271031T010000
END:STANDARD
END:VTIMEZONE
BEGIN:VEVENT
DTSTART;TZID=Europe/Warsaw:20260428T190000
DTEND;TZID=Europe/Warsaw:20260428T210000
DTSTAMP:20260424T121807
CREATED:20260422T112809Z
LAST-MODIFIED:20260422T112809Z
UID:13439-1777402800-1777410000@koncertywrzeszowie.pl
SUMMARY:Koncert zespołu Strefa Intymna | Kino za Rogiem Cafe
DESCRIPTION:Z okazji wydania debiutanckiej płyty „Oczekiwania” Strefa Intymna pierwszy raz pojawi się w Rzeszowie w Kino za Rogiem Café\, gdzie króluje nie tylko kinematografia\, ale także najlepsza muzyka! \n🧡 28 kwietnia – wtorek | 19:00\n🧡 bilety w cenie I pula: 35 zł\, II pula: 45 zł do nabycia online na kup bilecik  i w kasie kina \nStrefa Intymna\nStrefa Intymna (SI) to zespół muzyczny założony przez doświadczonych songwriterów: Kamilę Dauksz i Tomka Boruch. Utwory SI pokazują\, że na życiowych zakrętach nikt nie jest sam. \n„Wszystkie piosenki na świecie są o miłości. Nasze też. Jednak my nikogo i niczego nie oceniamy. Mówimy\, jak jest – są kłótnie\, rozstania i powroty\, ale też tęsknoty\, nadzieje i rozczarowania. Życie nie jest czarno-białe\, ono mieni się paletą barw\, z którą eksperymentujemy w naszych piosenkach” \n– mówią o sobie artyści. \nStrefa Intymna ma na koncie znakomite przyjęte single\, które złożyły się na debiutancki koncept-album „Oczekiwania” (premiera: kwiecień 2026). Na krążku można usłyszeć wyjątkowych gości\, m.in. Kubę Jurzyka\, Adama Kalinowskiego\, Gosię Oleszczuk z zespołu CHRUST\, Mateusza Krautwursta czy Meg Mell. \nSpotkania z SI są zawsze pełne dobrej energii i nieoczywistych muzycznych niespodzianek. Oczywiście: nie brakuje powodów do wzruszeń. To\, co dla artystów najważniejsze w spotkaniach z publiką na żywo\, to spontaniczny i autentyczny kontakt z widzami.
URL:https://koncertywrzeszowie.pl/event/koncert-zespolu-strefa-intymna-kino-za-rogiem-cafe/
LOCATION:Kino za Rogiem Café Rzeszów\, Św. Mikołaja 6\, Rzeszów\, 35-001\, PL
CATEGORIES:Kino za Rogiem
ATTACH;FMTTYPE=image/jpeg:https://koncertywrzeszowie.pl/wp-content/uploads/2026/04/strefa-intymna-kino-za-rogiem-koncerty-rzeszow-2026.jpg
END:VEVENT
END:VCALENDAR