BEGIN:VCALENDAR
VERSION:2.0
PRODID:-//Koncert Rzeszów. Zobacz kto zagra w Rzeszowie! - ECPv6.15.20//NONSGML v1.0//EN
CALSCALE:GREGORIAN
METHOD:PUBLISH
X-WR-CALNAME:Koncert Rzeszów. Zobacz kto zagra w Rzeszowie!
X-ORIGINAL-URL:https://koncertywrzeszowie.pl
X-WR-CALDESC:Wydarzenia dla Koncert Rzeszów. Zobacz kto zagra w Rzeszowie!
REFRESH-INTERVAL;VALUE=DURATION:PT1H
X-Robots-Tag:noindex
X-PUBLISHED-TTL:PT1H
BEGIN:VTIMEZONE
TZID:Europe/Warsaw
BEGIN:DAYLIGHT
TZOFFSETFROM:+0100
TZOFFSETTO:+0200
TZNAME:CEST
DTSTART:20220327T010000
END:DAYLIGHT
BEGIN:STANDARD
TZOFFSETFROM:+0200
TZOFFSETTO:+0100
TZNAME:CET
DTSTART:20221030T010000
END:STANDARD
BEGIN:DAYLIGHT
TZOFFSETFROM:+0100
TZOFFSETTO:+0200
TZNAME:CEST
DTSTART:20230326T010000
END:DAYLIGHT
BEGIN:STANDARD
TZOFFSETFROM:+0200
TZOFFSETTO:+0100
TZNAME:CET
DTSTART:20231029T010000
END:STANDARD
BEGIN:DAYLIGHT
TZOFFSETFROM:+0100
TZOFFSETTO:+0200
TZNAME:CEST
DTSTART:20240331T010000
END:DAYLIGHT
BEGIN:STANDARD
TZOFFSETFROM:+0200
TZOFFSETTO:+0100
TZNAME:CET
DTSTART:20241027T010000
END:STANDARD
END:VTIMEZONE
BEGIN:VEVENT
DTSTART;TZID=Europe/Warsaw:20231109T200000
DTEND;TZID=Europe/Warsaw:20231109T220000
DTSTAMP:20260424T140207
CREATED:20231103T145328Z
LAST-MODIFIED:20231103T145328Z
UID:10511-1699560000-1699567200@koncertywrzeszowie.pl
SUMMARY:Koncert zespołu OCZA. Rzeszów Pub Spółdzielczy
DESCRIPTION:  \n09 listopada\, o godz. 20:00 zapraszamy Was na koncert zespółu OCZA! \nOcza to piątka doświadczonych muzyków\, którzy połączyli swoje dotychczasowe inspiracje by stworzyć coś świeżego. Ich muzyka to fuzja stylów – znajdziemy w niej elementy trip hopu\, reggae\, electro\, rocka\, jazzu czy nawet folku. Inspirowani pop artem i brytyjską sceną alternatywną lat 90. tworzą utwory bardzo zróżnicowane z mocnym ładunkiem syntezatorowych brzmień\, spojone wszechobecnym transowym groovem\, melodyjnymi gitarami i intrygującym wokalem. \nTo muzyka o miłości\, śmierci i szukaniu siebie w postindustrialnej rzeczywistości. \nSkład zespołu OCZA:\nEla Kulczycka-Fejdasz – wokal\nPiotr Grzegrzółka – bas\nJan Jabłoński – syntezatory\nBartosz Ługowski – gitara\nMarek Twardowski – perkusja \nBilety w cenie 20zł.  \n\nOCZA – Głodna\n \n\n 
URL:https://koncertywrzeszowie.pl/event/koncert-zespolu-ocza-rzeszow-pub-spoldzielczy/
LOCATION:Pub Spółdzielczy Rzeszów\, Aleksandra Fredry 4\, Rzeszów\, podkarpackie\, 35-235\, Poland
CATEGORIES:Pub Spółdzielczy
ATTACH;FMTTYPE=image/jpeg:https://koncertywrzeszowie.pl/wp-content/uploads/2023/11/ocza-koncert-pub-spoldzielczy-2023-11-09.jpg
END:VEVENT
END:VCALENDAR