BEGIN:VCALENDAR
VERSION:2.0
PRODID:-//Koncert Rzeszów. Zobacz kto zagra w Rzeszowie! - ECPv6.15.20//NONSGML v1.0//EN
CALSCALE:GREGORIAN
METHOD:PUBLISH
X-WR-CALNAME:Koncert Rzeszów. Zobacz kto zagra w Rzeszowie!
X-ORIGINAL-URL:https://koncertywrzeszowie.pl
X-WR-CALDESC:Wydarzenia dla Koncert Rzeszów. Zobacz kto zagra w Rzeszowie!
REFRESH-INTERVAL;VALUE=DURATION:PT1H
X-Robots-Tag:noindex
X-PUBLISHED-TTL:PT1H
BEGIN:VTIMEZONE
TZID:Europe/Warsaw
BEGIN:DAYLIGHT
TZOFFSETFROM:+0100
TZOFFSETTO:+0200
TZNAME:CEST
DTSTART:20240331T010000
END:DAYLIGHT
BEGIN:STANDARD
TZOFFSETFROM:+0200
TZOFFSETTO:+0100
TZNAME:CET
DTSTART:20241027T010000
END:STANDARD
BEGIN:DAYLIGHT
TZOFFSETFROM:+0100
TZOFFSETTO:+0200
TZNAME:CEST
DTSTART:20250330T010000
END:DAYLIGHT
BEGIN:STANDARD
TZOFFSETFROM:+0200
TZOFFSETTO:+0100
TZNAME:CET
DTSTART:20251026T010000
END:STANDARD
BEGIN:DAYLIGHT
TZOFFSETFROM:+0100
TZOFFSETTO:+0200
TZNAME:CEST
DTSTART:20260329T010000
END:DAYLIGHT
BEGIN:STANDARD
TZOFFSETFROM:+0200
TZOFFSETTO:+0100
TZNAME:CET
DTSTART:20261025T010000
END:STANDARD
END:VTIMEZONE
BEGIN:VEVENT
DTSTART;TZID=Europe/Warsaw:20250425T200000
DTEND;TZID=Europe/Warsaw:20250425T200000
DTSTAMP:20260424T152330
CREATED:20250225T175737Z
LAST-MODIFIED:20250423T110818Z
UID:12242-1745611200-1745611200@koncertywrzeszowie.pl
SUMMARY:Zmiana terminu! Koncert zespołu BROWN. Rockowa Noc from the Basement vol. 3
DESCRIPTION:Koncert zespołu BROWN. Rockowa Noc from the Basement vol. 3 \nPo 5 latach przerwy na scenę wraca zespół BROWN! Reaktywacja zespołu dokona się 25 kwietnia w ramach Rockowej Nocy from the Basement. \nGrupa ma na koncie setki koncertów oraz cztery znakomicie przyjęte albumy studyjne: BROWN (2005)\, Półświatło (2009)\, Po nieboskłonie (2013) i Trzy Słońca (2018). Zespół działał nieprzerwanie w latach 2001-2020. Wielokrotnie doceniany nagrodami\, zdobył sobie szerokie uznanie publiczności. \nTeraz\, po pięcioletniej przerwie\, BROWN powraca w swoim pierwotnym składzie: \n\nMarcin Sułek – głos\nŁukasz Rączy – perkusja\nMarcin Barański – bas\nPaweł Rączy – gitara\n\nBilety na koncert zespołu BROWN\nBilety na koncert zespołu BROWN dostępne na stronie: bilety.rzeszowskiepiwnice.pl w cenie 50zł. \n  \nBROWN – „Gdy się modlę“\n \n  \nSprawdź wszystkie koncerty w ramach „Rockowa Noc from the Basement“\nSceptic. Rockowa Noc from the Basement \n \nSARS i TOWOT Rockowa Noc from the Basement vol 2 \n \nZmiana terminu! Koncert zespołu BROWN. Rockowa Noc from the Basement vol. 3 \n \n 
URL:https://koncertywrzeszowie.pl/event/koncert-zespolu-brown-rockowa-noc-from-the-basement-vol-3/
LOCATION:Rzeszowskie Piwnice\, Rynek 26\, Rzeszów\, 35-062\, PL
CATEGORIES:Koncerty,Rzeszowskie Piwnice
ATTACH;FMTTYPE=image/jpeg:https://koncertywrzeszowie.pl/wp-content/uploads/2025/02/koncert-zespolu-brown-rockowa-noc.jpg
END:VEVENT
END:VCALENDAR