BEGIN:VCALENDAR
VERSION:2.0
PRODID:-//Koncert Rzeszów. Zobacz kto zagra w Rzeszowie! - ECPv6.15.20//NONSGML v1.0//EN
CALSCALE:GREGORIAN
METHOD:PUBLISH
X-WR-CALNAME:Koncert Rzeszów. Zobacz kto zagra w Rzeszowie!
X-ORIGINAL-URL:https://koncertywrzeszowie.pl
X-WR-CALDESC:Wydarzenia dla Koncert Rzeszów. Zobacz kto zagra w Rzeszowie!
REFRESH-INTERVAL;VALUE=DURATION:PT1H
X-Robots-Tag:noindex
X-PUBLISHED-TTL:PT1H
BEGIN:VTIMEZONE
TZID:Europe/Warsaw
BEGIN:DAYLIGHT
TZOFFSETFROM:+0100
TZOFFSETTO:+0200
TZNAME:CEST
DTSTART:20160327T010000
END:DAYLIGHT
BEGIN:STANDARD
TZOFFSETFROM:+0200
TZOFFSETTO:+0100
TZNAME:CET
DTSTART:20161030T010000
END:STANDARD
BEGIN:DAYLIGHT
TZOFFSETFROM:+0100
TZOFFSETTO:+0200
TZNAME:CEST
DTSTART:20170326T010000
END:DAYLIGHT
BEGIN:STANDARD
TZOFFSETFROM:+0200
TZOFFSETTO:+0100
TZNAME:CET
DTSTART:20171029T010000
END:STANDARD
BEGIN:DAYLIGHT
TZOFFSETFROM:+0100
TZOFFSETTO:+0200
TZNAME:CEST
DTSTART:20180325T010000
END:DAYLIGHT
BEGIN:STANDARD
TZOFFSETFROM:+0200
TZOFFSETTO:+0100
TZNAME:CET
DTSTART:20181028T010000
END:STANDARD
END:VTIMEZONE
BEGIN:VEVENT
DTSTART;TZID=Europe/Warsaw:20170505T200000
DTEND;TZID=Europe/Warsaw:20170505T233000
DTSTAMP:20260422T101844
CREATED:20170412T150427Z
LAST-MODIFIED:20170412T150527Z
UID:3648-1494014400-1494027000@koncertywrzeszowie.pl
SUMMARY:Koncert zespołów Divine Weep + Monasterium + Factor 8 w klubie Vinyl
DESCRIPTION:Na dzień 5 maja 2017 r. zaplanowano w Rzeszowie koncert będący częścią trasy koncertowej „Tour of the Ages 2017” białostockiego\, heavymetalowego zespołu Divine Weep\, który promuje album „Tears of the Ages” wydany w lipcu 2016 r. przez ukraińską wytwórnię Metal Scrap Records Inc. \nW swojej historii zespół grywał jako support takich formacji jak: Turbo\, Hunter\, Kat & Roman Kostrzewski\, Vader\, Blaze Bayley (ex-Iron Maiden). Latem 2016 roku zagrał na dwóch dużych festiwalach w towarzystwie takich formacji jak Behemoth\, Saxon\, Candlemass\, Primal Fear\, Iron Savior etc.\nwww.facebook.com/divineweep \n\n\n\nOprócz Divine Weep zagrają również: \nMonasterium – ich muzyka to nowe spojrzenie na metalową klasykę spod znaku Candlemass\, Black Sabbath czy wczesnego Manowar. W 2016 roku nakładem greckiej wytwórni No Remorse Records ukazał się ich debiutancki album „Monasterium”. Obecnie zespół promuje wydany materiał zbierając entuzjastyczne recenzje w polskich oraz zagranicznych magazynach\, portalach i programach muzycznych. W drugiej połowie 2016 roku Monasterium zagrał mini trasę po Polsce oraz pojawił się w składzie zagranicznych festiwali (Malta Doom Metal Festival\, Doom over Vienna – the Austrian Doom Metal Fest\, Hammer Of Doom Festival).\nwww.facebook.com/monasteriumdoom \nFACTOR 8 – zespół swoją działalność rozpoczął w 2009 roku\, z inicjatywy Mariusza Lemańskiego (gitara) oraz Bartka Wojciechowskiego (wokal). Panowie obrali sobie za cel płynne połączenie heavy metalu\, power metalu\, rocka progresywnego oraz gitarowej wirtuozerii\, opartej o takie wzorce jak Iron Maiden\, Rush\, Saxon\, Yngwiee Malmsteen\, King Crimson\, Accept\, Symphony X\, Dream Theater\, Joe Satriani czy Steve Vai. Po licznych zmianach składu oraz problemach od zespołu niezależnych\, w 2015 roku światło dzienne ujrzała ich debiutancka płyta „The Valkyries”\, a niedługo po niej ustabilizował się skład zespołu\, uzupełniony przez Arkadiusza Kaczmarka (gitara)\, Tomasza Madeja (perkusja) oraz Krzysztofa Wyszomirskiego (bas). Zespół ma za sobą liczne koncerty\, między innymi jako support takich legend polskiej sceny metalowej jak Vader\, Kat czy Turbo oraz z zespołami znanymi na scenach lokalnych jak Alhena\, Okash\, Tiberius czy Unborn Suffer. W planach zespołu jest wydanie teledysku oraz nagranie drugiej płyty w roku 2017.\nwww.facebook.com/Factor8pl
URL:https://koncertywrzeszowie.pl/event/koncert-zespolow-divine-weep-monasterium-factor-8-w-klubie-vinyl/
LOCATION:Klub Vinyl\, ul. Piłsudskiego 31\, Rzeszów
CATEGORIES:Koncerty
ATTACH;FMTTYPE=image/jpeg:https://koncertywrzeszowie.pl/wp-content/uploads/2017/04/tour_of_the_ages-koncert_rzeszow_vinyl.jpg
END:VEVENT
END:VCALENDAR