BEGIN:VCALENDAR
VERSION:2.0
PRODID:-//Koncert Rzeszów. Zobacz kto zagra w Rzeszowie! - ECPv6.15.20//NONSGML v1.0//EN
CALSCALE:GREGORIAN
METHOD:PUBLISH
X-WR-CALNAME:Koncert Rzeszów. Zobacz kto zagra w Rzeszowie!
X-ORIGINAL-URL:https://koncertywrzeszowie.pl
X-WR-CALDESC:Wydarzenia dla Koncert Rzeszów. Zobacz kto zagra w Rzeszowie!
REFRESH-INTERVAL;VALUE=DURATION:PT1H
X-Robots-Tag:noindex
X-PUBLISHED-TTL:PT1H
BEGIN:VTIMEZONE
TZID:Europe/Warsaw
BEGIN:DAYLIGHT
TZOFFSETFROM:+0100
TZOFFSETTO:+0200
TZNAME:CEST
DTSTART:20230326T010000
END:DAYLIGHT
BEGIN:STANDARD
TZOFFSETFROM:+0200
TZOFFSETTO:+0100
TZNAME:CET
DTSTART:20231029T010000
END:STANDARD
BEGIN:DAYLIGHT
TZOFFSETFROM:+0100
TZOFFSETTO:+0200
TZNAME:CEST
DTSTART:20240331T010000
END:DAYLIGHT
BEGIN:STANDARD
TZOFFSETFROM:+0200
TZOFFSETTO:+0100
TZNAME:CET
DTSTART:20241027T010000
END:STANDARD
BEGIN:DAYLIGHT
TZOFFSETFROM:+0100
TZOFFSETTO:+0200
TZNAME:CEST
DTSTART:20250330T010000
END:DAYLIGHT
BEGIN:STANDARD
TZOFFSETFROM:+0200
TZOFFSETTO:+0100
TZNAME:CET
DTSTART:20251026T010000
END:STANDARD
END:VTIMEZONE
BEGIN:VEVENT
DTSTART;TZID=Europe/Warsaw:20241130T193000
DTEND;TZID=Europe/Warsaw:20241130T230000
DTSTAMP:20260422T102148
CREATED:20240917T125808Z
LAST-MODIFIED:20241120T124854Z
UID:11554-1732995000-1733007600@koncertywrzeszowie.pl
SUMMARY:Koncert Zenek Kupatasa + Secesja w Undegroundzie
DESCRIPTION:Zenek Kupatasa przyjeżdża z zespołem do Rzeszowa! Idzie w pogo na każdym koncercie i rozdaje przytulasy. Zaraża pozytywną energią\, dajcie się jej porwać i przybywajcie pod scenę! Otworzy koncert zespół Secesja\, \n18:30 – wejście\n19:30-20:10 – Secesja\n20:30-22:30 – Zenek Kupatasa \nZenek Kupatasa\nZenek Kupatasa to kopciuszek polskiej sceny niezależnej\, którego „nie dadzą rady włożyć do szuflady\, bo wyskoczy z niej”. Od 1997 roku czynnie tworzy\, pisze piosenki i wydaje płyty własnym sumptem. Mając 15 lat założył zespół Kabanos\, któremu przewodził przez 21 lat. Obecnie tworzy w ramach solowej działalności\, a kwintesencją jego stylu są punkmetalowe\, motywujące hymny ze swoistą dla niego filozofią\, nieprzynależną twardo do żadnej konwencji\, a stawiającą na szczerość\, wrażliwość\, humor i wolność przekazu. Na koncertach nigdy nie wiadomo\, co się wydarzy. Jego koncerty zawsze są otwarte na publikę\, gdzie zaciera się granica między zespołem\, a publicznością. Wspomagają go w tym na scenie gitarzysta Jurek\, basista Włodek i perkusista Boguś. \nSkład:\nZenek Kupatasa – wokal\, gitara\nJurek Dostałsię-Halapenio – gitara\nWłodek Bombel-Świszczypała – bas\nBoguś Bambaryła – perkusja \nSecesja\nPoczątki naszego grania sięgają 1994 roku. Gramy punk rock a z czasem doszła nutka mocniejszego brzmienia. Pierwotny skład: Goły – bas i wokal\, Nicek – gitara\, Maro – perkusja. W 1997 roku ukazała się pierwsza kaseta „Nietolerancja” wydana przez „The Naturat”. W 1999 roku do zespołu dołączyła Dagmara – wokal. W tym samym roku ukazała się druga kaseta „Secession”\, wydana przez „Stradom Terror”. W 2001 roku ukazała się kolejna kaseta zatytułowana „… nie ómie tańczyć?!”\, którą nagraliśmy w składzie: Goły\, Szurak – gitara\, Maro. \nW 2006 roku pojawiła się płyta: „… nie ómie tańczyć?! – wydanie naprawione” wraz z nowymi numerami. Przez kolejne lata graliśmy koncerty w składzie: Goły\, Pasza – gitara\, Maro. Po powrocie do zespołu Szuraka\, w 2014 roku na Rockowisku Hajnówka w przeglądzie kapel zdobyliśmy II miejsce z kapel z Polski i z zagranicy a I miejsce z kapel z Polski. W 2015 roku graliśmy na Rockowisku w kolejnej edycji na koncercie gwiazd. \nW 2015 roku nagraliśmy Singiel „321” w składzie: Goły\, Szurak\, Maro. W tym samym roku nagraliśmy akustycznie kilka utworów. Od 2019 roku mamy dostępne Reedycje naszych wszystkich albumów na płytach CD wraz z BONUS-ami. Skład zespołu się zmieniał przez lata. Trzon kapeli jest niezmienny (Goły i Maro) a gitarzyści przychodzą\, odchodzą a czasem wracają. Młody – gitara od 2017 roku. W 2023 roku nagraliśmy i wydaliśmy nowy album „Wolność nieprzeklęta”! \n  \nBilety na stronie kup bilecik.
URL:https://koncertywrzeszowie.pl/event/koncert-zenek-kupatasa-secesja-w-undegroundzie/
CATEGORIES:Underground Pub
ATTACH;FMTTYPE=image/jpeg:https://koncertywrzeszowie.pl/wp-content/uploads/2024/09/zenek-kupatasa-secesja-underground-rzeszow-2024.jpg
END:VEVENT
END:VCALENDAR