BEGIN:VCALENDAR
VERSION:2.0
PRODID:-//Koncert Rzeszów. Zobacz kto zagra w Rzeszowie! - ECPv6.15.20//NONSGML v1.0//EN
CALSCALE:GREGORIAN
METHOD:PUBLISH
X-WR-CALNAME:Koncert Rzeszów. Zobacz kto zagra w Rzeszowie!
X-ORIGINAL-URL:https://koncertywrzeszowie.pl
X-WR-CALDESC:Wydarzenia dla Koncert Rzeszów. Zobacz kto zagra w Rzeszowie!
REFRESH-INTERVAL;VALUE=DURATION:PT1H
X-Robots-Tag:noindex
X-PUBLISHED-TTL:PT1H
BEGIN:VTIMEZONE
TZID:Europe/Warsaw
BEGIN:DAYLIGHT
TZOFFSETFROM:+0100
TZOFFSETTO:+0200
TZNAME:CEST
DTSTART:20160327T010000
END:DAYLIGHT
BEGIN:STANDARD
TZOFFSETFROM:+0200
TZOFFSETTO:+0100
TZNAME:CET
DTSTART:20161030T010000
END:STANDARD
BEGIN:DAYLIGHT
TZOFFSETFROM:+0100
TZOFFSETTO:+0200
TZNAME:CEST
DTSTART:20170326T010000
END:DAYLIGHT
BEGIN:STANDARD
TZOFFSETFROM:+0200
TZOFFSETTO:+0100
TZNAME:CET
DTSTART:20171029T010000
END:STANDARD
BEGIN:DAYLIGHT
TZOFFSETFROM:+0100
TZOFFSETTO:+0200
TZNAME:CEST
DTSTART:20180325T010000
END:DAYLIGHT
BEGIN:STANDARD
TZOFFSETFROM:+0200
TZOFFSETTO:+0100
TZNAME:CET
DTSTART:20181028T010000
END:STANDARD
END:VTIMEZONE
BEGIN:VEVENT
DTSTART;TZID=Europe/Warsaw:20170211T200000
DTEND;TZID=Europe/Warsaw:20170211T200000
DTSTAMP:20260419T162655
CREATED:20170113T223806Z
LAST-MODIFIED:20170113T223810Z
UID:3305-1486843200-1486843200@koncertywrzeszowie.pl
SUMMARY:Koncert Ich Troje w klubie Life House Rzeszów
DESCRIPTION:Po sukcesie koncertu Jubileuszowego w Polsacie\, występie na Stadionie Narodowym w Warszawie – Ich Troje rusza w trasę koncertową po klubach aby być jeszcze bliżej publiczności w ramach promocji najnowszego albumu Michała Wiśniewskiego „Nierdzewny” oraz „Remixed” Ich Troje. \nNajwiększe przeboje od „A Wszystko Bo Ciebie Kocham” przez „Powiedz” czy „Wypijmy Za To” aż po najnowsze „Papierosy\, Wóda\, Sex” czy „Wab Milion Bab”. \nMichał i Jacek w najlepszej formie okraszeni przez aksamitny damski wokal :-) Nie może Was zabraknąć !!! Zapraszamy ! \n  \nICH TROJE VIDEO – „A Wszystko Bo Ciebie Kocham”\n \n 
URL:https://koncertywrzeszowie.pl/event/koncert-troje-klubie-life-house-rzeszow/
LOCATION:Life House\, Rejtana 1\, Rzeszów\, Polska
CATEGORIES:Koncerty
ATTACH;FMTTYPE=image/jpeg:https://koncertywrzeszowie.pl/wp-content/uploads/2017/01/ich_troje_rzeszow_koncert.jpg
END:VEVENT
END:VCALENDAR