BEGIN:VCALENDAR
VERSION:2.0
PRODID:-//Koncert Rzeszów. Zobacz kto zagra w Rzeszowie! - ECPv6.15.20//NONSGML v1.0//EN
CALSCALE:GREGORIAN
METHOD:PUBLISH
X-WR-CALNAME:Koncert Rzeszów. Zobacz kto zagra w Rzeszowie!
X-ORIGINAL-URL:https://koncertywrzeszowie.pl
X-WR-CALDESC:Wydarzenia dla Koncert Rzeszów. Zobacz kto zagra w Rzeszowie!
REFRESH-INTERVAL;VALUE=DURATION:PT1H
X-Robots-Tag:noindex
X-PUBLISHED-TTL:PT1H
BEGIN:VTIMEZONE
TZID:Europe/Warsaw
BEGIN:DAYLIGHT
TZOFFSETFROM:+0100
TZOFFSETTO:+0200
TZNAME:CEST
DTSTART:20200329T010000
END:DAYLIGHT
BEGIN:STANDARD
TZOFFSETFROM:+0200
TZOFFSETTO:+0100
TZNAME:CET
DTSTART:20201025T010000
END:STANDARD
BEGIN:DAYLIGHT
TZOFFSETFROM:+0100
TZOFFSETTO:+0200
TZNAME:CEST
DTSTART:20210328T010000
END:DAYLIGHT
BEGIN:STANDARD
TZOFFSETFROM:+0200
TZOFFSETTO:+0100
TZNAME:CET
DTSTART:20211031T010000
END:STANDARD
BEGIN:DAYLIGHT
TZOFFSETFROM:+0100
TZOFFSETTO:+0200
TZNAME:CEST
DTSTART:20220327T010000
END:DAYLIGHT
BEGIN:STANDARD
TZOFFSETFROM:+0200
TZOFFSETTO:+0100
TZNAME:CET
DTSTART:20221030T010000
END:STANDARD
END:VTIMEZONE
BEGIN:VEVENT
DTSTART;TZID=Europe/Warsaw:20211218T180000
DTEND;TZID=Europe/Warsaw:20211218T200000
DTSTAMP:20260419T174016
CREATED:20211206T234328Z
LAST-MODIFIED:20211206T235039Z
UID:7982-1639850400-1639857600@koncertywrzeszowie.pl
SUMMARY:Koncert symfoniczny
DESCRIPTION:ORKIESTRA SYMFONICZNA FILHARMONII PODKARPACKIEJ\nTOMASZ CHMIEL– dyrygent\nMAGDA NIEDBAŁA – SOLARZ– mezzosopran\nPIOTR KWINTA– baryton \nW programie m.in.:\nW. A. Mozart; W. Gomez; J. F. Wade; A. Adam; C. Franc – Panis Angelicus; L. Masson
URL:https://koncertywrzeszowie.pl/event/koncert-symfoniczny/
LOCATION:Filharmonia Podkarpacka im. Artura Malawskiego w Rzeszowie\, ul. Chopina 30\, Rzeszów\, 35-959\, PL
CATEGORIES:Filharmonia Podkarpacka
ATTACH;FMTTYPE=image/jpeg:https://koncertywrzeszowie.pl/wp-content/uploads/2021/12/7982_image_259914000_1933566953471035_8941054696101405909_n.jpg
END:VEVENT
END:VCALENDAR