BEGIN:VCALENDAR
VERSION:2.0
PRODID:-//Koncert Rzeszów. Zobacz kto zagra w Rzeszowie! - ECPv6.15.20//NONSGML v1.0//EN
CALSCALE:GREGORIAN
METHOD:PUBLISH
X-WR-CALNAME:Koncert Rzeszów. Zobacz kto zagra w Rzeszowie!
X-ORIGINAL-URL:https://koncertywrzeszowie.pl
X-WR-CALDESC:Wydarzenia dla Koncert Rzeszów. Zobacz kto zagra w Rzeszowie!
REFRESH-INTERVAL;VALUE=DURATION:PT1H
X-Robots-Tag:noindex
X-PUBLISHED-TTL:PT1H
BEGIN:VTIMEZONE
TZID:Europe/Warsaw
BEGIN:DAYLIGHT
TZOFFSETFROM:+0100
TZOFFSETTO:+0200
TZNAME:CEST
DTSTART:20210328T010000
END:DAYLIGHT
BEGIN:STANDARD
TZOFFSETFROM:+0200
TZOFFSETTO:+0100
TZNAME:CET
DTSTART:20211031T010000
END:STANDARD
BEGIN:DAYLIGHT
TZOFFSETFROM:+0100
TZOFFSETTO:+0200
TZNAME:CEST
DTSTART:20220327T010000
END:DAYLIGHT
BEGIN:STANDARD
TZOFFSETFROM:+0200
TZOFFSETTO:+0100
TZNAME:CET
DTSTART:20221030T010000
END:STANDARD
BEGIN:DAYLIGHT
TZOFFSETFROM:+0100
TZOFFSETTO:+0200
TZNAME:CEST
DTSTART:20230326T010000
END:DAYLIGHT
BEGIN:STANDARD
TZOFFSETFROM:+0200
TZOFFSETTO:+0100
TZNAME:CET
DTSTART:20231029T010000
END:STANDARD
END:VTIMEZONE
BEGIN:VEVENT
DTSTART;TZID=Europe/Warsaw:20220128T190000
DTEND;TZID=Europe/Warsaw:20220128T210000
DTSTAMP:20260419T174633
CREATED:20220107T101502Z
LAST-MODIFIED:20220107T101951Z
UID:8284-1643396400-1643403600@koncertywrzeszowie.pl
SUMMARY:Koncert symfoniczny. Karol Szwech i Marcin Świątkiewicz
DESCRIPTION:ORKIESTRA SYMFONICZNA FILHARMONII PODKARPACKIEJ\nKAROL SZWECH – dyrygent\nMARCIN ŚWIĄTKIEWICZ – klawesyn \nW programie:\nH. M. Górecki – Koncert na klawesyn i orkiestrę\nJ. S. Bach – Koncert klawesynowy d-moll BWV 1052 \n  \nKoncert rozpoczną efektowne Trzy utwory autorstwa Henryka Mikołaja Góreckiego napisane na początku lat 60 – tych XX stulecia\, których tytuł sugeruje nawiązanie do dawnych epok. \nW podobnym stylu utrzymany będzie quasi bachowski Koncert na klawesyn i orkiestrę (1980) Góreckiego zestawiony w programie z Koncertem klawesynowym d – moll J. S. Bacha. Dzieło\, którego pierwowzorem był prawdopodobnie koncert na skrzypce pokazuje mistrzostwo sztuki kontrapunktycznej barokowego kompozytora. \nOba pełne energii koncerty klawesynowe dają soliście możliwość zabłyśnięcia wirtuozowską grą. Zwieńczeniem wieczoru będzie dzieło pochodzące z epoki romantyzmu – III Symfonia „Szkocka” (1842) Feliksa Mendelssohna. Utwór uważany jest za czołowe osiągnięcie niemieckiego kompozytora w dziedzinie twórczości orkiestrowej.
URL:https://koncertywrzeszowie.pl/event/koncert-symfoniczny-karol-szwech-i-marcin-swiatkiewicz/
LOCATION:Filharmonia Podkarpacka im. Artura Malawskiego w Rzeszowie\, ul. Chopina 30\, Rzeszów\, 35-959\, PL
CATEGORIES:Filharmonia Podkarpacka,Koncerty
ATTACH;FMTTYPE=image/jpeg:https://koncertywrzeszowie.pl/wp-content/uploads/2022/01/8284_image_269706816_1954709291356801_4384331528289620548_n.jpg
END:VEVENT
END:VCALENDAR