BEGIN:VCALENDAR
VERSION:2.0
PRODID:-//Koncert Rzeszów. Zobacz kto zagra w Rzeszowie! - ECPv6.15.20//NONSGML v1.0//EN
CALSCALE:GREGORIAN
METHOD:PUBLISH
X-WR-CALNAME:Koncert Rzeszów. Zobacz kto zagra w Rzeszowie!
X-ORIGINAL-URL:https://koncertywrzeszowie.pl
X-WR-CALDESC:Wydarzenia dla Koncert Rzeszów. Zobacz kto zagra w Rzeszowie!
REFRESH-INTERVAL;VALUE=DURATION:PT1H
X-Robots-Tag:noindex
X-PUBLISHED-TTL:PT1H
BEGIN:VTIMEZONE
TZID:Europe/Warsaw
BEGIN:DAYLIGHT
TZOFFSETFROM:+0100
TZOFFSETTO:+0200
TZNAME:CEST
DTSTART:20200329T010000
END:DAYLIGHT
BEGIN:STANDARD
TZOFFSETFROM:+0200
TZOFFSETTO:+0100
TZNAME:CET
DTSTART:20201025T010000
END:STANDARD
BEGIN:DAYLIGHT
TZOFFSETFROM:+0100
TZOFFSETTO:+0200
TZNAME:CEST
DTSTART:20210328T010000
END:DAYLIGHT
BEGIN:STANDARD
TZOFFSETFROM:+0200
TZOFFSETTO:+0100
TZNAME:CET
DTSTART:20211031T010000
END:STANDARD
BEGIN:DAYLIGHT
TZOFFSETFROM:+0100
TZOFFSETTO:+0200
TZNAME:CEST
DTSTART:20220327T010000
END:DAYLIGHT
BEGIN:STANDARD
TZOFFSETFROM:+0200
TZOFFSETTO:+0100
TZNAME:CET
DTSTART:20221030T010000
END:STANDARD
END:VTIMEZONE
BEGIN:VEVENT
DTSTART;TZID=Europe/Warsaw:20211211T203000
DTEND;TZID=Europe/Warsaw:20211211T220000
DTSTAMP:20260425T030928
CREATED:20211208T224021Z
LAST-MODIFIED:20211208T224707Z
UID:8139-1639254600-1639260000@koncertywrzeszowie.pl
SUMMARY:Koncert Mikołajkowy zespołu Piece of Cake w Morgan Pub
DESCRIPTION:W sobotę 11.12.2021\, w Morgan Pub Rzeszów\, odbędzie się specjalny Koncert Mikołajkowy!\nZagra zespół Piece of Cake!! \nWstęp bezpłatny
URL:https://koncertywrzeszowie.pl/event/koncert-mikolajkowy-zespolu-piece-of-cake-w-morgan-pub/
LOCATION:Morgan Pub\, Pułaskiego 13\, Rzeszów\, 35-011\, Poland
CATEGORIES:Morgan Pub
ATTACH;FMTTYPE=image/jpeg:https://koncertywrzeszowie.pl/wp-content/uploads/2021/12/8139_image_261680936_2716129202020310_1712245529734631755_n.jpg
END:VEVENT
END:VCALENDAR