BEGIN:VCALENDAR
VERSION:2.0
PRODID:-//Koncert Rzeszów. Zobacz kto zagra w Rzeszowie! - ECPv6.15.20//NONSGML v1.0//EN
CALSCALE:GREGORIAN
METHOD:PUBLISH
X-WR-CALNAME:Koncert Rzeszów. Zobacz kto zagra w Rzeszowie!
X-ORIGINAL-URL:https://koncertywrzeszowie.pl
X-WR-CALDESC:Wydarzenia dla Koncert Rzeszów. Zobacz kto zagra w Rzeszowie!
REFRESH-INTERVAL;VALUE=DURATION:PT1H
X-Robots-Tag:noindex
X-PUBLISHED-TTL:PT1H
BEGIN:VTIMEZONE
TZID:Europe/Warsaw
BEGIN:DAYLIGHT
TZOFFSETFROM:+0100
TZOFFSETTO:+0200
TZNAME:CEST
DTSTART:20150329T010000
END:DAYLIGHT
BEGIN:STANDARD
TZOFFSETFROM:+0200
TZOFFSETTO:+0100
TZNAME:CET
DTSTART:20151025T010000
END:STANDARD
BEGIN:DAYLIGHT
TZOFFSETFROM:+0100
TZOFFSETTO:+0200
TZNAME:CEST
DTSTART:20160327T010000
END:DAYLIGHT
BEGIN:STANDARD
TZOFFSETFROM:+0200
TZOFFSETTO:+0100
TZNAME:CET
DTSTART:20161030T010000
END:STANDARD
BEGIN:DAYLIGHT
TZOFFSETFROM:+0100
TZOFFSETTO:+0200
TZNAME:CEST
DTSTART:20170326T010000
END:DAYLIGHT
BEGIN:STANDARD
TZOFFSETFROM:+0200
TZOFFSETTO:+0100
TZNAME:CET
DTSTART:20171029T010000
END:STANDARD
END:VTIMEZONE
BEGIN:VEVENT
DTSTART;VALUE=DATE:20160526
DTEND;VALUE=DATE:20160528
DTSTAMP:20260426T012635
CREATED:20160516T194907Z
LAST-MODIFIED:20160516T194952Z
UID:3061-1464228000-1464314399@koncertywrzeszowie.pl
SUMMARY:Koncert Jednego Serca Jednego Ducha 2016
DESCRIPTION:Pomysłodawcą koncertu jest Jan Budziaszek\, od 1965r. perkusista zespołu Skaldowie z Krakowa. Grał on m.in. z Tomaszem Stańką\, Januszem Muniakiem\, Jarosławem Śmietaną\, a także z Marylą Rodowicz i z grupą “Pod Budą”. Jest autorem “Dzienniczka Perkusisty”. W części IV jeden rozdział poświęcił koncertowi “Jednego Serca Jednego Ducha” z 2003r. \nPomysłu na takie spotkanie modlitewne nie udałoby się zrealizować\, gdyby nie pomoc dwóch rzeszowskich księży – ks. Andrzeja Cyprysia (Duszpasterza Akademickiego WSIiZ w Rzeszowie) i ks. Mariusza Mika (Duszpasterza Odnowy w Duchu Świętym Diecezji Rzeszowskiej)\, którzy w ramach współpracy z KSM Diecezji Rzeszowskiej dokładają starań\, aby wszystko było jak najlepiej. \nźródło: JednegoSerca
URL:https://koncertywrzeszowie.pl/event/koncert-jednego-serca-jednego-ducha-2016/
LOCATION:Park Sybiraków\, Ofiar Katynia\, Rzeszów
CATEGORIES:Koncerty
ATTACH;FMTTYPE=image/png:https://koncertywrzeszowie.pl/wp-content/uploads/2016/05/Koncert_Jednego_Serca_Jednego_Ducha.png
END:VEVENT
END:VCALENDAR