BEGIN:VCALENDAR
VERSION:2.0
PRODID:-//Koncert Rzeszów. Zobacz kto zagra w Rzeszowie! - ECPv6.15.20//NONSGML v1.0//EN
CALSCALE:GREGORIAN
METHOD:PUBLISH
X-WR-CALNAME:Koncert Rzeszów. Zobacz kto zagra w Rzeszowie!
X-ORIGINAL-URL:https://koncertywrzeszowie.pl
X-WR-CALDESC:Wydarzenia dla Koncert Rzeszów. Zobacz kto zagra w Rzeszowie!
REFRESH-INTERVAL;VALUE=DURATION:PT1H
X-Robots-Tag:noindex
X-PUBLISHED-TTL:PT1H
BEGIN:VTIMEZONE
TZID:Europe/Warsaw
BEGIN:DAYLIGHT
TZOFFSETFROM:+0100
TZOFFSETTO:+0200
TZNAME:CEST
DTSTART:20130331T010000
END:DAYLIGHT
BEGIN:STANDARD
TZOFFSETFROM:+0200
TZOFFSETTO:+0100
TZNAME:CET
DTSTART:20131027T010000
END:STANDARD
BEGIN:DAYLIGHT
TZOFFSETFROM:+0100
TZOFFSETTO:+0200
TZNAME:CEST
DTSTART:20140330T010000
END:DAYLIGHT
BEGIN:STANDARD
TZOFFSETFROM:+0200
TZOFFSETTO:+0100
TZNAME:CET
DTSTART:20141026T010000
END:STANDARD
BEGIN:DAYLIGHT
TZOFFSETFROM:+0100
TZOFFSETTO:+0200
TZNAME:CEST
DTSTART:20150329T010000
END:DAYLIGHT
BEGIN:STANDARD
TZOFFSETFROM:+0200
TZOFFSETTO:+0100
TZNAME:CET
DTSTART:20151025T010000
END:STANDARD
END:VTIMEZONE
BEGIN:VEVENT
DTSTART;TZID=Europe/Warsaw:20140329T180000
DTEND;TZID=Europe/Warsaw:20140329T180000
DTSTAMP:20260424T104933
CREATED:20140215T090410Z
LAST-MODIFIED:20140317T155758Z
UID:1041-1396116000-1396116000@koncertywrzeszowie.pl
SUMMARY:KAT z Romanem Kostrzewskim w klubie Pod Palmą
DESCRIPTION:29 marca 2014 w Rzeszowie zagra legenda sceny metalowej\, zespół KAT z Romanem Kostrzewskim\n  \n  \n  \nZespół wystąpi w rzeszowskim klubie POD PALMĄ w ramach promocji nowego albumu „Rarities„. \nPłyta „Rarities” zawiera utwory nigdy dotąd niepublikowane- studyjne oraz koncertowe z lat 80-tych\, do tego clip z utworem „Menaced”\, czyli specjalną wersją utworu „Porwany obłędem”. \nPłyta autoryzowana przez członków zespołu KAT – gwiazdy na firmamencie polskiej muzyki metalowej. To grupa\, która przez lata wypracowała swój wyjątkowy styl\, wzbudzała wiele kontrowersji i gromadziła pod sceną tłumy fanów\, zaspokajając głód ciężkiego brzmienia. Krążek „Rarities” to perełka\, którą wielbiciele zespołu muszą mieć na swojej półce. To starannie dobrana mieszanka kompozycji z legendarnego okresu działalności grupy\, które do tej pory nie pojawiły się jeszcze na żadnym z wydawnictw! \n  \n 
URL:https://koncertywrzeszowie.pl/event/kat-z-romanem-kostrzewskim-w-klubie-pod-palma/
LOCATION:Pod Palmą\, Cicha 4a\, Rzeszów
CATEGORIES:Koncerty
ATTACH;FMTTYPE=image/jpeg:https://koncertywrzeszowie.pl/wp-content/uploads/2014/01/kat-roman-kostrzewski-pod-palma-rzeszow-2014-03-29.jpg
END:VEVENT
END:VCALENDAR