BEGIN:VCALENDAR
VERSION:2.0
PRODID:-//Koncert Rzeszów. Zobacz kto zagra w Rzeszowie! - ECPv6.15.20//NONSGML v1.0//EN
CALSCALE:GREGORIAN
METHOD:PUBLISH
X-WR-CALNAME:Koncert Rzeszów. Zobacz kto zagra w Rzeszowie!
X-ORIGINAL-URL:https://koncertywrzeszowie.pl
X-WR-CALDESC:Wydarzenia dla Koncert Rzeszów. Zobacz kto zagra w Rzeszowie!
REFRESH-INTERVAL;VALUE=DURATION:PT1H
X-Robots-Tag:noindex
X-PUBLISHED-TTL:PT1H
BEGIN:VTIMEZONE
TZID:Europe/Warsaw
BEGIN:DAYLIGHT
TZOFFSETFROM:+0100
TZOFFSETTO:+0200
TZNAME:CEST
DTSTART:20160327T010000
END:DAYLIGHT
BEGIN:STANDARD
TZOFFSETFROM:+0200
TZOFFSETTO:+0100
TZNAME:CET
DTSTART:20161030T010000
END:STANDARD
BEGIN:DAYLIGHT
TZOFFSETFROM:+0100
TZOFFSETTO:+0200
TZNAME:CEST
DTSTART:20170326T010000
END:DAYLIGHT
BEGIN:STANDARD
TZOFFSETFROM:+0200
TZOFFSETTO:+0100
TZNAME:CET
DTSTART:20171029T010000
END:STANDARD
BEGIN:DAYLIGHT
TZOFFSETFROM:+0100
TZOFFSETTO:+0200
TZNAME:CEST
DTSTART:20180325T010000
END:DAYLIGHT
BEGIN:STANDARD
TZOFFSETFROM:+0200
TZOFFSETTO:+0100
TZNAME:CET
DTSTART:20181028T010000
END:STANDARD
END:VTIMEZONE
BEGIN:VEVENT
DTSTART;TZID=Europe/Warsaw:20170908T200000
DTEND;TZID=Europe/Warsaw:20170908T233000
DTSTAMP:20260425T213451
CREATED:20170824T102924Z
LAST-MODIFIED:20180213T204135Z
UID:3809-1504900800-1504913400@koncertywrzeszowie.pl
SUMMARY:KaeN w Rzeszowie. Klub Vinyl
DESCRIPTION:Kaen to były członek formacji RSA Konqrent. Jako twórca solowy zadebiutował w 2008 roku nielegalem pt. „Żyj albo umieraj”. Współpracował ponadto m.in. z takimi wykonawcami jak: Słoń\, Bezczel\, Buczer\, Peja\, Chada i Kroolik Underwood. \nCharakterystyczną cechą wizerunku rapera była jest czarna maska\, budząca skojarzenia z Jasonem Voorheesem – bohaterem amerykańskiego horroru pt. Piątek\, trzynastego. W 2015 roku ukazał się kolejny album studyjny rapera zatytułowany „Tylko śmierć może mnie zatrzymać”. Wydawnictwo promowane teledyskami do utworów „Tylko śmierć może mnie zatrzymać”\, „Labirynt”\, „Nie wszystko stracone” i „Wybór” dotarło do 14. miejsca polskiej listy przebojów – OLiS. \nW 2017 roku\, światło dnia ujrzał 4-ty solowy album rapera – DEBIUT. \n  \nSupport: DEJW / Odwróceni\nWstęp na koncert +16 poniżej z opiekunem prawnym \nKaeN feat. Grizzlee – „Wybór”
URL:https://koncertywrzeszowie.pl/event/kaen-w-rzeszowie-klub-vinyl/
CATEGORIES:Klub Vinyl,Koncerty
ATTACH;FMTTYPE=image/jpeg:https://koncertywrzeszowie.pl/wp-content/uploads/2017/08/KeaN-vinyl_klub-koncert.jpg
END:VEVENT
END:VCALENDAR