BEGIN:VCALENDAR
VERSION:2.0
PRODID:-//Koncert Rzeszów. Zobacz kto zagra w Rzeszowie! - ECPv6.15.20//NONSGML v1.0//EN
CALSCALE:GREGORIAN
METHOD:PUBLISH
X-WR-CALNAME:Koncert Rzeszów. Zobacz kto zagra w Rzeszowie!
X-ORIGINAL-URL:https://koncertywrzeszowie.pl
X-WR-CALDESC:Wydarzenia dla Koncert Rzeszów. Zobacz kto zagra w Rzeszowie!
REFRESH-INTERVAL;VALUE=DURATION:PT1H
X-Robots-Tag:noindex
X-PUBLISHED-TTL:PT1H
BEGIN:VTIMEZONE
TZID:Europe/Warsaw
BEGIN:DAYLIGHT
TZOFFSETFROM:+0100
TZOFFSETTO:+0200
TZNAME:CEST
DTSTART:20210328T010000
END:DAYLIGHT
BEGIN:STANDARD
TZOFFSETFROM:+0200
TZOFFSETTO:+0100
TZNAME:CET
DTSTART:20211031T010000
END:STANDARD
BEGIN:DAYLIGHT
TZOFFSETFROM:+0100
TZOFFSETTO:+0200
TZNAME:CEST
DTSTART:20220327T010000
END:DAYLIGHT
BEGIN:STANDARD
TZOFFSETFROM:+0200
TZOFFSETTO:+0100
TZNAME:CET
DTSTART:20221030T010000
END:STANDARD
BEGIN:DAYLIGHT
TZOFFSETFROM:+0100
TZOFFSETTO:+0200
TZNAME:CEST
DTSTART:20230326T010000
END:DAYLIGHT
BEGIN:STANDARD
TZOFFSETFROM:+0200
TZOFFSETTO:+0100
TZNAME:CET
DTSTART:20231029T010000
END:STANDARD
END:VTIMEZONE
BEGIN:VEVENT
DTSTART;TZID=Europe/Warsaw:20220129T190000
DTEND;TZID=Europe/Warsaw:20220129T220000
DTSTAMP:20260419T185925
CREATED:20220107T095259Z
LAST-MODIFIED:20220107T095424Z
UID:8267-1643482800-1643493600@koncertywrzeszowie.pl
SUMMARY:JG Tango Project
DESCRIPTION:Zapraszamy na występ zespołu JG Tango Project. \nMuzycy wykonają tanga argentyńskie skomponowane przez Astora Piazzollę.\nJacek Gajdek – gitara\nMarek Murias – akordeon\nZdzisław Ziarkiewicz – kontrabas
URL:https://koncertywrzeszowie.pl/event/jg-tango-project/
LOCATION:Chilita – pizza e pasta\, ul. Rejtana 23\, Rzeszów\, 35-304\, PL
CATEGORIES:Chilita,Koncerty
ATTACH;FMTTYPE=image/jpeg:https://koncertywrzeszowie.pl/wp-content/uploads/2022/01/8267_image_270563739_6914060101967394_3093857795300925358_n.jpg
END:VEVENT
END:VCALENDAR