BEGIN:VCALENDAR
VERSION:2.0
PRODID:-//Koncert Rzeszów. Zobacz kto zagra w Rzeszowie! - ECPv6.15.20//NONSGML v1.0//EN
CALSCALE:GREGORIAN
METHOD:PUBLISH
X-WR-CALNAME:Koncert Rzeszów. Zobacz kto zagra w Rzeszowie!
X-ORIGINAL-URL:https://koncertywrzeszowie.pl
X-WR-CALDESC:Wydarzenia dla Koncert Rzeszów. Zobacz kto zagra w Rzeszowie!
REFRESH-INTERVAL;VALUE=DURATION:PT1H
X-Robots-Tag:noindex
X-PUBLISHED-TTL:PT1H
BEGIN:VTIMEZONE
TZID:Europe/Warsaw
BEGIN:DAYLIGHT
TZOFFSETFROM:+0100
TZOFFSETTO:+0200
TZNAME:CEST
DTSTART:20180325T010000
END:DAYLIGHT
BEGIN:STANDARD
TZOFFSETFROM:+0200
TZOFFSETTO:+0100
TZNAME:CET
DTSTART:20181028T010000
END:STANDARD
BEGIN:DAYLIGHT
TZOFFSETFROM:+0100
TZOFFSETTO:+0200
TZNAME:CEST
DTSTART:20190331T010000
END:DAYLIGHT
BEGIN:STANDARD
TZOFFSETFROM:+0200
TZOFFSETTO:+0100
TZNAME:CET
DTSTART:20191027T010000
END:STANDARD
BEGIN:DAYLIGHT
TZOFFSETFROM:+0100
TZOFFSETTO:+0200
TZNAME:CEST
DTSTART:20200329T010000
END:DAYLIGHT
BEGIN:STANDARD
TZOFFSETFROM:+0200
TZOFFSETTO:+0100
TZNAME:CET
DTSTART:20201025T010000
END:STANDARD
END:VTIMEZONE
BEGIN:VEVENT
DTSTART;TZID=Europe/Warsaw:20190323T200000
DTEND;TZID=Europe/Warsaw:20190323T230000
DTSTAMP:20260419T162503
CREATED:20190201T222646Z
LAST-MODIFIED:20190201T223613Z
UID:6018-1553371200-1553382000@koncertywrzeszowie.pl
SUMMARY:Jarząbek i Jurkiewicz grają Nohavicę
DESCRIPTION:  \nNiezła Sztuka zaprasza na Koncert: Jarząbek & Jurkiewicz grają Nohavicę\nNa koncertach Jarząbek-Jurkiewicz Adam i Jarek tworzą klimaty niepowtarzalne\, coś między Petersburgiem\, Cieszynem\, Ostrawą a Lublinem. Z jednakowym zaangażowaniem grają zarówno dla małej grupy przyjaciół\, jak i na dużej scenie. Na takie spotkania warto przyjść\, dać się porwać emocjom\, słuchać i śpiewać. Dlaczego? Bo-dokąd się śpiewa- jeszcze się żyje i trwa. \nW styczniu 2018 roku ukazała się druga płyta duetu Jarząbek-Jurkiewicz z interpretacjami piosenek Jaromira Nohavicy. Przedstawione wersje utworów nie są oczywiste\, wykonawcy nie próbują naśladować\, ich aranżacje są przemyślane\, energetyczne\, z „pazurem”. \nŚwiat widziany oczyma Jaromira jest łatwiejszy do przyjęcia\, teksty przypominają o sprawach ważnych i oczywistych\, a brawurowe wykonania przykuwają uwagę do ostatniego dźwięku.\nhttp://jarzabek-jurkiewicz.pl
URL:https://koncertywrzeszowie.pl/event/jarzabek-i-jurkiewicz-graja-nohavice/
LOCATION:Niezła Sztuka\, Sobieskiego 18\, Rzeszów\, podkarpackie\, Polska
CATEGORIES:Koncerty,Niezła Sztuka
ATTACH;FMTTYPE=image/jpeg:https://koncertywrzeszowie.pl/wp-content/uploads/2019/02/Jarzabek_i_Jurkiewicz_graja_Nohavice.jpg
END:VEVENT
END:VCALENDAR