BEGIN:VCALENDAR
VERSION:2.0
PRODID:-//Koncert Rzeszów. Zobacz kto zagra w Rzeszowie! - ECPv6.15.20//NONSGML v1.0//EN
CALSCALE:GREGORIAN
METHOD:PUBLISH
X-WR-CALNAME:Koncert Rzeszów. Zobacz kto zagra w Rzeszowie!
X-ORIGINAL-URL:https://koncertywrzeszowie.pl
X-WR-CALDESC:Wydarzenia dla Koncert Rzeszów. Zobacz kto zagra w Rzeszowie!
REFRESH-INTERVAL;VALUE=DURATION:PT1H
X-Robots-Tag:noindex
X-PUBLISHED-TTL:PT1H
BEGIN:VTIMEZONE
TZID:Europe/Paris
BEGIN:DAYLIGHT
TZOFFSETFROM:+0100
TZOFFSETTO:+0200
TZNAME:CEST
DTSTART:20220327T010000
END:DAYLIGHT
BEGIN:STANDARD
TZOFFSETFROM:+0200
TZOFFSETTO:+0100
TZNAME:CET
DTSTART:20221030T010000
END:STANDARD
BEGIN:DAYLIGHT
TZOFFSETFROM:+0100
TZOFFSETTO:+0200
TZNAME:CEST
DTSTART:20230326T010000
END:DAYLIGHT
BEGIN:STANDARD
TZOFFSETFROM:+0200
TZOFFSETTO:+0100
TZNAME:CET
DTSTART:20231029T010000
END:STANDARD
BEGIN:DAYLIGHT
TZOFFSETFROM:+0100
TZOFFSETTO:+0200
TZNAME:CEST
DTSTART:20240331T010000
END:DAYLIGHT
BEGIN:STANDARD
TZOFFSETFROM:+0200
TZOFFSETTO:+0100
TZNAME:CET
DTSTART:20241027T010000
END:STANDARD
END:VTIMEZONE
BEGIN:VEVENT
DTSTART;TZID=Europe/Paris:20230216T190000
DTEND;TZID=Europe/Paris:20230216T190000
DTSTAMP:20260424T204019
CREATED:20230209T190029Z
LAST-MODIFIED:20230209T190223Z
UID:9571-1676574000-1676574000@koncertywrzeszowie.pl
SUMMARY:JAH Trio z cyklu Czwartki Jazzowe - kontynuacja
DESCRIPTION:JAH Trio\nJAH to akustyczne trio jazzowe złożone z utalentowanych polskich muzyków młodego pokolenia. Trio w swojej twórczości stawia na nowoczesne brzmienie\, jednak nie porzuca przy tym jazzowej tradycji. Bardzo ważna dla nich jest śpiewność melodii\, różnorodność rytmiczna oraz rozbudowana harmonika. Wykorzystują elementy swingu\, groove’u oraz szeroko pojętej improwizacji. \nLaureaci konkursów ogólnopolskich oraz zagranicznych. Trio występowało na jednej scenie przed artystami\, takimi jak: Ewa Uryga & New York Collective\, Wojciechem Karolakiem\, Markiem Soskinem\, Stanisławem Soyką i innymi. W skład zespołu wchodzą muzycy z Warszawy i Trójmiasta. \nZespół w grudniu 2019 zarejestrował swój debiutancki album p.t. „Travelers„\, który ukazał się 28 maja 2021 roku nakładem wydawnictwa Soliton. \nZespół tworzą: lider Jan Jarecki – fortepian\, Michał Aftyka – kontrabas oraz Marcin Sojka – perkusja. \nBilety w cenie 30 zł dostępne w kasie WDK.
URL:https://koncertywrzeszowie.pl/event/jah-trio-z-cyklu-czwartki-jazzowe-kontynuacja/
LOCATION:Wojewódzki Dom Kultury w Rzeszowie\, ul. Stefana Okrzei 7\, Rzeszów\, 35-002\, PL
CATEGORIES:WDK Rzeszów
ATTACH;FMTTYPE=image/jpeg:https://koncertywrzeszowie.pl/wp-content/uploads/2023/02/9571_image_329598051_877120056825511_2785511623156676025_n.jpg
END:VEVENT
END:VCALENDAR